BEGIN:VCALENDAR
VERSION:2.0
PRODID:-//HasGeek//NONSGML Funnel//EN
DESCRIPTION:The practice of Content Management and Strategies around conte
 nt
X-WR-CALDESC:The practice of Content Management and Strategies around cont
 ent
NAME:Powered By CMS
X-WR-CALNAME:Powered By CMS
REFRESH-INTERVAL;VALUE=DURATION:PT12H
SUMMARY:Powered By CMS
TIMEZONE-ID:Asia/Kolkata
X-PUBLISHED-TTL:PT12H
X-WR-TIMEZONE:Asia/Kolkata
BEGIN:VEVENT
SUMMARY:Introductions
DTSTART:20180323T033000Z
DTEND:20180323T042500Z
DTSTAMP:20260421T123255Z
UID:session/WmnDaqTZ4zxtjQBtZi2ZXE@hasgeek.com
SEQUENCE:0
CREATED:20190708T151419Z
DESCRIPTION:\n
GEO:18.5394799;73.9061397567533
LAST-MODIFIED:20190708T151419Z
LOCATION:Auditorium - The Westin\, Pune\nIN
ORGANIZER;CN="Powered By CMS":MAILTO:no-reply@hasgeek.com
BEGIN:VALARM
ACTION:display
DESCRIPTION:Introductions in Auditorium in 5 minutes
TRIGGER:-PT5M
END:VALARM
END:VEVENT
END:VCALENDAR
