BEGIN:VCALENDAR
VERSION:2.0
PRODID:-//HasGeek//NONSGML Funnel//EN
DESCRIPTION:Learn functional programming concepts to build libraries and f
 rameworks with beautiful APIs.
X-WR-CALDESC:Learn functional programming concepts to build libraries and 
 frameworks with beautiful APIs.
NAME:Python Decorators Demystified
X-WR-CALNAME:Python Decorators Demystified
REFRESH-INTERVAL;VALUE=DURATION:PT12H
SUMMARY:Python Decorators Demystified
TIMEZONE-ID:Asia/Kolkata
X-PUBLISHED-TTL:PT12H
X-WR-TIMEZONE:Asia/Kolkata
BEGIN:VEVENT
SUMMARY:Session 1
DTSTART:20201121T090000Z
DTEND:20201121T095000Z
DTSTAMP:20260421T125346Z
UID:session/NoAjnZtvsiU35vGvp4kKZg@hasgeek.com
SEQUENCE:0
CREATED:20201116T052300Z
DESCRIPTION:\n
LAST-MODIFIED:20201116T052344Z
LOCATION:Online
ORGANIZER;CN="Pipal Academy":MAILTO:no-reply@hasgeek.com
BEGIN:VALARM
ACTION:display
DESCRIPTION:Session 1 in 5 minutes
TRIGGER:-PT5M
END:VALARM
END:VEVENT
BEGIN:VEVENT
SUMMARY:Break
DTSTART:20201121T095000Z
DTEND:20201121T100000Z
DTSTAMP:20260421T125346Z
UID:session/2FbkqEyysoQ2xqq3Wzawg3@hasgeek.com
SEQUENCE:0
CREATED:20201116T052502Z
DESCRIPTION:\n
LAST-MODIFIED:20201116T052505Z
LOCATION:Online
ORGANIZER;CN="Pipal Academy":MAILTO:no-reply@hasgeek.com
BEGIN:VALARM
ACTION:display
DESCRIPTION:Break in 5 minutes
TRIGGER:-PT5M
END:VALARM
END:VEVENT
BEGIN:VEVENT
SUMMARY:Session 2
DTSTART:20201121T100000Z
DTEND:20201121T105000Z
DTSTAMP:20260421T125346Z
UID:session/Fsnpqvz8jscggw5hKjXhoi@hasgeek.com
SEQUENCE:0
CREATED:20201116T052335Z
DESCRIPTION:\n
LAST-MODIFIED:20201116T052413Z
LOCATION:Online
ORGANIZER;CN="Pipal Academy":MAILTO:no-reply@hasgeek.com
BEGIN:VALARM
ACTION:display
DESCRIPTION:Session 2 in 5 minutes
TRIGGER:-PT5M
END:VALARM
END:VEVENT
BEGIN:VEVENT
SUMMARY:Break
DTSTART:20201121T105000Z
DTEND:20201121T110000Z
DTSTAMP:20260421T125346Z
UID:session/GE36CrLJQ3kuQG3x8kqhpM@hasgeek.com
SEQUENCE:0
CREATED:20201116T052514Z
DESCRIPTION:\n
LAST-MODIFIED:20201116T052516Z
LOCATION:Online
ORGANIZER;CN="Pipal Academy":MAILTO:no-reply@hasgeek.com
BEGIN:VALARM
ACTION:display
DESCRIPTION:Break in 5 minutes
TRIGGER:-PT5M
END:VALARM
END:VEVENT
BEGIN:VEVENT
SUMMARY:Session 3
DTSTART:20201121T110000Z
DTEND:20201121T115000Z
DTSTAMP:20260421T125346Z
UID:session/WM6cpnxDkqdkGVQnwmuFTh@hasgeek.com
SEQUENCE:0
CREATED:20201116T052407Z
DESCRIPTION:\n
LAST-MODIFIED:20201116T052421Z
LOCATION:Online
ORGANIZER;CN="Pipal Academy":MAILTO:no-reply@hasgeek.com
BEGIN:VALARM
ACTION:display
DESCRIPTION:Session 3 in 5 minutes
TRIGGER:-PT5M
END:VALARM
END:VEVENT
BEGIN:VEVENT
SUMMARY:Break
DTSTART:20201121T115000Z
DTEND:20201121T120000Z
DTSTAMP:20260421T125346Z
UID:session/2JRWsJpzmT8YVHeyciSaon@hasgeek.com
SEQUENCE:0
CREATED:20201116T052523Z
DESCRIPTION:\n
LAST-MODIFIED:20201116T052526Z
LOCATION:Online
ORGANIZER;CN="Pipal Academy":MAILTO:no-reply@hasgeek.com
BEGIN:VALARM
ACTION:display
DESCRIPTION:Break in 5 minutes
TRIGGER:-PT5M
END:VALARM
END:VEVENT
BEGIN:VEVENT
SUMMARY:Session 4
DTSTART:20201121T120000Z
DTEND:20201121T130000Z
DTSTAMP:20260421T125346Z
UID:session/BN8F2AhugCfhu6v2JQ3fm@hasgeek.com
SEQUENCE:0
CREATED:20201116T052438Z
DESCRIPTION:\n
LAST-MODIFIED:20201116T052448Z
LOCATION:Online
ORGANIZER;CN="Pipal Academy":MAILTO:no-reply@hasgeek.com
BEGIN:VALARM
ACTION:display
DESCRIPTION:Session 4 in 5 minutes
TRIGGER:-PT5M
END:VALARM
END:VEVENT
BEGIN:VEVENT
SUMMARY:Session 5
DTSTART:20201122T090000Z
DTEND:20201122T095000Z
DTSTAMP:20260421T125346Z
UID:session/LA2CLeDiumZQNjHK2VVRKT@hasgeek.com
SEQUENCE:0
CREATED:20201116T052536Z
DESCRIPTION:\n
LAST-MODIFIED:20201116T052538Z
LOCATION:Online
ORGANIZER;CN="Pipal Academy":MAILTO:no-reply@hasgeek.com
BEGIN:VALARM
ACTION:display
DESCRIPTION:Session 5 in 5 minutes
TRIGGER:-PT5M
END:VALARM
END:VEVENT
BEGIN:VEVENT
SUMMARY:Break
DTSTART:20201122T095000Z
DTEND:20201122T100000Z
DTSTAMP:20260421T125346Z
UID:session/Cv8VnPafUG8hcYNSvPPdMv@hasgeek.com
SEQUENCE:0
CREATED:20201116T052546Z
DESCRIPTION:\n
LAST-MODIFIED:20201116T052549Z
LOCATION:Online
ORGANIZER;CN="Pipal Academy":MAILTO:no-reply@hasgeek.com
BEGIN:VALARM
ACTION:display
DESCRIPTION:Break in 5 minutes
TRIGGER:-PT5M
END:VALARM
END:VEVENT
BEGIN:VEVENT
SUMMARY:Session 6
DTSTART:20201122T100000Z
DTEND:20201122T105000Z
DTSTAMP:20260421T125346Z
UID:session/Uf6W32RaEyaZPC1DGCMEcL@hasgeek.com
SEQUENCE:0
CREATED:20201116T052556Z
DESCRIPTION:\n
LAST-MODIFIED:20201116T052559Z
LOCATION:Online
ORGANIZER;CN="Pipal Academy":MAILTO:no-reply@hasgeek.com
BEGIN:VALARM
ACTION:display
DESCRIPTION:Session 6 in 5 minutes
TRIGGER:-PT5M
END:VALARM
END:VEVENT
BEGIN:VEVENT
SUMMARY:Break
DTSTART:20201122T105000Z
DTEND:20201122T110000Z
DTSTAMP:20260421T125346Z
UID:session/GdR55UHxUUJjaYdXwVF6br@hasgeek.com
SEQUENCE:0
CREATED:20201116T052604Z
DESCRIPTION:\n
LAST-MODIFIED:20201116T052607Z
LOCATION:Online
ORGANIZER;CN="Pipal Academy":MAILTO:no-reply@hasgeek.com
BEGIN:VALARM
ACTION:display
DESCRIPTION:Break in 5 minutes
TRIGGER:-PT5M
END:VALARM
END:VEVENT
BEGIN:VEVENT
SUMMARY:Session 7
DTSTART:20201122T110000Z
DTEND:20201122T115000Z
DTSTAMP:20260421T125346Z
UID:session/DFPQRRUHdfVG48XNhidKyn@hasgeek.com
SEQUENCE:0
CREATED:20201116T052613Z
DESCRIPTION:\n
LAST-MODIFIED:20201116T052615Z
LOCATION:Online
ORGANIZER;CN="Pipal Academy":MAILTO:no-reply@hasgeek.com
BEGIN:VALARM
ACTION:display
DESCRIPTION:Session 7 in 5 minutes
TRIGGER:-PT5M
END:VALARM
END:VEVENT
BEGIN:VEVENT
SUMMARY:Break
DTSTART:20201122T115000Z
DTEND:20201122T120000Z
DTSTAMP:20260421T125346Z
UID:session/KcbNkUEjaqiPQAeHjyCVpZ@hasgeek.com
SEQUENCE:0
CREATED:20201116T052621Z
DESCRIPTION:\n
LAST-MODIFIED:20201116T052623Z
LOCATION:Online
ORGANIZER;CN="Pipal Academy":MAILTO:no-reply@hasgeek.com
BEGIN:VALARM
ACTION:display
DESCRIPTION:Break in 5 minutes
TRIGGER:-PT5M
END:VALARM
END:VEVENT
BEGIN:VEVENT
SUMMARY:Session 8
DTSTART:20201122T120000Z
DTEND:20201122T130000Z
DTSTAMP:20260421T125346Z
UID:session/XSN4DFh2FMF1yk2WmLeja@hasgeek.com
SEQUENCE:0
CREATED:20201116T052629Z
DESCRIPTION:\n
LAST-MODIFIED:20201116T052635Z
LOCATION:Online
ORGANIZER;CN="Pipal Academy":MAILTO:no-reply@hasgeek.com
BEGIN:VALARM
ACTION:display
DESCRIPTION:Session 8 in 5 minutes
TRIGGER:-PT5M
END:VALARM
END:VEVENT
END:VCALENDAR
