BEGIN:VCALENDAR
VERSION:2.0
PRODID:-//HasGeek//NONSGML Funnel//EN
DESCRIPTION:lorem
X-WR-CALDESC:lorem
NAME:Testfolds2
X-WR-CALNAME:Testfolds2
REFRESH-INTERVAL;VALUE=DURATION:PT12H
SUMMARY:Testfolds2
TIMEZONE-ID:Pacific/Honolulu
X-PUBLISHED-TTL:PT12H
X-WR-TIMEZONE:Pacific/Honolulu
BEGIN:VEVENT
SUMMARY:gfghjf
DTSTART:20231213T192000Z
DTEND:20231213T193500Z
DTSTAMP:20260419T171536Z
UID:session/6enDjhvxWZ1RNhi2vTj2qu@hasgeek.com
SEQUENCE:0
CREATED:20231212T122719Z
LAST-MODIFIED:20231212T122719Z
LOCATION:Online
ORGANIZER;CN=PaperJockey:MAILTO:no-reply@hasgeek.com
BEGIN:VALARM
ACTION:display
DESCRIPTION:gfghjf in 5 minutes
TRIGGER:-PT5M
END:VALARM
END:VEVENT
END:VCALENDAR
