BEGIN:VCALENDAR
VERSION:2.0
PRODID:-//HasGeek//NONSGML Funnel//EN
DESCRIPTION:lorem
X-WR-CALDESC:lorem
NAME:TestFolds
X-WR-CALNAME:TestFolds
REFRESH-INTERVAL;VALUE=DURATION:PT12H
SUMMARY:TestFolds
TIMEZONE-ID:Asia/Kolkata
X-PUBLISHED-TTL:PT12H
X-WR-TIMEZONE:Asia/Kolkata
BEGIN:VEVENT
SUMMARY:Test session 2
DTSTART:20230819T034000Z
DTEND:20230819T041500Z
DTSTAMP:20260419T171536Z
UID:session/Twi8pa87SC1DJFJ9bk5cgz@hasgeek.com
SEQUENCE:2
CREATED:20230816T092857Z
LAST-MODIFIED:20230816T092901Z
LOCATION:Zoom - "Online"\nIN
ORGANIZER;CN=PaperJockey:MAILTO:no-reply@hasgeek.com
BEGIN:VALARM
ACTION:display
DESCRIPTION:Test session 2 in Zoom in 5 minutes
TRIGGER:-PT5M
END:VALARM
END:VEVENT
BEGIN:VEVENT
SUMMARY:Test
DTSTART:20230821T034000Z
DTEND:20230821T041500Z
DTSTAMP:20260419T171536Z
UID:session/QWzVpYC2Nqr7qUyGkFAe9@hasgeek.com
SEQUENCE:3
CREATED:20230816T103623Z
LAST-MODIFIED:20230816T103632Z
LOCATION:Mumbai & Online
ORGANIZER;CN=PaperJockey:MAILTO:no-reply@hasgeek.com
BEGIN:VALARM
ACTION:display
DESCRIPTION:Test in 5 minutes
TRIGGER:-PT5M
END:VALARM
END:VEVENT
END:VCALENDAR
