BEGIN:VCALENDAR
VERSION:2.0
PRODID:-//HasGeek//NONSGML Funnel//EN
DESCRIPTION:Basics of doodling with folds
X-WR-CALDESC:Basics of doodling with folds
NAME:Origami doodling
X-WR-CALNAME:Origami doodling
REFRESH-INTERVAL;VALUE=DURATION:PT12H
SUMMARY:Origami doodling
TIMEZONE-ID:Asia/Kolkata
X-PUBLISHED-TTL:PT12H
X-WR-TIMEZONE:Asia/Kolkata
BEGIN:VEVENT
SUMMARY:Origami doodling
DTSTART:20200910T040000Z
DTEND:20200910T040500Z
DTSTAMP:20260419T170650Z
UID:session/QkD3AER1NTVDMpV1buzd2N@hasgeek.com
SEQUENCE:2
CREATED:20200722T152851Z
DESCRIPTION:Learn the basics of origami doodling\n\n### Speaker bio\n\npap
 er.ism\n
LAST-MODIFIED:20230810T072606Z
LOCATION:Online
ORGANIZER;CN=PaperJockey:MAILTO:no-reply@hasgeek.com
BEGIN:VALARM
ACTION:display
DESCRIPTION:Origami doodling in 5 minutes
TRIGGER:-PT5M
END:VALARM
END:VEVENT
END:VCALENDAR
