BEGIN:VCALENDAR
VERSION:2.0
PRODID:-//HasGeek//NONSGML Funnel//EN
DESCRIPTION:Examining the approaches towards enabling remote voting in Ind
 ian elections
X-WR-CALDESC:Examining the approaches towards enabling remote voting in In
 dian elections
NAME:Remote Voting in Indian Elections
X-WR-CALNAME:Remote Voting in Indian Elections
REFRESH-INTERVAL;VALUE=DURATION:PT12H
SUMMARY:Remote Voting in Indian Elections
TIMEZONE-ID:Asia/Kolkata
X-PUBLISHED-TTL:PT12H
X-WR-TIMEZONE:Asia/Kolkata
BEGIN:VEVENT
SUMMARY:Twitter Spaces discussion
DTSTART:20230106T133000Z
DTEND:20230106T143000Z
DTSTAMP:20260421T132432Z
UID:session/25SNF4LrXCEL6cLW9PmEF2@hasgeek.com
SEQUENCE:2
CREATED:20230103T060056Z
DESCRIPTION:The Spaces session will be hosted on [Hasgeek's Twitter accoun
 t](https://twitter.com/hasgeek) or join the Spaces via https://twitter.com
 /i/spaces/1MYxNgzamLZKw
LAST-MODIFIED:20230105T102721Z
LOCATION:Online
ORGANIZER;CN="One Vote":MAILTO:no-reply@hasgeek.com
BEGIN:VALARM
ACTION:display
DESCRIPTION:Twitter Spaces discussion in 5 minutes
TRIGGER:-PT5M
END:VALARM
END:VEVENT
BEGIN:VEVENT
SUMMARY:One nation\, one election - unpacking the ECI's legal and technica
 l construct
DTSTART:20230116T120000Z
DTEND:20230116T130500Z
DTSTAMP:20260421T132432Z
UID:session/JtzZVa4YNLnDWLnY7vbgNE@hasgeek.com
SEQUENCE:6
CREATED:20230113T111401Z
DESCRIPTION:The Election Commission of India is making several structural 
 changes to election procedures with several experiments\, pilots and amend
 ments to laws like Aadhaar Voter ID linking\, Online Voting Experiments\, 
 Remote Voting for Migrants. The new draft Bill for Amendments to Registrat
 ion of Births and Deaths Act 1969 from Ministry of Home Affairs\, suggests
  sharing all the National Population Registry to Election Commission of In
 dia. These procedures and changes will impact elections in India and democ
 racy at large. Some of these experiments have already resulted in disenfra
 nchisement\, like in Telangana where Aadhaar Voter ID linking has resulted
  in mass deletion of voters.\n\nThere are several imaginations like One Na
 tion One Election that are being proposed\, Remote Voting for migrants is 
 also a new construct that has to be looked into legally\, technically on h
 ow to implement it. This discussion will focus on the origins of technolog
 y induced experimentation by Election Commission of India.\n\nZoom link: h
 ttps://us06web.zoom.us/j/81840174725?pwd=MVlwUTRLM3oxUEQwNXlmR04yWHhrQT09
LAST-MODIFIED:20230115T185040Z
LOCATION:Meeting room - P S Chambers\nDelhi\nIN
ORGANIZER;CN="One Vote":MAILTO:no-reply@hasgeek.com
BEGIN:VALARM
ACTION:display
DESCRIPTION:One nation\, one election - unpacking the ECI's legal and tech
 nical construct in Meeting room in 5 minutes
TRIGGER:-PT5M
END:VALARM
END:VEVENT
END:VCALENDAR
