BEGIN:VCALENDAR
VERSION:2.0
PRODID:-//HasGeek//NONSGML Funnel//EN
DESCRIPTION:A webinar series discussing the media coverage of elections
X-WR-CALDESC:A webinar series discussing the media coverage of elections
NAME:Elections 2022: Fight for Democracy
X-WR-CALNAME:Elections 2022: Fight for Democracy
REFRESH-INTERVAL;VALUE=DURATION:PT12H
SUMMARY:Elections 2022: Fight for Democracy
TIMEZONE-ID:Asia/Kolkata
X-PUBLISHED-TTL:PT12H
X-WR-TIMEZONE:Asia/Kolkata
BEGIN:VEVENT
SUMMARY:Elections 2022: Fight for Democracy - Criminality and Elections
DTSTART:20220203T103000Z
DTEND:20220203T113000Z
DTSTAMP:20260421T132551Z
UID:session/RGGhWeWuWksXKxtwBRiqBh@hasgeek.com
SEQUENCE:4
CREATED:20220128T180430Z
DESCRIPTION:The relationship between crime and politics has a long traditi
 on in India. And this interweaving of criminality becomes critical when an
 alysing elections. Can free and fair democratic elections be held alongsid
 e this growing criminality? Candidates with a history sheet are actively c
 ourted by political parties\; muscle men or 'bahubalis' operate to sway th
 e choices of the electorate. \n\nThe panel discusses this nexus of money\,
  muscle and politics to demonstrate an alarming trend that has long term i
 mpact on the future of the world's largest democracy
LAST-MODIFIED:20230108T103046Z
LOCATION:Online
ORGANIZER;CN="One Vote":MAILTO:no-reply@hasgeek.com
BEGIN:VALARM
ACTION:display
DESCRIPTION:Elections 2022: Fight for Democracy - Criminality and Election
 s in 5 minutes
TRIGGER:-PT5M
END:VALARM
END:VEVENT
BEGIN:VEVENT
SUMMARY:Elections 2022: Fight for Democracy - Data and Elections
DTSTART:20220208T103000Z
DTEND:20220208T113000Z
DTSTAMP:20260421T132551Z
UID:session/BucispZKZGpQYeCPJy8z2f@hasgeek.com
SEQUENCE:6
CREATED:20220128T181520Z
DESCRIPTION:Indian elections are where weaponisation of data takes interes
 ting turns. The ease with which digital tools and data analysis ingest mas
 sive blocks of correlated data to create fine grained tactical plans often
  put democratic contests in peril. This is one side of the data platform p
 roblem. The other side is how to source\, process and report based on auth
 entic data sources - a challenge that newsrooms are finding to be a very c
 ontested space. There is a third angle to this - the alternative realities
  and narratives created by data - deliberately manipulated\, sometimes for
 ged and often packaged into incendiary formats.\n\nThe panel will be explo
 ring these aspects in context of India's elections - both in the past and 
 the present.
LAST-MODIFIED:20230108T103046Z
LOCATION:Online
ORGANIZER;CN="One Vote":MAILTO:no-reply@hasgeek.com
BEGIN:VALARM
ACTION:display
DESCRIPTION:Elections 2022: Fight for Democracy - Data and Elections in 5 
 minutes
TRIGGER:-PT5M
END:VALARM
END:VEVENT
BEGIN:VEVENT
SUMMARY:Election 2022: Fight for Democracy - Electoral Bonds
DTSTART:20220224T123000Z
DTEND:20220224T133000Z
DTSTAMP:20260421T132551Z
UID:session/SsC7YpfvyVLV2zbznb8f1E@hasgeek.com
SEQUENCE:3
CREATED:20220219T183833Z
DESCRIPTION:Publicly available documents obtained through RTI activism rev
 eal the extent of misrepresentation around the topic of Electoral Bonds. T
 he Parliament\, the Election Commission and the citizens of India were not
  provided with the correct\, contextual and complete information - includi
 ng the fact that the India's Central Bank - the RBI had serious objections
  to this controversial scheme. As it happens one hand the then Finance Min
 ister said in his budget speech that this was all about "transparency in e
 lectoral funding" while at a media interaction explained that the bonds ar
 e designed "to keep the donor anonymous".\n\nThe panelists discuss the tox
 ic effect of this scheme and how it impacts democratic contests.
LAST-MODIFIED:20230108T103046Z
LOCATION:Online
ORGANIZER;CN="One Vote":MAILTO:no-reply@hasgeek.com
BEGIN:VALARM
ACTION:display
DESCRIPTION:Election 2022: Fight for Democracy - Electoral Bonds in 5 minu
 tes
TRIGGER:-PT5M
END:VALARM
END:VEVENT
END:VCALENDAR
