BEGIN:VCALENDAR
VERSION:2.0
PRODID:-//HasGeek//NONSGML Funnel//EN
DESCRIPTION:A conference on technological interventions in elections
X-WR-CALDESC:A conference on technological interventions in elections
NAME:One Vote Annual Conference
X-WR-CALNAME:One Vote Annual Conference
REFRESH-INTERVAL;VALUE=DURATION:PT12H
SUMMARY:One Vote Annual Conference
TIMEZONE-ID:Asia/Kolkata
X-PUBLISHED-TTL:PT12H
X-WR-TIMEZONE:Asia/Kolkata
BEGIN:VEVENT
SUMMARY:Introduction - technological concerns with electronic voting.
DTSTART:20211210T093000Z
DTEND:20211210T094000Z
DTSTAMP:20260419T171623Z
UID:session/CMaUdTV1zUoCV3qHPxNcsr@hasgeek.com
SEQUENCE:1
CREATED:20211027T104916Z
LAST-MODIFIED:20220122T125943Z
LOCATION:Main conference - Online\nIN
ORGANIZER;CN="One Vote":MAILTO:no-reply@hasgeek.com
BEGIN:VALARM
ACTION:display
DESCRIPTION:Introduction - technological concerns with electronic voting. 
 in Main conference in 5 minutes
TRIGGER:-PT5M
END:VALARM
END:VEVENT
BEGIN:VEVENT
SUMMARY:How data transforms elections
DTSTART:20211210T094000Z
DTEND:20211210T101500Z
DTSTAMP:20260419T171623Z
UID:session/F14ZXrzQhDXHtGwb4ctvUu@hasgeek.com
SEQUENCE:1
CATEGORIES:30 minutes
CREATED:20211207T095022Z
DESCRIPTION:We've all heard the phrase "data is the new oil". There are fe
 w fields where this is as true as it is in politics. New age campaign meth
 ods use voting data extensively to build campaigns and shape the thoughts 
 of voters. This in itself isn't bad\, but it becomes so when the data is s
 o granular that it allows for micro-targeting of voters along caste and co
 mmunity lines\, and when it can be used to systematically disenfranchise v
 oters who are statistically unlikely to vote for a particular political pa
 rty. This talk will explain some of the ways in which political parties us
 e data in their campaigns\, and how that would manifest in a world of elec
 tronic voting and blockcahins in elections.\n\nBio: \n\nShivam Shankar Sin
 gh is a data analyst\, campaign consultant and author of the bestsellers\,
  How to Win an Indian Election (Penguin\, 2019) and The Art of Conjuring A
 lternate Realities (HarperCollins\, 2021). He started out in politics as a
  Legislative Assistant to a Member of Parliament (LAMP) Fellow and went on
  to witness the process of conjuring political realities while managing da
 ta analytics for some of India’s largest political parties.\n\nHe is a p
 anelist on national television and writes for several news publications on
  data and politics. He graduated from the University of Michigan – Ann A
 rbor with a Bachelor of Science in Economics and is a 2021-22 Schwarzman S
 cholar.
LAST-MODIFIED:20230108T103046Z
LOCATION:Online
ORGANIZER;CN="One Vote":MAILTO:no-reply@hasgeek.com
URL:https://hasgeek.com/onevote/annual-conference/schedule/how-data-transf
 orms-elections-F14ZXrzQhDXHtGwb4ctvUu
BEGIN:VALARM
ACTION:display
DESCRIPTION:How data transforms elections in 5 minutes
TRIGGER:-PT5M
END:VALARM
END:VEVENT
BEGIN:VEVENT
SUMMARY:Designing electronic voting systems - some considerations
DTSTART:20211210T101500Z
DTEND:20211210T110000Z
DTSTAMP:20260419T171623Z
UID:session/Ad91AhkKZuJxBbMTAiRCbz@hasgeek.com
SEQUENCE:1
CATEGORIES:30 minutes
CREATED:20211207T095121Z
DESCRIPTION:Electronic voting is increasingly getting traction in many cou
 ntries worldwide. Evidently\, designing and implementing electronic voting
 \nsystems is not a straightforward exercise. This talk will touch upon the
  key invariants that one must bear in mind while crafting reliable and sec
 ure electronic voting systems. I will also discuss some fundamental techno
 logical issues surrounding remote electronic voting\nover the internet and
  whether or not it is desirable. Finally\, I will present the importance o
 f electoral rolls and a technological solution\nto preserve their integrit
 y.
LAST-MODIFIED:20230108T103046Z
LOCATION:Online
ORGANIZER;CN="One Vote":MAILTO:no-reply@hasgeek.com
URL:https://hasgeek.com/onevote/annual-conference/schedule/designing-elect
 ronic-voting-systems-Ad91AhkKZuJxBbMTAiRCbz
BEGIN:VALARM
ACTION:display
DESCRIPTION:Designing electronic voting systems - some considerations in 5
  minutes
TRIGGER:-PT5M
END:VALARM
END:VEVENT
BEGIN:VEVENT
SUMMARY:Break
DTSTART:20211210T110000Z
DTEND:20211210T111000Z
DTSTAMP:20260419T171623Z
UID:session/4LFD8gVriyV2PXHE2ZWyKR@hasgeek.com
SEQUENCE:0
CREATED:20211202T083022Z
LAST-MODIFIED:20211204T150712Z
LOCATION:Online
ORGANIZER;CN="One Vote":MAILTO:no-reply@hasgeek.com
BEGIN:VALARM
ACTION:display
DESCRIPTION:Break in 5 minutes
TRIGGER:-PT5M
END:VALARM
END:VEVENT
BEGIN:VEVENT
SUMMARY:Citizens' Commission on Elections (CCE) report and analysis of vot
 ing systems in India
DTSTART:20211210T111000Z
DTEND:20211210T115500Z
DTSTAMP:20260419T171623Z
UID:session/TS8WGsxrKT1D3w19PL6t7f@hasgeek.com
SEQUENCE:1
CATEGORIES:30 minutes
CREATED:20211209T113755Z
DESCRIPTION:\nThe Citizens’ Commission on Elections (CCE) was set up in 
 March 2020 to critically analyse India’s electoral processes in accordan
 ce with democracy principles. We present here an analysis of the Electroni
 c Voting Machine (EVM) and the Voter Verified Paper Audit Trail (VVPAT) sy
 stem\, based on the first volume of the Commission’s report [Lokur et al
 .\, 2021]. The main recommendations of the report are a) modify the curren
 t design of the VVPAT system to make it truly ‘voter verified’ and b) 
 move away from certification of election equipment to end-to-end verifiabi
 lity of the election outcome\, which requires a well-defined audit process
  of manual counting of a statistically significant sample of the VVPAT sli
 ps.
LAST-MODIFIED:20230108T103046Z
LOCATION:Online
ORGANIZER;CN="One Vote":MAILTO:no-reply@hasgeek.com
URL:https://hasgeek.com/onevote/annual-conference/schedule/citizens-commis
 sion-on-elections-cce-report-and-analysis-of-voting-systems-in-india-TS8WG
 sxrKT1D3w19PL6t7f
BEGIN:VALARM
ACTION:display
DESCRIPTION:Citizens' Commission on Elections (CCE) report and analysis of
  voting systems in India in 5 minutes
TRIGGER:-PT5M
END:VALARM
END:VEVENT
BEGIN:VEVENT
SUMMARY:Break
DTSTART:20211210T115500Z
DTEND:20211210T120500Z
DTSTAMP:20260419T171623Z
UID:session/9xnJHb62niRZhyUmemKKMp@hasgeek.com
SEQUENCE:0
CREATED:20211202T083906Z
LAST-MODIFIED:20211206T161151Z
LOCATION:Online
ORGANIZER;CN="One Vote":MAILTO:no-reply@hasgeek.com
BEGIN:VALARM
ACTION:display
DESCRIPTION:Break in 5 minutes
TRIGGER:-PT5M
END:VALARM
END:VEVENT
BEGIN:VEVENT
SUMMARY:How a state examines technology
DTSTART:20211210T120500Z
DTEND:20211210T125000Z
DTSTAMP:20260419T171623Z
UID:session/6E4VsnqHmwNRbfc35FDyk1@hasgeek.com
SEQUENCE:0
CREATED:20211202T083956Z
LAST-MODIFIED:20211215T063951Z
LOCATION:Online
ORGANIZER;CN="One Vote":MAILTO:no-reply@hasgeek.com
BEGIN:VALARM
ACTION:display
DESCRIPTION:How a state examines technology in 5 minutes
TRIGGER:-PT5M
END:VALARM
END:VEVENT
BEGIN:VEVENT
SUMMARY:Summary\; way forward
DTSTART:20211210T125000Z
DTEND:20211210T130000Z
DTSTAMP:20260419T171623Z
UID:session/QFW1smikTCyTpjukVEReR9@hasgeek.com
SEQUENCE:0
CREATED:20211202T084012Z
LAST-MODIFIED:20211207T095213Z
LOCATION:Online
ORGANIZER;CN="One Vote":MAILTO:no-reply@hasgeek.com
BEGIN:VALARM
ACTION:display
DESCRIPTION:Summary\; way forward in 5 minutes
TRIGGER:-PT5M
END:VALARM
END:VEVENT
BEGIN:VEVENT
SUMMARY:Introduction to the One Vote Conference on Rights and Access in El
 ections
DTSTART:20220125T093000Z
DTEND:20220125T094000Z
DTSTAMP:20260419T171623Z
UID:session/3xJswA4tgxPicaFUey2kmv@hasgeek.com
SEQUENCE:4
CREATED:20211028T110131Z
LAST-MODIFIED:20220122T125642Z
LOCATION:Main conference - Online\nIN
ORGANIZER;CN="One Vote":MAILTO:no-reply@hasgeek.com
BEGIN:VALARM
ACTION:display
DESCRIPTION:Introduction to the One Vote Conference on Rights and Access i
 n Elections in Main conference in 5 minutes
TRIGGER:-PT5M
END:VALARM
END:VEVENT
BEGIN:VEVENT
SUMMARY:Introduction to the conference flow
DTSTART:20220125T094000Z
DTEND:20220125T094500Z
DTSTAMP:20260419T171623Z
UID:session/QLiT89dPHQkdrAB8a5Jm4J@hasgeek.com
SEQUENCE:6
CREATED:20211215T090943Z
LAST-MODIFIED:20220122T125654Z
LOCATION:Main conference - Online\nIN
ORGANIZER;CN="One Vote":MAILTO:no-reply@hasgeek.com
BEGIN:VALARM
ACTION:display
DESCRIPTION:Introduction to the conference flow in Main conference in 5 mi
 nutes
TRIGGER:-PT5M
END:VALARM
END:VEVENT
BEGIN:VEVENT
SUMMARY:Databasing Voters and Concerns on Privacy of Voters.
DTSTART:20220125T094500Z
DTEND:20220125T101500Z
DTSTAMP:20260419T171623Z
UID:session/8YuLhbaMddn1WSrEovRmwM@hasgeek.com
SEQUENCE:4
CREATED:20211215T091319Z
LAST-MODIFIED:20220202T183712Z
LOCATION:Main conference - Online\nIN
ORGANIZER;CN="One Vote":MAILTO:no-reply@hasgeek.com
BEGIN:VALARM
ACTION:display
DESCRIPTION:Databasing Voters and Concerns on Privacy of Voters. in Main c
 onference in 5 minutes
TRIGGER:-PT5M
END:VALARM
END:VEVENT
BEGIN:VEVENT
SUMMARY:How to Fix an Indian Election
DTSTART:20220125T101500Z
DTEND:20220125T104500Z
DTSTAMP:20260419T171623Z
UID:session/QJZNotzKpzWrLEEwkxWAzH@hasgeek.com
SEQUENCE:9
CREATED:20211215T092053Z
LAST-MODIFIED:20220202T183642Z
LOCATION:Main conference - Online\nIN
ORGANIZER;CN="One Vote":MAILTO:no-reply@hasgeek.com
BEGIN:VALARM
ACTION:display
DESCRIPTION:How to Fix an Indian Election in Main conference in 5 minutes
TRIGGER:-PT5M
END:VALARM
END:VEVENT
BEGIN:VEVENT
SUMMARY:Examining the Relevance of Political Advertising Transparency
DTSTART:20220125T104500Z
DTEND:20220125T111500Z
DTSTAMP:20260419T171623Z
UID:session/KQ96mAX3Xn9PkqwuYBgVWy@hasgeek.com
SEQUENCE:5
CREATED:20220110T094528Z
LAST-MODIFIED:20220202T183616Z
LOCATION:Main conference - Online\nIN
ORGANIZER;CN="One Vote":MAILTO:no-reply@hasgeek.com
BEGIN:VALARM
ACTION:display
DESCRIPTION:Examining the Relevance of Political Advertising Transparency 
 in Main conference in 5 minutes
TRIGGER:-PT5M
END:VALARM
END:VEVENT
BEGIN:VEVENT
SUMMARY:The Limitations of the Model Code of Conduct in Regulating Digital
  Campaigning
DTSTART:20220125T111500Z
DTEND:20220125T114500Z
DTSTAMP:20260419T171623Z
UID:session/Bi8RpSGXghjMwsSGgHY33g@hasgeek.com
SEQUENCE:2
CREATED:20220110T095551Z
LAST-MODIFIED:20220122T125740Z
LOCATION:Main conference - Online\nIN
ORGANIZER;CN="One Vote":MAILTO:no-reply@hasgeek.com
BEGIN:VALARM
ACTION:display
DESCRIPTION:The Limitations of the Model Code of Conduct in Regulating Dig
 ital Campaigning in Main conference in 5 minutes
TRIGGER:-PT5M
END:VALARM
END:VEVENT
BEGIN:VEVENT
SUMMARY:Break
DTSTART:20220125T114500Z
DTEND:20220125T120000Z
DTSTAMP:20260419T171623Z
UID:session/5fQXbfwaDLAxT5LDzFK3cM@hasgeek.com
SEQUENCE:2
CREATED:20220110T100031Z
LAST-MODIFIED:20220121T074032Z
LOCATION:Online
ORGANIZER;CN="One Vote":MAILTO:no-reply@hasgeek.com
BEGIN:VALARM
ACTION:display
DESCRIPTION:Break in 5 minutes
TRIGGER:-PT5M
END:VALARM
END:VEVENT
BEGIN:VEVENT
SUMMARY:Breakout session: Resisting Aadhaar and Voter ID linking - what yo
 u can do
DTSTART:20220125T114500Z
DTEND:20220125T123000Z
DTSTAMP:20260419T171623Z
UID:session/PR16fF1Q4xmHznAm6XNW9b@hasgeek.com
SEQUENCE:5
CATEGORIES:Birds of Feather (BOF) session - 60 minutes
CREATED:20220122T082838Z
DESCRIPTION:The Indian Parliament passed The Election Laws (Amendment) Bil
 l\, 2021 that allows for Voter ID-Aadhaar linkage\, despite [evidence](htt
 ps://rethinkaadhaar.in/blog/2021/12/19/oppose-the-election-laws-amendment-
 bill-oppose-linking-voter-id-and-aadhaar) of Aadhaar contributing to margi
 nalization of already vulnerable communities. Concerns about privacy of vo
 ter's data abound\, with this new policy. \n\nIn this session\, we will he
 lp participants understand how to participate in forums and spaces where y
 ou can voice your opinion and register your dissent against linking Aadhaa
 r and Voter ID. In this session\, we will look at:\n\n1. The flow of power
  through various circuits and therefore understanding how and where to voi
 ce your dissent. \n2. What you can do to prevent Aadhaar and voter id link
 ing?\n\nThis will be an interactive session\, with moderators facilitating
  the discussion. 
LAST-MODIFIED:20230108T103046Z
LOCATION:Breakout session - Online\nIN
ORGANIZER;CN="One Vote":MAILTO:no-reply@hasgeek.com
URL:https://hasgeek.com/onevote/annual-conference/schedule/resisting-aadha
 ar-and-voter-id-linking-what-you-can-do-PR16fF1Q4xmHznAm6XNW9b
BEGIN:VALARM
ACTION:display
DESCRIPTION:Breakout session: Resisting Aadhaar and Voter ID linking - wha
 t you can do in Breakout session in 5 minutes
TRIGGER:-PT5M
END:VALARM
END:VEVENT
BEGIN:VEVENT
SUMMARY:Analysing Electoral Bonds
DTSTART:20220125T120000Z
DTEND:20220125T123000Z
DTSTAMP:20260419T171623Z
UID:session/NRP5JgBgX12o1baEcBDzES@hasgeek.com
SEQUENCE:10
CREATED:20211215T092210Z
LAST-MODIFIED:20220202T183441Z
LOCATION:Main conference - Online\nIN
ORGANIZER;CN="One Vote":MAILTO:no-reply@hasgeek.com
BEGIN:VALARM
ACTION:display
DESCRIPTION:Analysing Electoral Bonds in Main conference in 5 minutes
TRIGGER:-PT5M
END:VALARM
END:VEVENT
BEGIN:VEVENT
SUMMARY:The Introduction of Facial Recognition for Electoral Roll Verifica
 tion in Hyderabad
DTSTART:20220125T123000Z
DTEND:20220125T130000Z
DTSTAMP:20260419T171623Z
UID:session/AgCLhAZZgFmq8QrjZL8286@hasgeek.com
SEQUENCE:5
CREATED:20220110T100313Z
LAST-MODIFIED:20220202T183205Z
LOCATION:Main conference - Online\nIN
ORGANIZER;CN="One Vote":MAILTO:no-reply@hasgeek.com
BEGIN:VALARM
ACTION:display
DESCRIPTION:The Introduction of Facial Recognition for Electoral Roll Veri
 fication in Hyderabad in Main conference in 5 minutes
TRIGGER:-PT5M
END:VALARM
END:VEVENT
BEGIN:VEVENT
SUMMARY:Surveillance Democracy
DTSTART:20220125T130000Z
DTEND:20220125T133000Z
DTSTAMP:20260419T171623Z
UID:session/3ZfFKhH81AV1Cfj4jZV4tU@hasgeek.com
SEQUENCE:7
CREATED:20211215T092358Z
DESCRIPTION:Surveillance and the adoption of intrusive technology by the s
 tate must matter much more to common citizens than it does. In the matter 
 of Pegasus\, there is perhaps no other country where such a wide cast of c
 haracters and people central to keeping democracy alive are alleged to hav
 e been surveilled. There is now a court-nominated committee to look into a
 llegations. But there should be much more attention and alarm over the sta
 te using cyber-weapons on its people. I will elaborate on how and why this
  has the potential to upend democracy and lays the framework for a bigger 
 surrender as citizens to a much more powerful tech-powered state in the ne
 ar future. 
LAST-MODIFIED:20230108T103046Z
LOCATION:Main conference - Online\nIN
ORGANIZER;CN="One Vote":MAILTO:no-reply@hasgeek.com
BEGIN:VALARM
ACTION:display
DESCRIPTION:Surveillance Democracy in Main conference in 5 minutes
TRIGGER:-PT5M
END:VALARM
END:VEVENT
BEGIN:VEVENT
SUMMARY:Conclusion - summary and takeaways
DTSTART:20220125T133000Z
DTEND:20220125T134000Z
DTSTAMP:20260419T171623Z
UID:session/4u8QN27TqHoUc1j5nTMA3C@hasgeek.com
SEQUENCE:6
CREATED:20211215T092415Z
LAST-MODIFIED:20220122T125825Z
LOCATION:Main conference - Online\nIN
ORGANIZER;CN="One Vote":MAILTO:no-reply@hasgeek.com
BEGIN:VALARM
ACTION:display
DESCRIPTION:Conclusion - summary and takeaways in Main conference in 5 min
 utes
TRIGGER:-PT5M
END:VALARM
END:VEVENT
END:VCALENDAR
