BEGIN:VCALENDAR
VERSION:2.0
PRODID:-//HasGeek//NONSGML Funnel//EN
DESCRIPTION:DevOps war stories in e-commerce
X-WR-CALDESC:DevOps war stories in e-commerce
NAME:Rootconf Miniconf
X-WR-CALNAME:Rootconf Miniconf
REFRESH-INTERVAL;VALUE=DURATION:PT12H
SUMMARY:Rootconf Miniconf
TIMEZONE-ID:Asia/Kolkata
X-PUBLISHED-TTL:PT12H
X-WR-TIMEZONE:Asia/Kolkata
BEGIN:VEVENT
SUMMARY:Check-in and tea
DTSTART:20141108T043000Z
DTEND:20141108T044500Z
DTSTAMP:20260421T071153Z
UID:session/BB34CBrBWrVJ2BVERJFqS@hasgeek.com
SEQUENCE:0
CREATED:20141103T044617Z
DESCRIPTION:\n
LAST-MODIFIED:20141103T044617Z
LOCATION:2nd floor cafeteria - Flipkart - Vaishnavi Summit building\nIN
ORGANIZER;CN=Miniconf:MAILTO:no-reply@hasgeek.com
BEGIN:VALARM
ACTION:display
DESCRIPTION:Check-in and tea in 2nd floor cafeteria in 5 minutes
TRIGGER:-PT5M
END:VALARM
END:VEVENT
BEGIN:VEVENT
SUMMARY:Introductions
DTSTART:20141108T044500Z
DTEND:20141108T050000Z
DTSTAMP:20260421T071153Z
UID:session/XmM5WQCnPeMuDKDnHKEfqG@hasgeek.com
SEQUENCE:0
CREATED:20141103T044632Z
DESCRIPTION:\n
LAST-MODIFIED:20141103T044749Z
LOCATION:2nd floor cafeteria - Flipkart - Vaishnavi Summit building\nIN
ORGANIZER;CN=Miniconf:MAILTO:no-reply@hasgeek.com
BEGIN:VALARM
ACTION:display
DESCRIPTION:Introductions in 2nd floor cafeteria in 5 minutes
TRIGGER:-PT5M
END:VALARM
END:VEVENT
BEGIN:VEVENT
SUMMARY:Architecting FreeCharge For Growth - 10X At A Time
DTSTART:20141108T050000Z
DTEND:20141108T054500Z
DTSTAMP:20260421T071153Z
UID:session/RDjCdNcptCPHuQgpyPd4t8@hasgeek.com
SEQUENCE:2
CATEGORIES:Full talk,Beginner
CREATED:20141103T044740Z
DESCRIPTION:FreeCharge has grown more than 10x in terms of transaction vol
 ume over last one year. Even this growth has been exponential\, most of wh
 ich coming over last few months. In this session I talk about how we scale
 d our architecture to handle the volume\, challenges we faced\, trade offs
  we had to take without compromising on the beautiful and fast customer ex
 perience. This session is about our journey of 10X we embarked upon and th
 e learnings we got out along the way.\n\n### Speaker bio\n\nI head the bac
 kend infrastructure engineering team at FreeCharge\; payments and recharge
  systems being my team’s primary focus. I’m one of the first few engin
 eers of FreeCharge Bangalore development center and been with FreeCharge f
 or more than two years.\n
LAST-MODIFIED:20230810T072606Z
LOCATION:2nd floor cafeteria - Flipkart - Vaishnavi Summit building\nIN
ORGANIZER;CN=Miniconf:MAILTO:no-reply@hasgeek.com
URL:https://hasgeek.com/miniconf/2014-rootconf/schedule/architecting-freec
 harge-for-growth-10x-at-a-time-RDjCdNcptCPHuQgpyPd4t8
BEGIN:VALARM
ACTION:display
DESCRIPTION:Architecting FreeCharge For Growth - 10X At A Time in 2nd floo
 r cafeteria in 5 minutes
TRIGGER:-PT5M
END:VALARM
END:VEVENT
BEGIN:VEVENT
SUMMARY:Flipkart's Network Journey - Way forward..
DTSTART:20141108T054500Z
DTEND:20141108T061500Z
DTSTAMP:20260421T071153Z
UID:session/AdFT4QDbc7N8iWdWUqhZoe@hasgeek.com
SEQUENCE:2
CATEGORIES:Full talk,Advanced
CREATED:20141106T104250Z
DESCRIPTION:Scaling network to the needs of scaling organization\, conquer
 ing challenges\, learning and way forward..\nbits vs byte\; arps vs garps 
 and much more\n\n### Speaker bio\n\nRaghdip Singh Panesar\, Senior Network
  Professional..\n
LAST-MODIFIED:20230810T072606Z
LOCATION:2nd floor cafeteria - Flipkart - Vaishnavi Summit building\nIN
ORGANIZER;CN=Miniconf:MAILTO:no-reply@hasgeek.com
URL:https://hasgeek.com/miniconf/2014-rootconf/schedule/flipkarts-network-
 journey-way-forward-AdFT4QDbc7N8iWdWUqhZoe
BEGIN:VALARM
ACTION:display
DESCRIPTION:Flipkart's Network Journey - Way forward.. in 2nd floor cafete
 ria in 5 minutes
TRIGGER:-PT5M
END:VALARM
END:VEVENT
BEGIN:VEVENT
SUMMARY:Challenges with Centralised Monitoring System
DTSTART:20141108T061500Z
DTEND:20141108T064500Z
DTSTAMP:20260421T071153Z
UID:session/4R5cTMDKCGuVd3AiByQ3xv@hasgeek.com
SEQUENCE:2
CATEGORIES:Full talk,Intermediate
CREATED:20141106T104258Z
DESCRIPTION:How flipkart built its monitoring tool which is\n-> to be high
 ly reliable\n-> to store 1 million data points / sec \n-> 10s of thousands
  of hosts \n-> to be easily plugged in for any tech stack to gather Applic
 ation metrics\n\n### Speaker bio\n\nAnand Karthik\, Dev Ops\n
LAST-MODIFIED:20230810T072606Z
LOCATION:2nd floor cafeteria - Flipkart - Vaishnavi Summit building\nIN
ORGANIZER;CN=Miniconf:MAILTO:no-reply@hasgeek.com
URL:https://hasgeek.com/miniconf/2014-rootconf/schedule/challenges-with-ce
 ntralised-monitoring-system-4R5cTMDKCGuVd3AiByQ3xv
BEGIN:VALARM
ACTION:display
DESCRIPTION:Challenges with Centralised Monitoring System in 2nd floor caf
 eteria in 5 minutes
TRIGGER:-PT5M
END:VALARM
END:VEVENT
BEGIN:VEVENT
SUMMARY:Chai break
DTSTART:20141108T064500Z
DTEND:20141108T070000Z
DTSTAMP:20260421T071153Z
UID:session/Qh6g7AQwkSWwRTbz4Whj1N@hasgeek.com
SEQUENCE:0
CREATED:20141103T044804Z
DESCRIPTION:\n
LAST-MODIFIED:20141106T104344Z
LOCATION:Bangalore
ORGANIZER;CN=Miniconf:MAILTO:no-reply@hasgeek.com
BEGIN:VALARM
ACTION:display
DESCRIPTION:Chai break in 5 minutes
TRIGGER:-PT5M
END:VALARM
END:VEVENT
BEGIN:VEVENT
SUMMARY:Flash talks by audience
DTSTART:20141108T070000Z
DTEND:20141108T074500Z
DTSTAMP:20260421T071153Z
UID:session/MxXfufJswjdQmFMev8dweu@hasgeek.com
SEQUENCE:0
CREATED:20141103T044844Z
DESCRIPTION:\n
LAST-MODIFIED:20141103T044847Z
LOCATION:2nd floor cafeteria - Flipkart - Vaishnavi Summit building\nIN
ORGANIZER;CN=Miniconf:MAILTO:no-reply@hasgeek.com
BEGIN:VALARM
ACTION:display
DESCRIPTION:Flash talks by audience in 2nd floor cafeteria in 5 minutes
TRIGGER:-PT5M
END:VALARM
END:VEVENT
BEGIN:VEVENT
SUMMARY:Lunch
DTSTART:20141108T074500Z
DTEND:20141108T083000Z
DTSTAMP:20260421T071153Z
UID:session/BuW6Widxnq9CPMHGqaDaEe@hasgeek.com
SEQUENCE:0
CREATED:20141103T044856Z
DESCRIPTION:\n
LAST-MODIFIED:20141103T044858Z
LOCATION:Bangalore
ORGANIZER;CN=Miniconf:MAILTO:no-reply@hasgeek.com
BEGIN:VALARM
ACTION:display
DESCRIPTION:Lunch in 5 minutes
TRIGGER:-PT5M
END:VALARM
END:VEVENT
BEGIN:VEVENT
SUMMARY:Harness Security Enhanced Linux for a Truly Hardened Server
DTSTART:20141108T083000Z
DTEND:20141108T114500Z
DTSTAMP:20260421T071153Z
UID:session/K5k7HvR4YEkKJeqpXNEBWG@hasgeek.com
SEQUENCE:2
CATEGORIES:Workshops,Intermediate
CREATED:20141103T044907Z
DESCRIPTION:Security Enhanced Linux (SELinux) provides tremendous power to
  tighten process security on Linux systems. By not optimising\, or worse\,
  by not enabling SELinux\, Linux server hardening would remain incomplete\
 , and the Linux servers may be vulnerable to process hijacks/exploits.\n\n
 The first step to set this right is to understand the fundamentals of SELi
 nux\, and to have a hands-on learning experience in fine tuning the availa
 ble rules and parameters. This would remove the barriers of fear in using 
 SELinux\, and provide the confidence to proceed to making use of SELinux\,
  on development to production Linux servers\, for widely used services. An
 d then progressively\, with the enhanced knowledge of experience\, it woul
 d be easier to further progress to the advanced usage of SELinux\, for sec
 uring customised services as well.\n\nThis workshop on SELinux is targeted
  to help System Administrators and DevOps Engineers to get started on the 
 path\, and provide hands-on experience in the initial steps along the path
 . The workshop will utilise interactive lecture\, live demonstration\, and
  direct participant hands-on models of learning.\n\n### Speaker bio\n\nWor
 king in Engineering at Red Hat\, Bangalore\nUser and Evangelist of SELinux
  for over 8 years\nHave trained and assisted SysAdmins/DevOps to use SELin
 ux on servers\nPassionate about Open Source\n\nRed Hat Certified Architect
 \nRed Hat Certified Data Center Specialist\nRed Hat Certified Security Spe
 cialist\n
LAST-MODIFIED:20230810T072606Z
LOCATION:2nd floor cafeteria - Flipkart - Vaishnavi Summit building\nIN
ORGANIZER;CN=Miniconf:MAILTO:no-reply@hasgeek.com
URL:https://hasgeek.com/miniconf/2014-rootconf/schedule/harness-security-e
 nhanced-linux-for-a-truly-hardened-server-K5k7HvR4YEkKJeqpXNEBWG
BEGIN:VALARM
ACTION:display
DESCRIPTION:Harness Security Enhanced Linux for a Truly Hardened Server in
  2nd floor cafeteria in 5 minutes
TRIGGER:-PT5M
END:VALARM
END:VEVENT
BEGIN:VEVENT
SUMMARY:Tea break
DTSTART:20141108T094500Z
DTEND:20141108T100000Z
DTSTAMP:20260421T071153Z
UID:session/T38YjPuS1dSWbN7tZLhvVC@hasgeek.com
SEQUENCE:0
CREATED:20141106T110034Z
DESCRIPTION:\n
LAST-MODIFIED:20141106T110039Z
LOCATION:Bangalore
ORGANIZER;CN=Miniconf:MAILTO:no-reply@hasgeek.com
BEGIN:VALARM
ACTION:display
DESCRIPTION:Tea break in 5 minutes
TRIGGER:-PT5M
END:VALARM
END:VEVENT
END:VCALENDAR
