BEGIN:VCALENDAR
VERSION:2.0
PRODID:-//HasGeek//NONSGML Funnel//EN
DESCRIPTION:Freewheeling chat on Website Hosting
X-WR-CALDESC:Freewheeling chat on Website Hosting
NAME:Think before you GoDaddy
X-WR-CALNAME:Think before you GoDaddy
REFRESH-INTERVAL;VALUE=DURATION:PT12H
SUMMARY:Think before you GoDaddy
TIMEZONE-ID:Asia/Kolkata
X-PUBLISHED-TTL:PT12H
X-WR-TIMEZONE:Asia/Kolkata
BEGIN:VEVENT
SUMMARY:Introduction to the session
DTSTART:20200627T053000Z
DTEND:20200627T053500Z
DTSTAMP:20260421T123423Z
UID:session/2hmi8JFpUNbfHvSyghg43K@hasgeek.com
SEQUENCE:0
CREATED:20200620T111446Z
DESCRIPTION:\n
LAST-MODIFIED:20200620T111446Z
LOCATION:Online
ORGANIZER;CN="Meta Refresh":MAILTO:no-reply@hasgeek.com
BEGIN:VALARM
ACTION:display
DESCRIPTION:Introduction to the session in 5 minutes
TRIGGER:-PT5M
END:VALARM
END:VEVENT
BEGIN:VEVENT
SUMMARY:Presentation: Think before you GoDaddy
DTSTART:20200627T053500Z
DTEND:20200627T060500Z
DTSTAMP:20260421T123423Z
UID:session/E5TCoGPY9Ynuc7Udm1os5i@hasgeek.com
SEQUENCE:0
CREATED:20200620T111506Z
DESCRIPTION:\n
LAST-MODIFIED:20200620T111513Z
LOCATION:Online
ORGANIZER;CN="Meta Refresh":MAILTO:no-reply@hasgeek.com
BEGIN:VALARM
ACTION:display
DESCRIPTION:Presentation: Think before you GoDaddy in 5 minutes
TRIGGER:-PT5M
END:VALARM
END:VEVENT
BEGIN:VEVENT
SUMMARY:Q&A
DTSTART:20200627T060500Z
DTEND:20200627T064000Z
DTSTAMP:20260421T123423Z
UID:session/LnVcb85ah4mgAFcgGPUftf@hasgeek.com
SEQUENCE:0
CREATED:20200620T111527Z
DESCRIPTION:\n
LAST-MODIFIED:20200620T111536Z
LOCATION:Online
ORGANIZER;CN="Meta Refresh":MAILTO:no-reply@hasgeek.com
BEGIN:VALARM
ACTION:display
DESCRIPTION:Q&A in 5 minutes
TRIGGER:-PT5M
END:VALARM
END:VEVENT
BEGIN:VEVENT
SUMMARY:Summary and closing
DTSTART:20200627T064000Z
DTEND:20200627T064500Z
DTSTAMP:20260421T123423Z
UID:session/MherJFQ1tu3YRjH3LcDDpG@hasgeek.com
SEQUENCE:0
CREATED:20200620T111545Z
DESCRIPTION:\n
LAST-MODIFIED:20200620T111545Z
LOCATION:Online
ORGANIZER;CN="Meta Refresh":MAILTO:no-reply@hasgeek.com
BEGIN:VALARM
ACTION:display
DESCRIPTION:Summary and closing in 5 minutes
TRIGGER:-PT5M
END:VALARM
END:VEVENT
END:VCALENDAR
