BEGIN:VCALENDAR
VERSION:2.0
PRODID:-//HasGeek//NONSGML Funnel//EN
DESCRIPTION:Freewheeling Chats on Content Workflows
X-WR-CALDESC:Freewheeling Chats on Content Workflows
NAME:Newsletters - picking right tools and technologies
X-WR-CALNAME:Newsletters - picking right tools and technologies
REFRESH-INTERVAL;VALUE=DURATION:PT12H
SUMMARY:Newsletters - picking right tools and technologies
TIMEZONE-ID:Asia/Kolkata
X-PUBLISHED-TTL:PT12H
X-WR-TIMEZONE:Asia/Kolkata
BEGIN:VEVENT
SUMMARY:Introduction to Content Web series and today's top
DTSTART:20200704T053000Z
DTEND:20200704T053500Z
DTSTAMP:20260421T123520Z
UID:session/PAY8jMK6CBZMUtYbWSE2RK@hasgeek.com
SEQUENCE:0
CREATED:20200629T041827Z
DESCRIPTION:\n
LAST-MODIFIED:20200629T042019Z
LOCATION:Online
ORGANIZER;CN="Meta Refresh":MAILTO:no-reply@hasgeek.com
BEGIN:VALARM
ACTION:display
DESCRIPTION:Introduction to Content Web series and today's top in 5 minute
 s
TRIGGER:-PT5M
END:VALARM
END:VEVENT
BEGIN:VEVENT
SUMMARY:Discussion on the tools and technologies for newsletters
DTSTART:20200704T053500Z
DTEND:20200704T064000Z
DTSTAMP:20260421T123520Z
UID:session/K1K6isfxFKxQpiya1aGxQ5@hasgeek.com
SEQUENCE:0
CREATED:20200629T041849Z
DESCRIPTION:\n
LAST-MODIFIED:20200629T042010Z
LOCATION:Online
ORGANIZER;CN="Meta Refresh":MAILTO:no-reply@hasgeek.com
BEGIN:VALARM
ACTION:display
DESCRIPTION:Discussion on the tools and technologies for newsletters in 5 
 minutes
TRIGGER:-PT5M
END:VALARM
END:VEVENT
BEGIN:VEVENT
SUMMARY:Summary and conclusion
DTSTART:20200704T064000Z
DTEND:20200704T064500Z
DTSTAMP:20260421T123520Z
UID:session/PLopCvm3YZLmfGoSJj1HX3@hasgeek.com
SEQUENCE:0
CREATED:20200629T042004Z
DESCRIPTION:\n
LAST-MODIFIED:20200629T042004Z
LOCATION:Online
ORGANIZER;CN="Meta Refresh":MAILTO:no-reply@hasgeek.com
BEGIN:VALARM
ACTION:display
DESCRIPTION:Summary and conclusion in 5 minutes
TRIGGER:-PT5M
END:VALARM
END:VEVENT
END:VCALENDAR
