BEGIN:VCALENDAR
VERSION:2.0
PRODID:-//HasGeek//NONSGML Funnel//EN
DESCRIPTION:Case studies from UX practitioners on design and iteration pro
 cesses.   
X-WR-CALDESC:Case studies from UX practitioners on design and iteration pr
 ocesses.   
NAME:Creating better user experiences
X-WR-CALNAME:Creating better user experiences
REFRESH-INTERVAL;VALUE=DURATION:PT12H
SUMMARY:Creating better user experiences
TIMEZONE-ID:Asia/Kolkata
X-PUBLISHED-TTL:PT12H
X-WR-TIMEZONE:Asia/Kolkata
BEGIN:VEVENT
SUMMARY:Introductions
DTSTART:20190302T033000Z
DTEND:20190302T043000Z
DTSTAMP:20260421T210250Z
UID:session/D1gDP5nQX8M7mFvssyqvj2@hasgeek.com
SEQUENCE:0
CREATED:20190705T104925Z
DESCRIPTION:\n
GEO:19.112706148733967;72.84205527976157
LAST-MODIFIED:20190705T104925Z
LOCATION:Room - BookMyShow amphitheater \nMumbai\nIN
ORGANIZER;CN="Meta Refresh":MAILTO:no-reply@hasgeek.com
BEGIN:VALARM
ACTION:display
DESCRIPTION:Introductions in Room in 5 minutes
TRIGGER:-PT5M
END:VALARM
END:VEVENT
END:VCALENDAR
