BEGIN:VCALENDAR
VERSION:2.0
PRODID:-//HasGeek//NONSGML Funnel//EN
DESCRIPTION:This week: Image formats\, optimisations\, responsiveness and 
 more.
X-WR-CALDESC:This week: Image formats\, optimisations\, responsiveness and
  more.
NAME:Content Web Series - on content marketing\, publishing\, CMS
X-WR-CALNAME:Content Web Series - on content marketing\, publishing\, CMS
REFRESH-INTERVAL;VALUE=DURATION:PT12H
SUMMARY:Content Web Series - on content marketing\, publishing\, CMS
TIMEZONE-ID:Asia/Kolkata
X-PUBLISHED-TTL:PT12H
X-WR-TIMEZONE:Asia/Kolkata
BEGIN:VEVENT
SUMMARY:Introduction to Content Web and the hosts
DTSTART:20200523T053000Z
DTEND:20200523T053500Z
DTSTAMP:20260421T123255Z
UID:session/SBTxRRTEEb6JX8f4eA6Wjn@hasgeek.com
SEQUENCE:0
CREATED:20200519T055114Z
DESCRIPTION:\n
LAST-MODIFIED:20200519T115520Z
LOCATION:Online
ORGANIZER;CN="Meta Refresh":MAILTO:no-reply@hasgeek.com
BEGIN:VALARM
ACTION:display
DESCRIPTION:Introduction to Content Web and the hosts in 5 minutes
TRIGGER:-PT5M
END:VALARM
END:VEVENT
BEGIN:VEVENT
SUMMARY:Freewheeling chat on Rent\, Buy or Build a CMS
DTSTART:20200523T053500Z
DTEND:20200523T063500Z
DTSTAMP:20260421T123255Z
UID:session/FuUT7A96bGtVFh8R6RvuXg@hasgeek.com
SEQUENCE:1
CREATED:20200519T055138Z
DESCRIPTION:How to choose between SaaS\, licenced/self-managed or custom-b
 uilt CMS?\n
LAST-MODIFIED:20230108T103046Z
LOCATION:Online
ORGANIZER;CN="Meta Refresh":MAILTO:no-reply@hasgeek.com
BEGIN:VALARM
ACTION:display
DESCRIPTION:Freewheeling chat on Rent\, Buy or Build a CMS in 5 minutes
TRIGGER:-PT5M
END:VALARM
END:VEVENT
BEGIN:VEVENT
SUMMARY:Summary and suggestions for future sessions
DTSTART:20200523T063500Z
DTEND:20200523T064500Z
DTSTAMP:20260421T123255Z
UID:session/RUZhov8HZ4g9XoRMBEUFPC@hasgeek.com
SEQUENCE:0
CREATED:20200519T055236Z
DESCRIPTION:\n
LAST-MODIFIED:20200519T115625Z
LOCATION:Online
ORGANIZER;CN="Meta Refresh":MAILTO:no-reply@hasgeek.com
BEGIN:VALARM
ACTION:display
DESCRIPTION:Summary and suggestions for future sessions in 5 minutes
TRIGGER:-PT5M
END:VALARM
END:VEVENT
BEGIN:VEVENT
SUMMARY:Introduction to Content Web and the hosts
DTSTART:20200530T053000Z
DTEND:20200530T053500Z
DTSTAMP:20260421T123255Z
UID:session/5zb7AkdsQV3txxk2AjjCuv@hasgeek.com
SEQUENCE:0
CREATED:20200526T053331Z
DESCRIPTION:\n
LAST-MODIFIED:20200526T102012Z
LOCATION:Online
ORGANIZER;CN="Meta Refresh":MAILTO:no-reply@hasgeek.com
BEGIN:VALARM
ACTION:display
DESCRIPTION:Introduction to Content Web and the hosts in 5 minutes
TRIGGER:-PT5M
END:VALARM
END:VEVENT
BEGIN:VEVENT
SUMMARY:Freewheeling chat on Technical SEO
DTSTART:20200530T053500Z
DTEND:20200530T063500Z
DTSTAMP:20260421T123255Z
UID:session/8uXFrFHPLNmatkL6uqpQGh@hasgeek.com
SEQUENCE:1
CREATED:20200526T053407Z
DESCRIPTION:What is technical SEO? How can publishers/business owners meet
  good practices?\n
LAST-MODIFIED:20230108T103046Z
LOCATION:Online
ORGANIZER;CN="Meta Refresh":MAILTO:no-reply@hasgeek.com
BEGIN:VALARM
ACTION:display
DESCRIPTION:Freewheeling chat on Technical SEO in 5 minutes
TRIGGER:-PT5M
END:VALARM
END:VEVENT
BEGIN:VEVENT
SUMMARY:Summary and suggestions for future sessions
DTSTART:20200530T063500Z
DTEND:20200530T064500Z
DTSTAMP:20260421T123255Z
UID:session/LcwwXSKmuaZDnPCqMRqMiz@hasgeek.com
SEQUENCE:0
CREATED:20200526T053443Z
DESCRIPTION:\n
LAST-MODIFIED:20200527T125546Z
LOCATION:Online
ORGANIZER;CN="Meta Refresh":MAILTO:no-reply@hasgeek.com
BEGIN:VALARM
ACTION:display
DESCRIPTION:Summary and suggestions for future sessions in 5 minutes
TRIGGER:-PT5M
END:VALARM
END:VEVENT
BEGIN:VEVENT
SUMMARY:Introduction to the session and participants
DTSTART:20200606T053000Z
DTEND:20200606T054000Z
DTSTAMP:20260421T123255Z
UID:session/MFDZDMbmMmuHyvyZ1qGax@hasgeek.com
SEQUENCE:0
CREATED:20200601T050340Z
DESCRIPTION:\n
LAST-MODIFIED:20200601T050343Z
LOCATION:Online
ORGANIZER;CN="Meta Refresh":MAILTO:no-reply@hasgeek.com
BEGIN:VALARM
ACTION:display
DESCRIPTION:Introduction to the session and participants in 5 minutes
TRIGGER:-PT5M
END:VALARM
END:VEVENT
BEGIN:VEVENT
SUMMARY:Freewheeling chat on Craft CMS
DTSTART:20200606T054000Z
DTEND:20200606T064000Z
DTSTAMP:20260421T123255Z
UID:session/NuAXxcEh26uhFaqEnJxboz@hasgeek.com
SEQUENCE:1
CREATED:20200601T050436Z
DESCRIPTION:How does Craft CMS compare against the usual suspects? Why use
  it?\n
LAST-MODIFIED:20230108T103046Z
LOCATION:Online
ORGANIZER;CN="Meta Refresh":MAILTO:no-reply@hasgeek.com
BEGIN:VALARM
ACTION:display
DESCRIPTION:Freewheeling chat on Craft CMS in 5 minutes
TRIGGER:-PT5M
END:VALARM
END:VEVENT
BEGIN:VEVENT
SUMMARY:Summary and closing
DTSTART:20200606T064000Z
DTEND:20200606T064500Z
DTSTAMP:20260421T123255Z
UID:session/JwEdjo5oeFS2H5jfgqA74G@hasgeek.com
SEQUENCE:0
CREATED:20200601T050506Z
DESCRIPTION:\n
LAST-MODIFIED:20200601T050506Z
LOCATION:Online
ORGANIZER;CN="Meta Refresh":MAILTO:no-reply@hasgeek.com
BEGIN:VALARM
ACTION:display
DESCRIPTION:Summary and closing in 5 minutes
TRIGGER:-PT5M
END:VALARM
END:VEVENT
BEGIN:VEVENT
SUMMARY:Introduction to Content Web\; today's session
DTSTART:20200613T053000Z
DTEND:20200613T053500Z
DTSTAMP:20260421T123255Z
UID:session/ERagSntG6BEHGaQUmp5Yrb@hasgeek.com
SEQUENCE:0
CREATED:20200607T085556Z
DESCRIPTION:\n
LAST-MODIFIED:20200607T085702Z
LOCATION:Online
ORGANIZER;CN="Meta Refresh":MAILTO:no-reply@hasgeek.com
BEGIN:VALARM
ACTION:display
DESCRIPTION:Introduction to Content Web\; today's session in 5 minutes
TRIGGER:-PT5M
END:VALARM
END:VEVENT
BEGIN:VEVENT
SUMMARY:Freewheeling chat on images for web descriptions
DTSTART:20200613T053500Z
DTEND:20200613T065500Z
DTSTAMP:20260421T123255Z
UID:session/N5Feb22nFRNj1e1s4H77LU@hasgeek.com
SEQUENCE:1
CREATED:20200607T085624Z
DESCRIPTION:Images for the Web\, including image formats\, optimisations\,
  responsiveness and more.\n
LAST-MODIFIED:20230108T103046Z
LOCATION:Online
ORGANIZER;CN="Meta Refresh":MAILTO:no-reply@hasgeek.com
BEGIN:VALARM
ACTION:display
DESCRIPTION:Freewheeling chat on images for web descriptions in 5 minutes
TRIGGER:-PT5M
END:VALARM
END:VEVENT
BEGIN:VEVENT
SUMMARY:Summary and conclusion
DTSTART:20200613T065500Z
DTEND:20200613T070000Z
DTSTAMP:20260421T123255Z
UID:session/QSCY64NxkMYav4oMMK2119@hasgeek.com
SEQUENCE:0
CREATED:20200607T085645Z
DESCRIPTION:\n
LAST-MODIFIED:20200607T085645Z
LOCATION:Online
ORGANIZER;CN="Meta Refresh":MAILTO:no-reply@hasgeek.com
BEGIN:VALARM
ACTION:display
DESCRIPTION:Summary and conclusion in 5 minutes
TRIGGER:-PT5M
END:VALARM
END:VEVENT
END:VCALENDAR
