BEGIN:VCALENDAR
VERSION:2.0
PRODID:-//HasGeek//NONSGML Funnel//EN
DESCRIPTION:Content Web Series
X-WR-CALDESC:Content Web Series
NAME:Why build websites in a social media world?
X-WR-CALNAME:Why build websites in a social media world?
REFRESH-INTERVAL;VALUE=DURATION:PT12H
SUMMARY:Why build websites in a social media world?
TIMEZONE-ID:Asia/Kolkata
X-PUBLISHED-TTL:PT12H
X-WR-TIMEZONE:Asia/Kolkata
BEGIN:VEVENT
SUMMARY:Introduction to Content Web and today's session
DTSTART:20200620T053000Z
DTEND:20200620T053500Z
DTSTAMP:20260421T123254Z
UID:session/7boz7vLjkg9WqdGjTBPN1q@hasgeek.com
SEQUENCE:0
CREATED:20200615T091033Z
DESCRIPTION:\n
LAST-MODIFIED:20200615T092206Z
LOCATION:Online
ORGANIZER;CN="Meta Refresh":MAILTO:no-reply@hasgeek.com
BEGIN:VALARM
ACTION:display
DESCRIPTION:Introduction to Content Web and today's session in 5 minutes
TRIGGER:-PT5M
END:VALARM
END:VEVENT
BEGIN:VEVENT
SUMMARY:Freewheeling chat + questions: do we need a website when business 
 takes place largely on Whatsapp and social media?
DTSTART:20200620T053500Z
DTEND:20200620T064500Z
DTSTAMP:20260421T123254Z
UID:session/VqyBK1w78bb4EYG9jJjjqD@hasgeek.com
SEQUENCE:0
CREATED:20200615T091120Z
DESCRIPTION:\n
LAST-MODIFIED:20200615T092245Z
LOCATION:Online
ORGANIZER;CN="Meta Refresh":MAILTO:no-reply@hasgeek.com
BEGIN:VALARM
ACTION:display
DESCRIPTION:Freewheeling chat + questions: do we need a website when busin
 ess takes place largely on Whatsapp and social media? in 5 minutes
TRIGGER:-PT5M
END:VALARM
END:VEVENT
BEGIN:VEVENT
SUMMARY:Summary: takeaways and closing
DTSTART:20200620T064500Z
DTEND:20200620T070000Z
DTSTAMP:20260421T123254Z
UID:session/XvuVrAZJrr7Yn9WKwgvGgU@hasgeek.com
SEQUENCE:0
CREATED:20200615T091148Z
DESCRIPTION:\n
LAST-MODIFIED:20200615T092255Z
LOCATION:Online
ORGANIZER;CN="Meta Refresh":MAILTO:no-reply@hasgeek.com
BEGIN:VALARM
ACTION:display
DESCRIPTION:Summary: takeaways and closing in 5 minutes
TRIGGER:-PT5M
END:VALARM
END:VEVENT
END:VCALENDAR
