BEGIN:VCALENDAR
VERSION:2.0
PRODID:-//HasGeek//NONSGML Funnel//EN
DESCRIPTION:Speak to Souvik Das Gupta and get your CMS content strategy\, 
 and implementation evaluated.
X-WR-CALDESC:Speak to Souvik Das Gupta and get your CMS content strategy\,
  and implementation evaluated.
NAME:Office Hours: Content strategy and CMS implementations
X-WR-CALNAME:Office Hours: Content strategy and CMS implementations
REFRESH-INTERVAL;VALUE=DURATION:PT12H
SUMMARY:Office Hours: Content strategy and CMS implementations
TIMEZONE-ID:Asia/Kolkata
X-PUBLISHED-TTL:PT12H
X-WR-TIMEZONE:Asia/Kolkata
BEGIN:VEVENT
SUMMARY:Office Hours
DTSTART:20190201T120000Z
DTEND:20190201T143000Z
DTSTAMP:20260421T210433Z
UID:session/SBu2SC2kMrbN8bVjceUUJ9@hasgeek.com
SEQUENCE:0
CREATED:20190707T181746Z
DESCRIPTION:\n
GEO:12.961521506385937;77.64430761337282
LAST-MODIFIED:20190707T181752Z
LOCATION:Workshop Room - HasGeek\nBangalore\nIN
ORGANIZER;CN="Meta Refresh":MAILTO:no-reply@hasgeek.com
BEGIN:VALARM
ACTION:display
DESCRIPTION:Office Hours in Workshop Room in 5 minutes
TRIGGER:-PT5M
END:VALARM
END:VEVENT
END:VCALENDAR
