BEGIN:VCALENDAR
VERSION:2.0
PRODID:-//HasGeek//NONSGML Funnel//EN
DESCRIPTION:Design enhancements and UX advancements in mobile web
X-WR-CALDESC:Design enhancements and UX advancements in mobile web
NAME:Meta Refresh 2015: Pune Run-up
X-WR-CALNAME:Meta Refresh 2015: Pune Run-up
REFRESH-INTERVAL;VALUE=DURATION:PT12H
SUMMARY:Meta Refresh 2015: Pune Run-up
TIMEZONE-ID:Asia/Kolkata
X-PUBLISHED-TTL:PT12H
X-WR-TIMEZONE:Asia/Kolkata
BEGIN:VEVENT
SUMMARY:Introductions 
DTSTART:20150314T043000Z
DTEND:20150314T044500Z
DTSTAMP:20260421T205413Z
UID:session/TRofeEPo72jRkGz6ySQ6x2@hasgeek.com
SEQUENCE:0
CREATED:20150311T132118Z
DESCRIPTION:\n
LAST-MODIFIED:20150311T132118Z
LOCATION:Pune
ORGANIZER;CN="Meta Refresh":MAILTO:no-reply@hasgeek.com
BEGIN:VALARM
ACTION:display
DESCRIPTION:Introductions  in 5 minutes
TRIGGER:-PT5M
END:VALARM
END:VEVENT
BEGIN:VEVENT
SUMMARY:User Experience and Psychology
DTSTART:20150314T044500Z
DTEND:20150314T053000Z
DTSTAMP:20260421T205413Z
UID:session/WUgRuZeAZSuHGxNyB9XKcw@hasgeek.com
SEQUENCE:2
CATEGORIES:Intermediate
CREATED:20150311T132141Z
DESCRIPTION:User experience plays an important role in the success of any 
 product. We will cover the basic fundamentals of user experience and how w
 e can improve it with several simple practice. How user experience is conn
 ected with Human psychology and how bad user experience can make or break 
 a product and what to avoid while building the product.\n\n### Speaker bio
 \n\nUI/UX consultant\, Full stack designer @ Testbook\,\nEntreprenuer\, Oc
 casional Front-end Developer.\nI help startups to make more scalable and e
 asy to use UI with the help of UX. \nPurveyor of fine mischief.\n
LAST-MODIFIED:20230810T072606Z
LOCATION:Pune
ORGANIZER;CN="Meta Refresh":MAILTO:no-reply@hasgeek.com
URL:https://hasgeek.com/metarefresh/2015-pune/schedule/user-experience-and
 -psychology-WUgRuZeAZSuHGxNyB9XKcw
BEGIN:VALARM
ACTION:display
DESCRIPTION:User Experience and Psychology in 5 minutes
TRIGGER:-PT5M
END:VALARM
END:VEVENT
BEGIN:VEVENT
SUMMARY:Mobile Strategy and Design Approach
DTSTART:20150314T053000Z
DTEND:20150314T060000Z
DTSTAMP:20260421T205413Z
UID:session/F3fHvBNyysLKdZU7j7tqgR@hasgeek.com
SEQUENCE:2
CATEGORIES:Intermediate
CREATED:20150311T132158Z
DESCRIPTION:Mobile users are only going to increase and therefore it makes
  immense sense for a brand or business to consider mobile as a platform to
  address the business needs & goals. This talk will also touch upon some o
 f the important things to be considered from a design perspective while on
 ce executes his design strategy.\n\n### Speaker bio\n\nI lead the UX pract
 ice at Weboniselab and love designing experiences and interactions. Data V
 isualisation has caught my fancy recently as much as I.O.T\n
LAST-MODIFIED:20230810T072606Z
LOCATION:Pune
ORGANIZER;CN="Meta Refresh":MAILTO:no-reply@hasgeek.com
URL:https://hasgeek.com/metarefresh/2015-pune/schedule/mobile-strategy-and
 -design-approach-F3fHvBNyysLKdZU7j7tqgR
BEGIN:VALARM
ACTION:display
DESCRIPTION:Mobile Strategy and Design Approach in 5 minutes
TRIGGER:-PT5M
END:VALARM
END:VEVENT
BEGIN:VEVENT
SUMMARY:Networking over Tea  [hosted by Equal Experts]
DTSTART:20150314T060000Z
DTEND:20150314T061500Z
DTSTAMP:20260421T205413Z
UID:session/A3TqZuDtSh25icLqoiPTB4@hasgeek.com
SEQUENCE:0
CREATED:20150311T132248Z
DESCRIPTION:\n
LAST-MODIFIED:20150311T132248Z
LOCATION:Pune
ORGANIZER;CN="Meta Refresh":MAILTO:no-reply@hasgeek.com
BEGIN:VALARM
ACTION:display
DESCRIPTION:Networking over Tea  [hosted by Equal Experts] in 5 minutes
TRIGGER:-PT5M
END:VALARM
END:VEVENT
BEGIN:VEVENT
SUMMARY:Gestalt Principles and its application in Web Design
DTSTART:20150314T061500Z
DTEND:20150314T070000Z
DTSTAMP:20260421T205413Z
UID:session/U9Yf21bs6NpN5y2DBBJEmq@hasgeek.com
SEQUENCE:2
CATEGORIES:Intermediate
CREATED:20150311T132304Z
DESCRIPTION:Gestalt Principles is a theory of mind that helps us to simpli
 fy the chaotic world presented to us.We use it every day unknowingly to un
 derstand and simplify the world around us. Proper application of these pri
 nciples will help us to create innovative and useful web designs and other
  interaction designs.This session will cover all the major gestalt princip
 les and how they can help us to design better user experience.\n\n### Spea
 ker bio\n\nUI/ UX Consultant @CDK-India\n
LAST-MODIFIED:20230810T072606Z
LOCATION:Pune
ORGANIZER;CN="Meta Refresh":MAILTO:no-reply@hasgeek.com
URL:https://hasgeek.com/metarefresh/2015-pune/schedule/gestalt-principles-
 and-its-application-in-web-design-U9Yf21bs6NpN5y2DBBJEmq
BEGIN:VALARM
ACTION:display
DESCRIPTION:Gestalt Principles and its application in Web Design in 5 minu
 tes
TRIGGER:-PT5M
END:VALARM
END:VEVENT
BEGIN:VEVENT
SUMMARY:Open House and Discussions
DTSTART:20150314T070000Z
DTEND:20150314T071500Z
DTSTAMP:20260421T205413Z
UID:session/J83C8PhW6o8MQdn5WRpkXG@hasgeek.com
SEQUENCE:0
CREATED:20150311T132343Z
DESCRIPTION:\n
LAST-MODIFIED:20150311T132343Z
LOCATION:Pune
ORGANIZER;CN="Meta Refresh":MAILTO:no-reply@hasgeek.com
BEGIN:VALARM
ACTION:display
DESCRIPTION:Open House and Discussions in 5 minutes
TRIGGER:-PT5M
END:VALARM
END:VEVENT
END:VCALENDAR
