BEGIN:VCALENDAR
VERSION:2.0
PRODID:-//HasGeek//NONSGML Funnel//EN
DESCRIPTION:Content Design and Layout
X-WR-CALDESC:Content Design and Layout
NAME:Meta Refresh 2015: Mumbai Run-up
X-WR-CALNAME:Meta Refresh 2015: Mumbai Run-up
REFRESH-INTERVAL;VALUE=DURATION:PT12H
SUMMARY:Meta Refresh 2015: Mumbai Run-up
TIMEZONE-ID:Asia/Kolkata
X-PUBLISHED-TTL:PT12H
X-WR-TIMEZONE:Asia/Kolkata
BEGIN:VEVENT
SUMMARY:Registration and Introductions 
DTSTART:20150321T053000Z
DTEND:20150321T054500Z
DTSTAMP:20260421T222540Z
UID:session/GWfR7szhrtEwgkorFTxGhW@hasgeek.com
SEQUENCE:0
CREATED:20150318T154511Z
DESCRIPTION:\n
LAST-MODIFIED:20150318T154511Z
LOCATION:Mumbai
ORGANIZER;CN="Meta Refresh":MAILTO:no-reply@hasgeek.com
BEGIN:VALARM
ACTION:display
DESCRIPTION:Registration and Introductions  in 5 minutes
TRIGGER:-PT5M
END:VALARM
END:VEVENT
BEGIN:VEVENT
SUMMARY:Interaction Design in the times of the Small Screen
DTSTART:20150321T054500Z
DTEND:20150321T063000Z
DTSTAMP:20260421T222540Z
UID:session/Usmqr7hyeZxu3J4Ai2XYeD@hasgeek.com
SEQUENCE:2
CATEGORIES:Beginner
CREATED:20150318T153925Z
DESCRIPTION:The landscape for most UI /UX design has changed drastically i
 nthe last few years. Users are switching between multiple devices now more
  than ever. This requires a fresh new look at UI and the way a user sees a
 nd interacts with any website or application. Also the changes go way deep
 er than just the look and feel. People are getting used to certain gesture
 s and actions. What is needed now is to understand the patterns running in
  the users' minds to help develop the patterns for the products:)\n\n### S
 peaker bio\n\nRaj Desai is the CoFounder of ThinkScream ( a company that b
 uilds RFID and WiFi Products) and TWSS.in ( an online platform that lets y
 ou search explore and book beauty services). He's a big fan of Hactivism a
 nd also runs CodeForChaos that helps solve civic issued using new age tech
 nology.\n
LAST-MODIFIED:20230810T072606Z
LOCATION:Mumbai
ORGANIZER;CN="Meta Refresh":MAILTO:no-reply@hasgeek.com
URL:https://hasgeek.com/metarefresh/2015-mumbai/schedule/interaction-desig
 n-in-the-times-of-the-small-screen-Usmqr7hyeZxu3J4Ai2XYeD
BEGIN:VALARM
ACTION:display
DESCRIPTION:Interaction Design in the times of the Small Screen in 5 minut
 es
TRIGGER:-PT5M
END:VALARM
END:VEVENT
BEGIN:VEVENT
SUMMARY:A framework for building data-driven interactive front-ends 
DTSTART:20150321T063000Z
DTEND:20150321T071500Z
DTSTAMP:20260421T222540Z
UID:session/LRCZG55gotpHZs2DntFsuX@hasgeek.com
SEQUENCE:2
CATEGORIES:Intermediate
CREATED:20150317T095331Z
DESCRIPTION:At Pykih\, we have attempted to solve this problem with a Java
 script Framework (PykQuery.js) that establishes a consistent way for our t
 eam to write data-driven interactive front-ends. \n\n* The problem\n* Case
  study without PykQuery.js\n* Introduction \n* Architecture\n* How it work
 s?\n* Case study with PykQuery.jsBasic HTML and Javascript knowledge\n\n##
 # Speaker bio\n\nRitvvij Parrikh is the founder of https://pykih.com - a d
 ata visualisation company. He works in the intersection of data\, design\,
  statistics and coding. In his previous avatars\, he founded a social ente
 rprise that helped charities with analytics. Prior to that\, he worked for
  many years at Amdocs US designing data-driven systems for AT&T.\n
LAST-MODIFIED:20230810T072606Z
LOCATION:Mumbai
ORGANIZER;CN="Meta Refresh":MAILTO:no-reply@hasgeek.com
URL:https://hasgeek.com/metarefresh/2015-mumbai/schedule/a-framework-for-b
 uilding-data-driven-interactive-front-ends-LRCZG55gotpHZs2DntFsuX
BEGIN:VALARM
ACTION:display
DESCRIPTION:A framework for building data-driven interactive front-ends  i
 n 5 minutes
TRIGGER:-PT5M
END:VALARM
END:VEVENT
BEGIN:VEVENT
SUMMARY:Lunch - hosted by Directi
DTSTART:20150321T071500Z
DTEND:20150321T080000Z
DTSTAMP:20260421T222540Z
UID:session/9PY9EQzgQ2V9Mwa4HzTqKg@hasgeek.com
SEQUENCE:0
CREATED:20150318T154258Z
DESCRIPTION:\n
LAST-MODIFIED:20150318T154308Z
LOCATION:Mumbai
ORGANIZER;CN="Meta Refresh":MAILTO:no-reply@hasgeek.com
BEGIN:VALARM
ACTION:display
DESCRIPTION:Lunch - hosted by Directi in 5 minutes
TRIGGER:-PT5M
END:VALARM
END:VEVENT
BEGIN:VEVENT
SUMMARY:Axure 101
DTSTART:20150321T080000Z
DTEND:20150321T084500Z
DTSTAMP:20260421T222540Z
UID:session/GtKc9jJMf7pZiZjjFLtkys@hasgeek.com
SEQUENCE:2
CATEGORIES:Beginner
CREATED:20150317T095321Z
DESCRIPTION:Basics of Axure\n\n### Speaker bio\n\nUX Designer\n
LAST-MODIFIED:20230810T072606Z
LOCATION:Mumbai
ORGANIZER;CN="Meta Refresh":MAILTO:no-reply@hasgeek.com
URL:https://hasgeek.com/metarefresh/2015-mumbai/schedule/axure-101-GtKc9jJ
 Mf7pZiZjjFLtkys
BEGIN:VALARM
ACTION:display
DESCRIPTION:Axure 101 in 5 minutes
TRIGGER:-PT5M
END:VALARM
END:VEVENT
BEGIN:VEVENT
SUMMARY:Thanks and closing
DTSTART:20150321T084500Z
DTEND:20150321T090000Z
DTSTAMP:20260421T222540Z
UID:session/8p8WchoJSbAsDuRzuwZyeF@hasgeek.com
SEQUENCE:0
CREATED:20150317T112303Z
DESCRIPTION:\n
LAST-MODIFIED:20150320T072133Z
LOCATION:Mumbai
ORGANIZER;CN="Meta Refresh":MAILTO:no-reply@hasgeek.com
BEGIN:VALARM
ACTION:display
DESCRIPTION:Thanks and closing in 5 minutes
TRIGGER:-PT5M
END:VALARM
END:VEVENT
BEGIN:VEVENT
SUMMARY:Contributing to PykCharts.js (Responsive d3.js charts without the 
 complexity of d3.js)
DTSTART:20150321T181500Z
DTEND:20150321T183000Z
DTSTAMP:20260421T222540Z
UID:session/VwdvDNMz3pi33ufDVgZpEQ@hasgeek.com
SEQUENCE:2
CATEGORIES:Intermediate
CREATED:20150318T154129Z
DESCRIPTION:d3.js is powerful but tough to use! You could copy-paste from 
 d3.js examples but they have inconsistent design and input data formats! F
 or pro-users\, coding in d3.js can get easily chaotic. PykCharts.js is our
  attempt to addresses these issues!\n\n* Problems with d3.js\n* Solution\n
 * Charting Design Guidelines we follow\n* Input Data Reusability \n* Code 
 Architecture\n* Configuration Params\n* How to contribute\n\n### Speaker b
 io\n\nRonak Bhandari is a Data Artist at https://pykih.com Data Visualizat
 ion. He primarily codes in Javascript.\n
LAST-MODIFIED:20230810T072606Z
LOCATION:Mumbai
ORGANIZER;CN="Meta Refresh":MAILTO:no-reply@hasgeek.com
URL:https://hasgeek.com/metarefresh/2015-mumbai/schedule/contributing-to-p
 ykcharts-js-responsive-d3-js-charts-without-the-complexity-of-d3-js-VwdvDN
 Mz3pi33ufDVgZpEQ
BEGIN:VALARM
ACTION:display
DESCRIPTION:Contributing to PykCharts.js (Responsive d3.js charts without 
 the complexity of d3.js) in 5 minutes
TRIGGER:-PT5M
END:VALARM
END:VEVENT
BEGIN:VEVENT
SUMMARY:TBA
DTSTART:20150321T181500Z
DTEND:20150321T183000Z
DTSTAMP:20260421T222540Z
UID:session/RLn5aa2HTSMKLkREUescWM@hasgeek.com
SEQUENCE:0
CREATED:20150317T095402Z
DESCRIPTION:\n
LAST-MODIFIED:20150318T154333Z
LOCATION:Mumbai
ORGANIZER;CN="Meta Refresh":MAILTO:no-reply@hasgeek.com
BEGIN:VALARM
ACTION:display
DESCRIPTION:TBA in 5 minutes
TRIGGER:-PT5M
END:VALARM
END:VEVENT
BEGIN:VEVENT
SUMMARY:Tea and Snacks
DTSTART:20150321T181500Z
DTEND:20150321T183000Z
DTSTAMP:20260421T222540Z
UID:session/4BQDk8Vc19Y5i5evaXdmD3@hasgeek.com
SEQUENCE:0
CREATED:20150317T095351Z
DESCRIPTION:\n
LAST-MODIFIED:20150318T154215Z
LOCATION:Mumbai
ORGANIZER;CN="Meta Refresh":MAILTO:no-reply@hasgeek.com
BEGIN:VALARM
ACTION:display
DESCRIPTION:Tea and Snacks in 5 minutes
TRIGGER:-PT5M
END:VALARM
END:VEVENT
END:VCALENDAR
