BEGIN:VCALENDAR
VERSION:2.0
PRODID:-//HasGeek//NONSGML Funnel//EN
DESCRIPTION:Responsive web design and best practices
X-WR-CALDESC:Responsive web design and best practices
NAME:Meta Refresh 2015: Kochi Run-up
X-WR-CALNAME:Meta Refresh 2015: Kochi Run-up
REFRESH-INTERVAL;VALUE=DURATION:PT12H
SUMMARY:Meta Refresh 2015: Kochi Run-up
TIMEZONE-ID:Asia/Kolkata
X-PUBLISHED-TTL:PT12H
X-WR-TIMEZONE:Asia/Kolkata
BEGIN:VEVENT
SUMMARY:Responsive web design  - beyond media queries
DTSTART:20150328T103000Z
DTEND:20150328T111500Z
DTSTAMP:20260421T222540Z
UID:session/6i5oZFjXCdVRi73pPy7X5C@hasgeek.com
SEQUENCE:2
CATEGORIES:Intermediate
CREATED:20150327T135838Z
DESCRIPTION:Web developers today are familiar with the concept of RWD. Its
  been a while since we started working with media queries. But often we us
 e heavy frameworks like bootstrap to build responsive websites and end up 
 with so many unnecessary classes and pre-formatted markups. \nIn this talk
   we'll go through basics of Sass Susy to build smarter web layout\, use o
 f svg in responsive web design and a little about responsive typography.\n
 \n### Speaker bio\n\nI am one of the Co founder of Vyooha. I've have been 
 playing with front end designing for a few years\, and I love exploring ne
 w technologies on the web.\n
LAST-MODIFIED:20230810T072606Z
LOCATION:Kochi
ORGANIZER;CN="Meta Refresh":MAILTO:no-reply@hasgeek.com
URL:https://hasgeek.com/metarefresh/2015-kochi/schedule/responsive-web-des
 ign-beyond-media-queries-6i5oZFjXCdVRi73pPy7X5C
BEGIN:VALARM
ACTION:display
DESCRIPTION:Responsive web design  - beyond media queries in 5 minutes
TRIGGER:-PT5M
END:VALARM
END:VEVENT
BEGIN:VEVENT
SUMMARY:Tea and Networking
DTSTART:20150328T111500Z
DTEND:20150328T113000Z
DTSTAMP:20260421T222540Z
UID:session/VBS4GWWG2NJP7t5xnyXQd5@hasgeek.com
SEQUENCE:0
CREATED:20150327T135854Z
DESCRIPTION:\n
LAST-MODIFIED:20150327T135854Z
LOCATION:Kochi
ORGANIZER;CN="Meta Refresh":MAILTO:no-reply@hasgeek.com
BEGIN:VALARM
ACTION:display
DESCRIPTION:Tea and Networking in 5 minutes
TRIGGER:-PT5M
END:VALARM
END:VEVENT
BEGIN:VEVENT
SUMMARY:In talk with the user and design experience.
DTSTART:20150328T113000Z
DTEND:20150328T121500Z
DTSTAMP:20260421T222540Z
UID:session/AuKSEsruT7jL7borarC4ej@hasgeek.com
SEQUENCE:2
CATEGORIES:Intermediate
CREATED:20150327T135917Z
DESCRIPTION:Organisations are beginning to understand that to stay relevan
 t in this fast-paced\, hyper-connected world\, they have to gain a deep kn
 owledge of their users and design experience that intract with users. The 
 age of user interface designs is no more\, start design experience. For pa
 st 3 years I was working as frond-end ninja and learning users and buildin
 g solutions for ux problems\, this is what I learned.\n\n### Speaker bio\n
 \nI’m a user experience strategist/researcher who dying to know how tech
 onolgy prodcuts profoundly changes human life. I code for good and speak i
 n php\, html\, css\, js etc. I craft experience to make life more simple a
 nd innovative.\n\nIn startup ecosystem for past three years and partner in
  crime in a dozen of products. Expert in the technology\, tools and manage
 ment techniques\, required creating first class products quickly and consi
 stently. Simply\, I call my laziness to build in reality as ‘Ideapreneur
 ’ - so\, worked as consultant/advisor to few startups in Kochi and Banga
 lore.\n
LAST-MODIFIED:20230810T072606Z
LOCATION:Kochi
ORGANIZER;CN="Meta Refresh":MAILTO:no-reply@hasgeek.com
URL:https://hasgeek.com/metarefresh/2015-kochi/schedule/in-talk-with-the-u
 ser-and-design-experience-AuKSEsruT7jL7borarC4ej
BEGIN:VALARM
ACTION:display
DESCRIPTION:In talk with the user and design experience. in 5 minutes
TRIGGER:-PT5M
END:VALARM
END:VEVENT
BEGIN:VEVENT
SUMMARY:Thanks and Open networking
DTSTART:20150328T121500Z
DTEND:20150328T123000Z
DTSTAMP:20260421T222540Z
UID:session/XVkDVuPj2LSCDt1E9jJmko@hasgeek.com
SEQUENCE:0
CREATED:20150327T135954Z
DESCRIPTION:\n
LAST-MODIFIED:20150327T135954Z
LOCATION:Kochi
ORGANIZER;CN="Meta Refresh":MAILTO:no-reply@hasgeek.com
BEGIN:VALARM
ACTION:display
DESCRIPTION:Thanks and Open networking in 5 minutes
TRIGGER:-PT5M
END:VALARM
END:VEVENT
END:VCALENDAR
