BEGIN:VCALENDAR
VERSION:2.0
PRODID:-//HasGeek//NONSGML Funnel//EN
DESCRIPTION:Data-centric mobile web design
X-WR-CALDESC:Data-centric mobile web design
NAME:Meta Refresh 2015: Delhi Run-up
X-WR-CALNAME:Meta Refresh 2015: Delhi Run-up
REFRESH-INTERVAL;VALUE=DURATION:PT12H
SUMMARY:Meta Refresh 2015: Delhi Run-up
TIMEZONE-ID:Asia/Kolkata
X-PUBLISHED-TTL:PT12H
X-WR-TIMEZONE:Asia/Kolkata
BEGIN:VEVENT
SUMMARY:Introductions & Registrations
DTSTART:20150321T043000Z
DTEND:20150321T044500Z
DTSTAMP:20260421T222553Z
UID:session/3zULpcUxKYbHHSYxufW28a@hasgeek.com
SEQUENCE:0
CREATED:20150318T133211Z
DESCRIPTION:\n
LAST-MODIFIED:20150318T133211Z
LOCATION:Delhi
ORGANIZER;CN="Meta Refresh":MAILTO:no-reply@hasgeek.com
BEGIN:VALARM
ACTION:display
DESCRIPTION:Introductions & Registrations in 5 minutes
TRIGGER:-PT5M
END:VALARM
END:VEVENT
BEGIN:VEVENT
SUMMARY:How to Communicate Better with Marketing\, Sales and Other 'Busine
 ss' Types
DTSTART:20150321T044500Z
DTEND:20150321T053000Z
DTSTAMP:20260421T222553Z
UID:session/HPoy3e3kMk2FuxBRwYqekb@hasgeek.com
SEQUENCE:2
CATEGORIES:Advanced
CREATED:20150318T130515Z
DESCRIPTION:Unfortunately\, most organizations these days are comprised of
  people who simply don't know how to code\, or even have a beginner level 
 understanding of the intricacies that go into creating a product.\n\nI'll 
 show you \n1) the language that these marketing and sales types understand
 \n2) how to get your point across with minimal frustration\n3) how to make
  them stop coming to you for the smallest problems\n4) how to tell them th
 at creating a feature in one week is impossible\n5) and how to keep your s
 anity as they run amok in your organization\n\n### Speaker bio\n\nI'm a Se
 nior Marketer at VWO and I've been hobby-coding since 1997. Started with Q
 BASIC\, went on to C++ and currently am trying to figure out Natural Langu
 age Processing in Python. So I understand how engineers and business types
  think\, putting me in a unique position to bridge the gap between them.\n
LAST-MODIFIED:20230810T072606Z
LOCATION:Delhi
ORGANIZER;CN="Meta Refresh":MAILTO:no-reply@hasgeek.com
URL:https://hasgeek.com/metarefresh/2015-delhi/schedule/how-to-communicate
 -better-with-marketing-sales-and-other-business-types-HPoy3e3kMk2FuxBRwYqe
 kb
BEGIN:VALARM
ACTION:display
DESCRIPTION:How to Communicate Better with Marketing\, Sales and Other 'Bu
 siness' Types in 5 minutes
TRIGGER:-PT5M
END:VALARM
END:VEVENT
BEGIN:VEVENT
SUMMARY:Tea and Snacks
DTSTART:20150321T053000Z
DTEND:20150321T054500Z
DTSTAMP:20260421T222553Z
UID:session/Fs2VUHCZ6Z1tsWapYghqAr@hasgeek.com
SEQUENCE:0
CREATED:20150317T111456Z
DESCRIPTION:\n
LAST-MODIFIED:20150318T133040Z
LOCATION:Delhi
ORGANIZER;CN="Meta Refresh":MAILTO:no-reply@hasgeek.com
BEGIN:VALARM
ACTION:display
DESCRIPTION:Tea and Snacks in 5 minutes
TRIGGER:-PT5M
END:VALARM
END:VEVENT
BEGIN:VEVENT
SUMMARY:Hacking to be Performant?
DTSTART:20150321T054500Z
DTEND:20150321T063000Z
DTSTAMP:20260421T222553Z
UID:session/61wUHK7gpeL319qFzrLKSX@hasgeek.com
SEQUENCE:2
CATEGORIES:Intermediate
CREATED:20150317T111440Z
DESCRIPTION:With the increasing complexity of Web applications\, deliverin
 g a performant experience on all devices has become a never ending race. S
 hortcuts cum Hacks are also becoming increasing popular\, though using the
 m is a fine art.\n\nAt the end of this talk\, one will be able to learn ab
 out different popular hacks\, differentiate between Hacks and Approach\, a
 nd the considerations that one must acknowledge before proceeding on with 
 any of them.\n\n### Speaker bio\n\nI hate slow websites\, and thus on a qu
 est to learn\, practice and teach the techniques of writing performant web
  applications.\n
LAST-MODIFIED:20230810T072606Z
LOCATION:Delhi
ORGANIZER;CN="Meta Refresh":MAILTO:no-reply@hasgeek.com
URL:https://hasgeek.com/metarefresh/2015-delhi/schedule/hacking-to-be-perf
 ormant-61wUHK7gpeL319qFzrLKSX
BEGIN:VALARM
ACTION:display
DESCRIPTION:Hacking to be Performant? in 5 minutes
TRIGGER:-PT5M
END:VALARM
END:VEVENT
BEGIN:VEVENT
SUMMARY:Landing Pages Optimization - Things you can do to "Test"
DTSTART:20150321T063000Z
DTEND:20150321T071500Z
DTSTAMP:20260421T222553Z
UID:session/DQoMtupjW7Wdhqnn76VDGM@hasgeek.com
SEQUENCE:2
CATEGORIES:Intermediate
CREATED:20150317T111423Z
DESCRIPTION:Today \, Everything is just ROI. Everything that you build on 
 web \, including every small element on your web page is important. A smal
 l tweak can change your ROI drastically. This talk is focussed towards the
  elements you can test and the best practises for lead gen or Pre Sale pag
 es.\n\n### Speaker bio\n\nVipul Taneja is the CEO of AdSparkx media\, a co
 mpany specializing in affiliate marketing and online advertising.  He has 
 spent the past few years generating enormous leads to 100+ companies accro
 ss the globe. In addition to that\, he is actively involved with startups 
 and mentor them about Marketing.\n
LAST-MODIFIED:20230810T072606Z
LOCATION:Delhi
ORGANIZER;CN="Meta Refresh":MAILTO:no-reply@hasgeek.com
URL:https://hasgeek.com/metarefresh/2015-delhi/schedule/landing-pages-opti
 mization-things-you-can-do-to-test-DQoMtupjW7Wdhqnn76VDGM
BEGIN:VALARM
ACTION:display
DESCRIPTION:Landing Pages Optimization - Things you can do to "Test" in 5 
 minutes
TRIGGER:-PT5M
END:VALARM
END:VEVENT
BEGIN:VEVENT
SUMMARY:TBA
DTSTART:20150321T071500Z
DTEND:20150321T073000Z
DTSTAMP:20260421T222553Z
UID:session/XUJiqS9yk5QGDfE62RiSCB@hasgeek.com
SEQUENCE:0
CREATED:20150317T111601Z
DESCRIPTION:\n
LAST-MODIFIED:20150318T133104Z
LOCATION:Delhi
ORGANIZER;CN="Meta Refresh":MAILTO:no-reply@hasgeek.com
BEGIN:VALARM
ACTION:display
DESCRIPTION:TBA in 5 minutes
TRIGGER:-PT5M
END:VALARM
END:VEVENT
BEGIN:VEVENT
SUMMARY:Lunch- Hosted by Wingify
DTSTART:20150321T071500Z
DTEND:20150321T080000Z
DTSTAMP:20260421T222553Z
UID:session/X7F8ixUm4CK7DZQkPP1Swo@hasgeek.com
SEQUENCE:0
CREATED:20150317T111549Z
DESCRIPTION:\n
LAST-MODIFIED:20150318T133102Z
LOCATION:Delhi
ORGANIZER;CN="Meta Refresh":MAILTO:no-reply@hasgeek.com
BEGIN:VALARM
ACTION:display
DESCRIPTION:Lunch- Hosted by Wingify in 5 minutes
TRIGGER:-PT5M
END:VALARM
END:VEVENT
BEGIN:VEVENT
SUMMARY:TBA
DTSTART:20150321T073000Z
DTEND:20150321T074500Z
DTSTAMP:20260421T222553Z
UID:session/4Dk5a4njWkp65z8tCRcdpf@hasgeek.com
SEQUENCE:0
CREATED:20150317T111705Z
DESCRIPTION:\n
LAST-MODIFIED:20150318T133106Z
LOCATION:Delhi
ORGANIZER;CN="Meta Refresh":MAILTO:no-reply@hasgeek.com
BEGIN:VALARM
ACTION:display
DESCRIPTION:TBA in 5 minutes
TRIGGER:-PT5M
END:VALARM
END:VEVENT
BEGIN:VEVENT
SUMMARY:TBA
DTSTART:20150321T074500Z
DTEND:20150321T080000Z
DTSTAMP:20260421T222553Z
UID:session/AnM1dTAy83M6tX2KSUHVcv@hasgeek.com
SEQUENCE:0
CREATED:20150317T111623Z
DESCRIPTION:\n
LAST-MODIFIED:20150318T133110Z
LOCATION:Delhi
ORGANIZER;CN="Meta Refresh":MAILTO:no-reply@hasgeek.com
BEGIN:VALARM
ACTION:display
DESCRIPTION:TBA in 5 minutes
TRIGGER:-PT5M
END:VALARM
END:VEVENT
BEGIN:VEVENT
SUMMARY:How to optimize your webpages - lessons learnt from 101 VWO custom
 ers'  A/B tests
DTSTART:20150321T080000Z
DTEND:20150321T084500Z
DTSTAMP:20260421T222553Z
UID:session/M7sy33ZTFnFDPuUYYAtki@hasgeek.com
SEQUENCE:2
CATEGORIES:Beginner
CREATED:20150317T111432Z
DESCRIPTION:Get answers to\n- What should you test on your webpages?\n- Ho
 w to frame a test hypothesis?\n- What are the common mistakes that you sho
 uld avoid when testing?\n- When should you decide to implement a change th
 at you tested?\n- How to analyze your test results to get meaningful insig
 hts?\n\nand many more...\n\n### Speaker bio\n\nDigital Marketer at Wingify
 .\nI handle all paid acquisitions and customer case studies.\n
LAST-MODIFIED:20230810T072606Z
LOCATION:Delhi
ORGANIZER;CN="Meta Refresh":MAILTO:no-reply@hasgeek.com
URL:https://hasgeek.com/metarefresh/2015-delhi/schedule/how-to-optimize-yo
 ur-webpages-lessons-learnt-from-101-vwo-customers-a-b-tests-M7sy33ZTFnFDPu
 UYYAtki
BEGIN:VALARM
ACTION:display
DESCRIPTION:How to optimize your webpages - lessons learnt from 101 VWO cu
 stomers'  A/B tests in 5 minutes
TRIGGER:-PT5M
END:VALARM
END:VEVENT
BEGIN:VEVENT
SUMMARY:How to automatically generate test for your JavaScript file
DTSTART:20150321T084500Z
DTEND:20150321T093000Z
DTSTAMP:20260421T222553Z
UID:session/V9wZHvSYXgvKZzDeEEWzos@hasgeek.com
SEQUENCE:2
CATEGORIES:Advanced
CREATED:20150318T130801Z
DESCRIPTION:AngularJS test generator. It's an yeoman generator. Generates 
 customized Jasmine test for your angularJs file [Right now only works for 
 controllers . test generator for directives and services are under constru
 ction...]\n\n[x] Takes path of the angularJs file to be tested as input.\n
 [x] Parses the file and generates a test file.\n[x] Be ready for surprise 
 - you will be amazed to see that most of these auto generated test are act
 ually passing \, and you need to edit rest\, to make them pass (Obviously 
 ).\n[x] this auto generated test file takes your code coverage for that fi
 le from 0% to 40-50% without writing a single line of code . Now that's Fr
 eaking awesome!!!\n\n### Speaker bio\n\nhttps://www.linkedin.com/pub/sapta
 rshi-chatterjee/13/226/55a\n
LAST-MODIFIED:20230810T072606Z
LOCATION:Delhi
ORGANIZER;CN="Meta Refresh":MAILTO:no-reply@hasgeek.com
URL:https://hasgeek.com/metarefresh/2015-delhi/schedule/how-to-automatical
 ly-generate-test-for-your-javascript-file-V9wZHvSYXgvKZzDeEEWzos
BEGIN:VALARM
ACTION:display
DESCRIPTION:How to automatically generate test for your JavaScript file in
  5 minutes
TRIGGER:-PT5M
END:VALARM
END:VEVENT
END:VCALENDAR
