BEGIN:VCALENDAR
VERSION:2.0
PRODID:-//HasGeek//NONSGML Funnel//EN
DESCRIPTION:Designing websites with data that changes over time
X-WR-CALDESC:Designing websites with data that changes over time
NAME:Meta Refresh 2015: Chennai Run-up
X-WR-CALNAME:Meta Refresh 2015: Chennai Run-up
REFRESH-INTERVAL;VALUE=DURATION:PT12H
SUMMARY:Meta Refresh 2015: Chennai Run-up
TIMEZONE-ID:Asia/Kolkata
X-PUBLISHED-TTL:PT12H
X-WR-TIMEZONE:Asia/Kolkata
BEGIN:VEVENT
SUMMARY:Meta Refresh 2015: Chennai Run-up
DTSTART:20150321T033000Z
DTEND:20150321T043000Z
DTSTAMP:20260421T222540Z
UID:session/C75rGQS95i7hfhnUR3Mvei@hasgeek.com
SEQUENCE:0
CREATED:20190703T152817Z
DESCRIPTION:\n
GEO:12.9849067;80.2404069
LAST-MODIFIED:20190705T070617Z
LOCATION:Room - Indix office\, Ramanujan IT City\nChennai\nIN
ORGANIZER;CN="Meta Refresh":MAILTO:no-reply@hasgeek.com
BEGIN:VALARM
ACTION:display
DESCRIPTION:Meta Refresh 2015: Chennai Run-up in Room in 5 minutes
TRIGGER:-PT5M
END:VALARM
END:VEVENT
END:VCALENDAR
