BEGIN:VCALENDAR
VERSION:2.0
PRODID:-//HasGeek//NONSGML Funnel//EN
DESCRIPTION:Two-day hands-on workshop on designing for mobiles.
X-WR-CALDESC:Two-day hands-on workshop on designing for mobiles.
NAME:Responsive web design workshop
X-WR-CALNAME:Responsive web design workshop
REFRESH-INTERVAL;VALUE=DURATION:PT12H
SUMMARY:Responsive web design workshop
TIMEZONE-ID:Asia/Kolkata
X-PUBLISHED-TTL:PT12H
X-WR-TIMEZONE:Asia/Kolkata
BEGIN:VEVENT
SUMMARY:Responsive web design workshop
DTSTART:20130614T033000Z
DTEND:20130614T043000Z
DTSTAMP:20260421T222358Z
UID:session/V28sLnUAmTgbnf6kF1wpF3@hasgeek.com
SEQUENCE:0
CREATED:20190703T153057Z
DESCRIPTION:\n
LAST-MODIFIED:20190703T153057Z
LOCATION:Bangalore
ORGANIZER;CN="Meta Refresh":MAILTO:no-reply@hasgeek.com
BEGIN:VALARM
ACTION:display
DESCRIPTION:Responsive web design workshop in 5 minutes
TRIGGER:-PT5M
END:VALARM
END:VEVENT
BEGIN:VEVENT
SUMMARY:Responsive web design workshop
DTSTART:20130615T033000Z
DTEND:20130615T043000Z
DTSTAMP:20260421T222358Z
UID:session/PfzVPoZqJDJ6KTTkcZsPqN@hasgeek.com
SEQUENCE:0
CREATED:20190703T153102Z
DESCRIPTION:\n
LAST-MODIFIED:20190703T153105Z
LOCATION:Bangalore
ORGANIZER;CN="Meta Refresh":MAILTO:no-reply@hasgeek.com
BEGIN:VALARM
ACTION:display
DESCRIPTION:Responsive web design workshop in 5 minutes
TRIGGER:-PT5M
END:VALARM
END:VEVENT
END:VCALENDAR
