BEGIN:VCALENDAR
VERSION:2.0
PRODID:-//HasGeek//NONSGML Funnel//EN
DESCRIPTION:Understand what the Personal Data Protection Bill means for yo
 ur company and users
X-WR-CALDESC:Understand what the Personal Data Protection Bill means for y
 our company and users
NAME:Workshop: India’s Personal Data Protection Bill
X-WR-CALNAME:Workshop: India’s Personal Data Protection Bill
REFRESH-INTERVAL;VALUE=DURATION:PT12H
SUMMARY:Workshop: India’s Personal Data Protection Bill
TIMEZONE-ID:Asia/Kolkata
X-PUBLISHED-TTL:PT12H
X-WR-TIMEZONE:Asia/Kolkata
BEGIN:VEVENT
SUMMARY:Check In
DTSTART:20200109T033000Z
DTEND:20200109T043000Z
DTSTAMP:20260421T032916Z
UID:session/9ucag3uTvgXYEmx8q3pCK8@hasgeek.com
SEQUENCE:0
CREATED:20200103T141615Z
DESCRIPTION:\n
LAST-MODIFIED:20200103T141620Z
LOCATION:New Delhi
ORGANIZER;CN=MediaNama:MAILTO:no-reply@hasgeek.com
BEGIN:VALARM
ACTION:display
DESCRIPTION:Check In in 5 minutes
TRIGGER:-PT5M
END:VALARM
END:VEVENT
BEGIN:VEVENT
SUMMARY:Introduction to the PDP Bill
DTSTART:20200109T043000Z
DTEND:20200109T050000Z
DTSTAMP:20260421T032916Z
UID:session/K7xHhW2CghSgMV57DFA8oU@hasgeek.com
SEQUENCE:0
CREATED:20200104T074837Z
DESCRIPTION:\n
GEO:28.6006039;77.2167227
LAST-MODIFIED:20200104T074843Z
LOCATION:Viceregal Hall - The Claridges (Viceregal Hall)\nNew Delhi\nIN
ORGANIZER;CN=MediaNama:MAILTO:no-reply@hasgeek.com
BEGIN:VALARM
ACTION:display
DESCRIPTION:Introduction to the PDP Bill in Viceregal Hall in 5 minutes
TRIGGER:-PT5M
END:VALARM
END:VEVENT
BEGIN:VEVENT
SUMMARY:Case Studies - Discussion
DTSTART:20200109T050000Z
DTEND:20200109T053000Z
DTSTAMP:20260421T032916Z
UID:session/VkLakzM2QvKuRnDc1Rs4aQ@hasgeek.com
SEQUENCE:0
CREATED:20200104T074905Z
DESCRIPTION:\n
GEO:28.6006039;77.2167227
LAST-MODIFIED:20200104T074909Z
LOCATION:Viceregal Hall - The Claridges (Viceregal Hall)\nNew Delhi\nIN
ORGANIZER;CN=MediaNama:MAILTO:no-reply@hasgeek.com
BEGIN:VALARM
ACTION:display
DESCRIPTION:Case Studies - Discussion in Viceregal Hall in 5 minutes
TRIGGER:-PT5M
END:VALARM
END:VEVENT
BEGIN:VEVENT
SUMMARY:Q&A with panel of legal experts
DTSTART:20200109T053000Z
DTEND:20200109T063000Z
DTSTAMP:20260421T032916Z
UID:session/PH23tSa2HZiFVCksuNobJn@hasgeek.com
SEQUENCE:0
CREATED:20200104T074943Z
DESCRIPTION:\n
GEO:28.6006039;77.2167227
LAST-MODIFIED:20200104T074951Z
LOCATION:Viceregal Hall - The Claridges (Viceregal Hall)\nNew Delhi\nIN
ORGANIZER;CN=MediaNama:MAILTO:no-reply@hasgeek.com
BEGIN:VALARM
ACTION:display
DESCRIPTION:Q&A with panel of legal experts in Viceregal Hall in 5 minutes
TRIGGER:-PT5M
END:VALARM
END:VEVENT
END:VCALENDAR
