BEGIN:VCALENDAR
VERSION:2.0
PRODID:-//HasGeek//NONSGML Funnel//EN
DESCRIPTION:Understand what the Personal Data Protection Bill means for yo
 ur company and users
X-WR-CALDESC:Understand what the Personal Data Protection Bill means for y
 our company and users
NAME:Workshop: India’s Personal Data Protection Bill
X-WR-CALNAME:Workshop: India’s Personal Data Protection Bill
REFRESH-INTERVAL;VALUE=DURATION:PT12H
SUMMARY:Workshop: India’s Personal Data Protection Bill
TIMEZONE-ID:Asia/Kolkata
X-PUBLISHED-TTL:PT12H
X-WR-TIMEZONE:Asia/Kolkata
BEGIN:VEVENT
SUMMARY:Check-in
DTSTART:20200116T033000Z
DTEND:20200116T043000Z
DTSTAMP:20260421T032959Z
UID:session/VQ66MQSLZq4pvEkqyDmF7p@hasgeek.com
SEQUENCE:0
CREATED:20200104T103740Z
DESCRIPTION:\n
LAST-MODIFIED:20200104T103747Z
LOCATION:Bangalore
ORGANIZER;CN=MediaNama:MAILTO:no-reply@hasgeek.com
BEGIN:VALARM
ACTION:display
DESCRIPTION:Check-in in 5 minutes
TRIGGER:-PT5M
END:VALARM
END:VEVENT
BEGIN:VEVENT
SUMMARY:Introduction to the bill
DTSTART:20200116T043000Z
DTEND:20200116T050000Z
DTSTAMP:20260421T032959Z
UID:session/Xq9UAR8YLeKjZiwfGeP6Wc@hasgeek.com
SEQUENCE:0
CREATED:20200104T103843Z
DESCRIPTION:\n
LAST-MODIFIED:20200104T103849Z
LOCATION:Bangalore
ORGANIZER;CN=MediaNama:MAILTO:no-reply@hasgeek.com
BEGIN:VALARM
ACTION:display
DESCRIPTION:Introduction to the bill in 5 minutes
TRIGGER:-PT5M
END:VALARM
END:VEVENT
BEGIN:VEVENT
SUMMARY:Case-studies
DTSTART:20200116T050000Z
DTEND:20200116T053000Z
DTSTAMP:20260421T032959Z
UID:session/M69HFLaVkjNR2uBhQhRmRN@hasgeek.com
SEQUENCE:0
CREATED:20200104T103915Z
DESCRIPTION:\n
LAST-MODIFIED:20200104T103918Z
LOCATION:Bangalore
ORGANIZER;CN=MediaNama:MAILTO:no-reply@hasgeek.com
BEGIN:VALARM
ACTION:display
DESCRIPTION:Case-studies in 5 minutes
TRIGGER:-PT5M
END:VALARM
END:VEVENT
BEGIN:VEVENT
SUMMARY:Q&A
DTSTART:20200116T053000Z
DTEND:20200116T063000Z
DTSTAMP:20260421T032959Z
UID:session/TJ7iHgvpJyTSEVL5cbSQkr@hasgeek.com
SEQUENCE:0
CREATED:20200104T104029Z
DESCRIPTION:\n
LAST-MODIFIED:20200104T104036Z
LOCATION:Bangalore
ORGANIZER;CN=MediaNama:MAILTO:no-reply@hasgeek.com
BEGIN:VALARM
ACTION:display
DESCRIPTION:Q&A in 5 minutes
TRIGGER:-PT5M
END:VALARM
END:VEVENT
END:VCALENDAR
