BEGIN:VCALENDAR
VERSION:2.0
PRODID:-//HasGeek//NONSGML Funnel//EN
DESCRIPTION:Simple. Lightweight. Powerful as hell.
X-WR-CALDESC:Simple. Lightweight. Powerful as hell.
NAME:Workshop on Alpine Js
X-WR-CALNAME:Workshop on Alpine Js
REFRESH-INTERVAL;VALUE=DURATION:PT12H
SUMMARY:Workshop on Alpine Js
TIMEZONE-ID:Asia/Kolkata
X-PUBLISHED-TTL:PT12H
X-WR-TIMEZONE:Asia/Kolkata
BEGIN:VEVENT
SUMMARY:Hands-On with Alpine.js
DTSTART:20250322T053000Z
DTEND:20250322T063000Z
DTSTAMP:20260421T083531Z
UID:session/B9wcy2GUJBQMmo2kPRF6Dk@hasgeek.com
SEQUENCE:3
CREATED:20250317T091838Z
DESCRIPTION:Join us for an engaging hands-on session on Alpine.js!
LAST-MODIFIED:20250317T091938Z
LOCATION:LUCKNOW
ORGANIZER;CN="Coders of Lucknow":MAILTO:no-reply@hasgeek.com
BEGIN:VALARM
ACTION:display
DESCRIPTION:Hands-On with Alpine.js in 5 minutes
TRIGGER:-PT5M
END:VALARM
END:VEVENT
END:VCALENDAR
