BEGIN:VCALENDAR
VERSION:2.0
PRODID:-//HasGeek//NONSGML Funnel//EN
DESCRIPTION:Ladakh Science camp is a step towards encouraging STEM educati
 on (Science\, Technology\, Engineering and Mathematics) by providing the p
 ractical exposure in the field of science
X-WR-CALDESC:Ladakh Science camp is a step towards encouraging STEM educat
 ion (Science\, Technology\, Engineering and Mathematics) by providing the 
 practical exposure in the field of science
NAME:Ladakh Science Camp\, Batch-3
X-WR-CALNAME:Ladakh Science Camp\, Batch-3
REFRESH-INTERVAL;VALUE=DURATION:PT12H
SUMMARY:Ladakh Science Camp\, Batch-3
TIMEZONE-ID:Asia/Kolkata
X-PUBLISHED-TTL:PT12H
X-WR-TIMEZONE:Asia/Kolkata
BEGIN:VEVENT
SUMMARY:Ladakh Science Camp\, Batch-3
DTSTART:20230828T033000Z
DTEND:20230902T123000Z
DTSTAMP:20260422T001537Z
UID:session/R1mfuRVQyWrpevRjGogqEL@hasgeek.com
SEQUENCE:25
CREATED:20230926T065623Z
DESCRIPTION:Ladakh Science Foundation - LSF organised "Ladakh Science Camp
 \, Batch-3"45 Students and Science enthusiasts across India (Bangalore\, P
 une\, Mumbai\, Hyderabad\, Assam\, Delhi and Ladakh) participated in this 
 multi-cultural\, multi-lingual Science Camp. \n\nThey were exposed to the 
 various scientific research being conducted in research organizations in L
 adakh such as DIHAR-DRDO\, NISR (Sowa Rigpa)\, IAO-IIA Hanle\, Hanle Dark 
 Sky Reserve\, BARC-MACE-HIGAR Telescopes\, 2M Himalyaan Chandra Telescope\
 , 50CM Robotics Telescope\, ISRO project site\,  Night Sky watch program\,
  Puga Geothermal site\, Hot Springs Puga & Chumathang\, NIELIT incubation 
 centre\, IMD-Metrological centre\, SECMOL Campus\, Archeological sites (Le
 h Palace\, Shey Palace etc).\n\nWe thank all the above organizations and i
 ndividual experts for extending their selfless and full support for the su
 ccessful and productive conduct of Science Camps.
LAST-MODIFIED:20231107T072157Z
LOCATION:Ladakh - https://hasgeek.com/lsf/batch-3/
ORGANIZER;CN="Ladakh Science Foundation":MAILTO:no-reply@hasgeek.com
URL:https://hasgeek.com/lsf/batch-3/
BEGIN:VALARM
ACTION:display
DESCRIPTION:Ladakh Science Camp\, Batch-3 in 5 minutes
TRIGGER:-PT5M
END:VALARM
END:VEVENT
END:VCALENDAR
