BEGIN:VCALENDAR
VERSION:2.0
PRODID:-//HasGeek//NONSGML Funnel//EN
DESCRIPTION:A public lecture on alternative frameworks of data collection
X-WR-CALDESC:A public lecture on alternative frameworks of data collection
NAME:The big data paradox: how a company like Mozilla is focussing on bett
 er data\, not more
X-WR-CALNAME:The big data paradox: how a company like Mozilla is focussing
  on better data\, not more
REFRESH-INTERVAL;VALUE=DURATION:PT12H
SUMMARY:The big data paradox: how a company like Mozilla is focussing on b
 etter data\, not more
TIMEZONE-ID:Asia/Kolkata
X-PUBLISHED-TTL:PT12H
X-WR-TIMEZONE:Asia/Kolkata
BEGIN:VEVENT
SUMMARY:Registrations and tea
DTSTART:20191009T121500Z
DTEND:20191009T123000Z
DTSTAMP:20260421T210250Z
UID:session/GZ8JYvq4cKwqvV3oCFue1V@hasgeek.com
SEQUENCE:0
CREATED:20190929T121359Z
DESCRIPTION:\n
GEO:12.96688235;77.6352549587786
LAST-MODIFIED:20190929T121414Z
LOCATION:Hall 1 - Bangalore International Centre (BIC)\nBengaluru\nIN
ORGANIZER;CN="Lean Data Practices":MAILTO:no-reply@hasgeek.com
BEGIN:VALARM
ACTION:display
DESCRIPTION:Registrations and tea in Hall 1 in 5 minutes
TRIGGER:-PT5M
END:VALARM
END:VEVENT
BEGIN:VEVENT
SUMMARY:Introduction to LDP and why Mozilla Corporation is invested in thi
 s project
DTSTART:20191009T123000Z
DTEND:20191009T124000Z
DTSTAMP:20260421T210250Z
UID:session/7bTRfTh74hHXxsC3z7DqwF@hasgeek.com
SEQUENCE:0
CREATED:20200724T041845Z
DESCRIPTION:\n
GEO:12.96688235;77.6352549587786
LAST-MODIFIED:20200724T042533Z
LOCATION:Hall 1 - Bangalore International Centre (BIC)\nBengaluru\nIN
ORGANIZER;CN="Lean Data Practices":MAILTO:no-reply@hasgeek.com
BEGIN:VALARM
ACTION:display
DESCRIPTION:Introduction to LDP and why Mozilla Corporation is invested in
  this project in Hall 1 in 5 minutes
TRIGGER:-PT5M
END:VALARM
END:VEVENT
BEGIN:VEVENT
SUMMARY:The Big Data Paradox -  how a company like Mozilla is focussing on
  better data\, not more
DTSTART:20191009T124000Z
DTEND:20191009T130500Z
DTSTAMP:20260421T210250Z
UID:session/Sg51ruesVzFqy5vMtzfXqr@hasgeek.com
SEQUENCE:0
CREATED:20190929T121434Z
DESCRIPTION:\n
GEO:12.96688235;77.6352549587786
LAST-MODIFIED:20200724T042023Z
LOCATION:Hall 1 - Bangalore International Centre (BIC)\nBengaluru\nIN
ORGANIZER;CN="Lean Data Practices":MAILTO:no-reply@hasgeek.com
BEGIN:VALARM
ACTION:display
DESCRIPTION:The Big Data Paradox -  how a company like Mozilla is focussin
 g on better data\, not more in Hall 1 in 5 minutes
TRIGGER:-PT5M
END:VALARM
END:VEVENT
BEGIN:VEVENT
SUMMARY:Why companies are adopting Lean Data Practices
DTSTART:20191009T130500Z
DTEND:20191009T132500Z
DTSTAMP:20260421T210250Z
UID:session/GAfz5iZ4d9jA2N5ZjuN3Q8@hasgeek.com
SEQUENCE:0
CREATED:20200724T041942Z
DESCRIPTION:\n
GEO:12.96688235;77.6352549587786
LAST-MODIFIED:20200724T042733Z
LOCATION:Hall 1 - Bangalore International Centre (BIC)\nBengaluru\nIN
ORGANIZER;CN="Lean Data Practices":MAILTO:no-reply@hasgeek.com
BEGIN:VALARM
ACTION:display
DESCRIPTION:Why companies are adopting Lean Data Practices in Hall 1 in 5 
 minutes
TRIGGER:-PT5M
END:VALARM
END:VEVENT
BEGIN:VEVENT
SUMMARY:Discussion on data practices
DTSTART:20191009T132500Z
DTEND:20191009T135000Z
DTSTAMP:20260421T210250Z
UID:session/LpkRef1qT7anHFzmQA7SY6@hasgeek.com
SEQUENCE:0
CREATED:20190929T121515Z
DESCRIPTION:\n
GEO:12.96688235;77.6352549587786
LAST-MODIFIED:20200724T042943Z
LOCATION:Hall 1 - Bangalore International Centre (BIC)\nBengaluru\nIN
ORGANIZER;CN="Lean Data Practices":MAILTO:no-reply@hasgeek.com
BEGIN:VALARM
ACTION:display
DESCRIPTION:Discussion on data practices in Hall 1 in 5 minutes
TRIGGER:-PT5M
END:VALARM
END:VEVENT
BEGIN:VEVENT
SUMMARY:Closing\; vote of thanks
DTSTART:20191009T135000Z
DTEND:20191009T140000Z
DTSTAMP:20260421T210250Z
UID:session/8Sy2JzcbGhpmZfMZEZCXzT@hasgeek.com
SEQUENCE:0
CREATED:20190929T121609Z
DESCRIPTION:\n
GEO:12.96688235;77.6352549587786
LAST-MODIFIED:20190929T121614Z
LOCATION:Hall 1 - Bangalore International Centre (BIC)\nBengaluru\nIN
ORGANIZER;CN="Lean Data Practices":MAILTO:no-reply@hasgeek.com
BEGIN:VALARM
ACTION:display
DESCRIPTION:Closing\; vote of thanks in Hall 1 in 5 minutes
TRIGGER:-PT5M
END:VALARM
END:VEVENT
BEGIN:VEVENT
SUMMARY:Tea and networking
DTSTART:20191009T140000Z
DTEND:20191009T143000Z
DTSTAMP:20260421T210250Z
UID:session/X3SvVpgqPZamHzaZRTs34g@hasgeek.com
SEQUENCE:0
CREATED:20190929T121535Z
DESCRIPTION:\n
GEO:12.96688235;77.6352549587786
LAST-MODIFIED:20190929T121618Z
LOCATION:Hall 1 - Bangalore International Centre (BIC)\nBengaluru\nIN
ORGANIZER;CN="Lean Data Practices":MAILTO:no-reply@hasgeek.com
BEGIN:VALARM
ACTION:display
DESCRIPTION:Tea and networking in Hall 1 in 5 minutes
TRIGGER:-PT5M
END:VALARM
END:VEVENT
END:VCALENDAR
