BEGIN:VCALENDAR
VERSION:2.0
PRODID:-//HasGeek//NONSGML Funnel//EN
DESCRIPTION:An initiative for managing data\, reducing risk and building t
 rust
X-WR-CALDESC:An initiative for managing data\, reducing risk and building 
 trust
NAME:Privacy Matters roundtable and Lean Data Practices workshop
X-WR-CALNAME:Privacy Matters roundtable and Lean Data Practices workshop
REFRESH-INTERVAL;VALUE=DURATION:PT12H
SUMMARY:Privacy Matters roundtable and Lean Data Practices workshop
TIMEZONE-ID:Asia/Kolkata
X-PUBLISHED-TTL:PT12H
X-WR-TIMEZONE:Asia/Kolkata
BEGIN:VEVENT
SUMMARY:Check-in and tea
DTSTART:20191010T040000Z
DTEND:20191010T041500Z
DTSTAMP:20260421T210228Z
UID:session/EN8umbYoFqYpYxt3EUcnTw@hasgeek.com
SEQUENCE:0
CREATED:20190828T101240Z
DESCRIPTION:\n
GEO:12.966784358769928;77.63528857947676
LAST-MODIFIED:20190828T102541Z
LOCATION:Hall 1 - Bangalore International Centre (BIC)\nBengaluru\nIN
ORGANIZER;CN="Lean Data Practices":MAILTO:no-reply@hasgeek.com
BEGIN:VALARM
ACTION:display
DESCRIPTION:Check-in and tea in Hall 1 in 5 minutes
TRIGGER:-PT5M
END:VALARM
END:VEVENT
BEGIN:VEVENT
SUMMARY:Introduction to the round table and plan for the day
DTSTART:20191010T041500Z
DTEND:20191010T042000Z
DTSTAMP:20260421T210228Z
UID:session/4H1zPf2Arer8uGXHYJvhxj@hasgeek.com
SEQUENCE:0
CREATED:20190828T101325Z
DESCRIPTION:\n
GEO:12.966784358769928;77.63528857947676
LAST-MODIFIED:20190828T102544Z
LOCATION:Hall 1 - Bangalore International Centre (BIC)\nBengaluru\nIN
ORGANIZER;CN="Lean Data Practices":MAILTO:no-reply@hasgeek.com
BEGIN:VALARM
ACTION:display
DESCRIPTION:Introduction to the round table and plan for the day in Hall 1
  in 5 minutes
TRIGGER:-PT5M
END:VALARM
END:VEVENT
BEGIN:VEVENT
SUMMARY:Introductions of participants and workshop instructor
DTSTART:20191010T042000Z
DTEND:20191010T044000Z
DTSTAMP:20260421T210228Z
UID:session/VVjZBpYaS3mzTLwG5HKQt3@hasgeek.com
SEQUENCE:0
CREATED:20190828T102258Z
DESCRIPTION:\n
GEO:12.966784358769928;77.63528857947676
LAST-MODIFIED:20190828T102545Z
LOCATION:Hall 1 - Bangalore International Centre (BIC)\nBengaluru\nIN
ORGANIZER;CN="Lean Data Practices":MAILTO:no-reply@hasgeek.com
BEGIN:VALARM
ACTION:display
DESCRIPTION:Introductions of participants and workshop instructor in Hall 
 1 in 5 minutes
TRIGGER:-PT5M
END:VALARM
END:VEVENT
BEGIN:VEVENT
SUMMARY:Lean Data Practices pulse sharing
DTSTART:20191010T044000Z
DTEND:20191010T051000Z
DTSTAMP:20260421T210228Z
UID:session/MvRraB1PfnNphyARQEWA86@hasgeek.com
SEQUENCE:0
CREATED:20190828T102402Z
DESCRIPTION:\n
GEO:12.966784358769928;77.63528857947676
LAST-MODIFIED:20190828T102825Z
LOCATION:Hall 1 - Bangalore International Centre (BIC)\nBengaluru\nIN
ORGANIZER;CN="Lean Data Practices":MAILTO:no-reply@hasgeek.com
BEGIN:VALARM
ACTION:display
DESCRIPTION:Lean Data Practices pulse sharing in Hall 1 in 5 minutes
TRIGGER:-PT5M
END:VALARM
END:VEVENT
BEGIN:VEVENT
SUMMARY:Discussion on building trust
DTSTART:20191010T051000Z
DTEND:20191010T054000Z
DTSTAMP:20260421T210228Z
UID:session/AwwgjiAG5guwmpxKQ9NYJQ@hasgeek.com
SEQUENCE:0
CREATED:20190828T102735Z
DESCRIPTION:\n
GEO:12.966784358769928;77.63528857947676
LAST-MODIFIED:20191009T095937Z
LOCATION:Hall 1 - Bangalore International Centre (BIC)\nBengaluru\nIN
ORGANIZER;CN="Lean Data Practices":MAILTO:no-reply@hasgeek.com
BEGIN:VALARM
ACTION:display
DESCRIPTION:Discussion on building trust in Hall 1 in 5 minutes
TRIGGER:-PT5M
END:VALARM
END:VEVENT
BEGIN:VEVENT
SUMMARY:Morning beverage break
DTSTART:20191010T054000Z
DTEND:20191010T060000Z
DTSTAMP:20260421T210228Z
UID:session/GapE25n6wxWdr3mimfomSJ@hasgeek.com
SEQUENCE:0
CREATED:20190828T102608Z
DESCRIPTION:\n
LAST-MODIFIED:20190828T102619Z
LOCATION:Bangalore
ORGANIZER;CN="Lean Data Practices":MAILTO:no-reply@hasgeek.com
BEGIN:VALARM
ACTION:display
DESCRIPTION:Morning beverage break in 5 minutes
TRIGGER:-PT5M
END:VALARM
END:VEVENT
BEGIN:VEVENT
SUMMARY:Discussion on managing data
DTSTART:20191010T060000Z
DTEND:20191010T063000Z
DTSTAMP:20260421T210228Z
UID:session/FZmTUAuM4N37SnzQWhT5yT@hasgeek.com
SEQUENCE:0
CREATED:20190828T102441Z
DESCRIPTION:\n
GEO:12.966784358769928;77.63528857947676
LAST-MODIFIED:20191009T095941Z
LOCATION:Hall 1 - Bangalore International Centre (BIC)\nBengaluru\nIN
ORGANIZER;CN="Lean Data Practices":MAILTO:no-reply@hasgeek.com
BEGIN:VALARM
ACTION:display
DESCRIPTION:Discussion on managing data in Hall 1 in 5 minutes
TRIGGER:-PT5M
END:VALARM
END:VEVENT
BEGIN:VEVENT
SUMMARY:Discussion on managing risk
DTSTART:20191010T063000Z
DTEND:20191010T070000Z
DTSTAMP:20260421T210228Z
UID:session/Dn7KeVHGLwsi9GsXTZucu5@hasgeek.com
SEQUENCE:0
CREATED:20190828T102640Z
DESCRIPTION:\n
GEO:12.966784358769928;77.63528857947676
LAST-MODIFIED:20191009T095926Z
LOCATION:Hall 1 - Bangalore International Centre (BIC)\nBengaluru\nIN
ORGANIZER;CN="Lean Data Practices":MAILTO:no-reply@hasgeek.com
BEGIN:VALARM
ACTION:display
DESCRIPTION:Discussion on managing risk in Hall 1 in 5 minutes
TRIGGER:-PT5M
END:VALARM
END:VEVENT
BEGIN:VEVENT
SUMMARY:Post-round table survey
DTSTART:20191010T070000Z
DTEND:20191010T072000Z
DTSTAMP:20260421T210228Z
UID:session/TjWPusHtNAz3joWipN9Ad1@hasgeek.com
SEQUENCE:0
CREATED:20190828T102852Z
DESCRIPTION:\n
GEO:12.966784358769928;77.63528857947676
LAST-MODIFIED:20190828T102858Z
LOCATION:Hall 1 - Bangalore International Centre (BIC)\nBengaluru\nIN
ORGANIZER;CN="Lean Data Practices":MAILTO:no-reply@hasgeek.com
BEGIN:VALARM
ACTION:display
DESCRIPTION:Post-round table survey in Hall 1 in 5 minutes
TRIGGER:-PT5M
END:VALARM
END:VEVENT
BEGIN:VEVENT
SUMMARY:Concluding session for the Round Table: Why this matters and the i
 mpact on ethics\, efficiency and effectivness
DTSTART:20191010T072000Z
DTEND:20191010T075000Z
DTSTAMP:20260421T210228Z
UID:session/Ufy9hQwkPUTyWJUtkL2i3P@hasgeek.com
SEQUENCE:0
CREATED:20190828T102940Z
DESCRIPTION:\n
GEO:12.966784358769928;77.63528857947676
LAST-MODIFIED:20190828T102948Z
LOCATION:Hall 1 - Bangalore International Centre (BIC)\nBengaluru\nIN
ORGANIZER;CN="Lean Data Practices":MAILTO:no-reply@hasgeek.com
BEGIN:VALARM
ACTION:display
DESCRIPTION:Concluding session for the Round Table: Why this matters and t
 he impact on ethics\, efficiency and effectivness in Hall 1 in 5 minutes
TRIGGER:-PT5M
END:VALARM
END:VEVENT
BEGIN:VEVENT
SUMMARY:Lunch break
DTSTART:20191010T075000Z
DTEND:20191010T083000Z
DTSTAMP:20260421T210228Z
UID:session/QE7rye1tfw9J3jaNMj4cEm@hasgeek.com
SEQUENCE:0
CREATED:20190828T102959Z
DESCRIPTION:\n
LAST-MODIFIED:20190828T103005Z
LOCATION:Bangalore
ORGANIZER;CN="Lean Data Practices":MAILTO:no-reply@hasgeek.com
BEGIN:VALARM
ACTION:display
DESCRIPTION:Lunch break in 5 minutes
TRIGGER:-PT5M
END:VALARM
END:VEVENT
BEGIN:VEVENT
SUMMARY:Workshop session: On threat modelling
DTSTART:20191010T083000Z
DTEND:20191010T091500Z
DTSTAMP:20260421T210228Z
UID:session/P9GrPcChCVp5FN7HV8Me32@hasgeek.com
SEQUENCE:2
CREATED:20190828T103301Z
DESCRIPTION:\n\n### Speaker bio\n\nhttps://www.linkedin.com/in/neelutripat
 hy/\n
GEO:12.966784358769928;77.63528857947676
LAST-MODIFIED:20230810T072606Z
LOCATION:Hall 1 - Bangalore International Centre (BIC)\nBengaluru\nIN
ORGANIZER;CN="Lean Data Practices":MAILTO:no-reply@hasgeek.com
BEGIN:VALARM
ACTION:display
DESCRIPTION:Workshop session: On threat modelling in Hall 1 in 5 minutes
TRIGGER:-PT5M
END:VALARM
END:VEVENT
BEGIN:VEVENT
SUMMARY:Workshop session: Designing a privacy sprint: minimization\, secur
 ity\, engagement
DTSTART:20191010T091500Z
DTEND:20191010T100000Z
DTSTAMP:20260421T210228Z
UID:session/TrSR8WCmSnb7F58d2nVzho@hasgeek.com
SEQUENCE:0
CREATED:20190828T103208Z
DESCRIPTION:\n
GEO:12.966784358769928;77.63528857947676
LAST-MODIFIED:20191009T034821Z
LOCATION:Hall 1 - Bangalore International Centre (BIC)\nBengaluru\nIN
ORGANIZER;CN="Lean Data Practices":MAILTO:no-reply@hasgeek.com
BEGIN:VALARM
ACTION:display
DESCRIPTION:Workshop session: Designing a privacy sprint: minimization\, s
 ecurity\, engagement in Hall 1 in 5 minutes
TRIGGER:-PT5M
END:VALARM
END:VEVENT
BEGIN:VEVENT
SUMMARY:Evening beverage break
DTSTART:20191010T100000Z
DTEND:20191010T103000Z
DTSTAMP:20260421T210228Z
UID:session/Soi5k3JgTyn2oe83BtuHZz@hasgeek.com
SEQUENCE:0
CREATED:20190828T103316Z
DESCRIPTION:\n
LAST-MODIFIED:20190828T103321Z
LOCATION:Bangalore
ORGANIZER;CN="Lean Data Practices":MAILTO:no-reply@hasgeek.com
BEGIN:VALARM
ACTION:display
DESCRIPTION:Evening beverage break in 5 minutes
TRIGGER:-PT5M
END:VALARM
END:VEVENT
BEGIN:VEVENT
SUMMARY:Workshop session: post-workshop survey
DTSTART:20191010T103000Z
DTEND:20191010T110000Z
DTSTAMP:20260421T210228Z
UID:session/UsNYFy6qjSxzA4ju1gPgcK@hasgeek.com
SEQUENCE:0
CREATED:20190828T103341Z
DESCRIPTION:\n
GEO:12.966784358769928;77.63528857947676
LAST-MODIFIED:20190828T103347Z
LOCATION:Hall 1 - Bangalore International Centre (BIC)\nBengaluru\nIN
ORGANIZER;CN="Lean Data Practices":MAILTO:no-reply@hasgeek.com
BEGIN:VALARM
ACTION:display
DESCRIPTION:Workshop session: post-workshop survey in Hall 1 in 5 minutes
TRIGGER:-PT5M
END:VALARM
END:VEVENT
BEGIN:VEVENT
SUMMARY:Conclusion
DTSTART:20191010T110000Z
DTEND:20191010T114500Z
DTSTAMP:20260421T210228Z
UID:session/375oVHWkMHz7KpqZiMbS8v@hasgeek.com
SEQUENCE:0
CREATED:20190828T103429Z
DESCRIPTION:\n
GEO:12.966784358769928;77.63528857947676
LAST-MODIFIED:20191009T100006Z
LOCATION:Hall 1 - Bangalore International Centre (BIC)\nBengaluru\nIN
ORGANIZER;CN="Lean Data Practices":MAILTO:no-reply@hasgeek.com
BEGIN:VALARM
ACTION:display
DESCRIPTION:Conclusion in Hall 1 in 5 minutes
TRIGGER:-PT5M
END:VALARM
END:VEVENT
END:VCALENDAR
