BEGIN:VCALENDAR
VERSION:2.0
PRODID:-//HasGeek//NONSGML Funnel//EN
DESCRIPTION:Food science sessions
X-WR-CALDESC:Food science sessions
NAME:Nutri-Babble: how to evaluate diet formulas based on their logical im
 plications
X-WR-CALNAME:Nutri-Babble: how to evaluate diet formulas based on their lo
 gical implications
REFRESH-INTERVAL;VALUE=DURATION:PT12H
SUMMARY:Nutri-Babble: how to evaluate diet formulas based on their logical
  implications
TIMEZONE-ID:Asia/Kolkata
X-PUBLISHED-TTL:PT12H
X-WR-TIMEZONE:Asia/Kolkata
BEGIN:VEVENT
SUMMARY:Introduction to Kilter food science sessions
DTSTART:20201002T150000Z
DTEND:20201002T150500Z
DTSTAMP:20260421T210548Z
UID:session/HEC19K678DwkytRqwEQNhN@hasgeek.com
SEQUENCE:0
CREATED:20200914T015703Z
DESCRIPTION:\n
LAST-MODIFIED:20200914T015703Z
LOCATION:Online
ORGANIZER;CN=Kilter:MAILTO:no-reply@hasgeek.com
BEGIN:VALARM
ACTION:display
DESCRIPTION:Introduction to Kilter food science sessions in 5 minutes
TRIGGER:-PT5M
END:VALARM
END:VEVENT
BEGIN:VEVENT
SUMMARY:Nutri-Babble: how to evaluate diet formulas based on their logical
  implications
DTSTART:20201002T150500Z
DTEND:20201002T154000Z
DTSTAMP:20260421T210548Z
UID:session/AEJBpMt7CwX7GW5zBkn1XD@hasgeek.com
SEQUENCE:2
CREATED:20200914T015815Z
DESCRIPTION:See slides for description - https://drive.google.com/file/d/1
 bEr2w7O5kxh8uB886OI5VogdtbAufahS/view?usp=sharing\n\n### Speaker bio\n\nL.
  Amber O’Hearn has been studying and experimenting with low-carb\, ketog
 enic diets since 1997\, and is particularly interested in evolutionary con
 straints and interspecies differences. Amber has been eating a nearly plan
 t-free diet since 2009.\n
LAST-MODIFIED:20230810T072606Z
LOCATION:Online
ORGANIZER;CN=Kilter:MAILTO:no-reply@hasgeek.com
BEGIN:VALARM
ACTION:display
DESCRIPTION:Nutri-Babble: how to evaluate diet formulas based on their log
 ical implications in 5 minutes
TRIGGER:-PT5M
END:VALARM
END:VEVENT
BEGIN:VEVENT
SUMMARY:Q&A session
DTSTART:20201002T154000Z
DTEND:20201002T160000Z
DTSTAMP:20260421T210548Z
UID:session/TFupaPYor8r5XN2E4EoCAa@hasgeek.com
SEQUENCE:0
CREATED:20200914T015941Z
DESCRIPTION:\n
LAST-MODIFIED:20200914T015945Z
LOCATION:Online
ORGANIZER;CN=Kilter:MAILTO:no-reply@hasgeek.com
BEGIN:VALARM
ACTION:display
DESCRIPTION:Q&A session in 5 minutes
TRIGGER:-PT5M
END:VALARM
END:VEVENT
BEGIN:VEVENT
SUMMARY:Conclusion\; introduction to the next session
DTSTART:20201002T160000Z
DTEND:20201002T160500Z
DTSTAMP:20260421T210548Z
UID:session/TS1YG8JkP7AxeGNnG1iX8A@hasgeek.com
SEQUENCE:0
CREATED:20200914T020000Z
DESCRIPTION:\n
LAST-MODIFIED:20200914T020000Z
LOCATION:Online
ORGANIZER;CN=Kilter:MAILTO:no-reply@hasgeek.com
BEGIN:VALARM
ACTION:display
DESCRIPTION:Conclusion\; introduction to the next session in 5 minutes
TRIGGER:-PT5M
END:VALARM
END:VEVENT
END:VCALENDAR
