BEGIN:VCALENDAR
VERSION:2.0
PRODID:-//HasGeek//NONSGML Funnel//EN
DESCRIPTION:Food science sessions
X-WR-CALDESC:Food science sessions
NAME:Kitchen Tools - No Rules
X-WR-CALNAME:Kitchen Tools - No Rules
REFRESH-INTERVAL;VALUE=DURATION:PT12H
SUMMARY:Kitchen Tools - No Rules
TIMEZONE-ID:Asia/Kolkata
X-PUBLISHED-TTL:PT12H
X-WR-TIMEZONE:Asia/Kolkata
BEGIN:VEVENT
SUMMARY:Introduction to Kilter Food Science session\; and today's session
DTSTART:20201011T133000Z
DTEND:20201011T133500Z
DTSTAMP:20260421T161536Z
UID:session/9mwK1UESqNRkaWGT5EeSkH@hasgeek.com
SEQUENCE:0
CREATED:20200921T053715Z
DESCRIPTION:\n
LAST-MODIFIED:20200921T053715Z
LOCATION:Online
ORGANIZER;CN=Kilter:MAILTO:no-reply@hasgeek.com
BEGIN:VALARM
ACTION:display
DESCRIPTION:Introduction to Kilter Food Science session\; and today's sess
 ion in 5 minutes
TRIGGER:-PT5M
END:VALARM
END:VEVENT
BEGIN:VEVENT
SUMMARY:Kitchen Tools & No Rules
DTSTART:20201011T133500Z
DTEND:20201011T142000Z
DTSTAMP:20260421T161536Z
UID:session/Nkjvybx2zuR2xNkjymBDnh@hasgeek.com
SEQUENCE:2
CREATED:20200921T054217Z
DESCRIPTION:Why do we cook\, what type of a cook are you?\nUnderstanding r
 ecipes & measurements\nCooking for one vs cooking for many\nKitchen tools 
 & equipment\nChoosing your ingredients (Smell\, taste & texture)\nYour mos
 t important friends\, time & temperature\n\n### Speaker bio\n\nThe 4 C's o
 f my life\, Code\, Cooking\, Cinema & Cricket define who I am and shaped m
 y life both online & in the real world. My love for cooking and inability 
 to pay for what counts as "Fine Dining" today have made me embark on my ow
 n culinary journey. I'm always looking at new recipes from cuisines across
  the globe and trying to adapt them to what's available locally.\n
LAST-MODIFIED:20230810T072606Z
LOCATION:Online
ORGANIZER;CN=Kilter:MAILTO:no-reply@hasgeek.com
URL:https://hasgeek.com/kilter/kitchen-tools-no-rules/schedule/kitchen-too
 ls-no-rules-Nkjvybx2zuR2xNkjymBDnh
BEGIN:VALARM
ACTION:display
DESCRIPTION:Kitchen Tools & No Rules in 5 minutes
TRIGGER:-PT5M
END:VALARM
END:VEVENT
BEGIN:VEVENT
SUMMARY:Q&A session
DTSTART:20201011T142000Z
DTEND:20201011T144500Z
DTSTAMP:20260421T161536Z
UID:session/NwPvUwej7qB9SSS7kfdQxd@hasgeek.com
SEQUENCE:0
CREATED:20200921T054231Z
DESCRIPTION:\n
LAST-MODIFIED:20201107T063612Z
LOCATION:Online
ORGANIZER;CN=Kilter:MAILTO:no-reply@hasgeek.com
BEGIN:VALARM
ACTION:display
DESCRIPTION:Q&A session in 5 minutes
TRIGGER:-PT5M
END:VALARM
END:VEVENT
BEGIN:VEVENT
SUMMARY:Summary and conclusion
DTSTART:20201011T144500Z
DTEND:20201011T145000Z
DTSTAMP:20260421T161536Z
UID:session/2SxtA3dAgSFrX8WCzmvrJ4@hasgeek.com
SEQUENCE:0
CREATED:20200921T054245Z
DESCRIPTION:\n
LAST-MODIFIED:20200921T054245Z
LOCATION:Online
ORGANIZER;CN=Kilter:MAILTO:no-reply@hasgeek.com
BEGIN:VALARM
ACTION:display
DESCRIPTION:Summary and conclusion in 5 minutes
TRIGGER:-PT5M
END:VALARM
END:VEVENT
END:VCALENDAR
