BEGIN:VCALENDAR
VERSION:2.0
PRODID:-//HasGeek//NONSGML Funnel//EN
DESCRIPTION:Food Science and Gastronomy Series
X-WR-CALDESC:Food Science and Gastronomy Series
NAME:Food Science for the Indian Kitchen
X-WR-CALNAME:Food Science for the Indian Kitchen
REFRESH-INTERVAL;VALUE=DURATION:PT12H
SUMMARY:Food Science for the Indian Kitchen
TIMEZONE-ID:Asia/Kolkata
X-PUBLISHED-TTL:PT12H
X-WR-TIMEZONE:Asia/Kolkata
BEGIN:VEVENT
SUMMARY:Introduction to the session and format
DTSTART:20200719T124500Z
DTEND:20200719T125000Z
DTSTAMP:20260421T133618Z
UID:session/BFEoS9F7MxHKmK7wd7Wdx9@hasgeek.com
SEQUENCE:0
CREATED:20200706T052311Z
DESCRIPTION:\n
LAST-MODIFIED:20200706T052311Z
LOCATION:Online
ORGANIZER;CN=Kilter:MAILTO:no-reply@hasgeek.com
BEGIN:VALARM
ACTION:display
DESCRIPTION:Introduction to the session and format in 5 minutes
TRIGGER:-PT5M
END:VALARM
END:VEVENT
BEGIN:VEVENT
SUMMARY:Talk: Food science for the Indian Kitchen
DTSTART:20200719T125000Z
DTEND:20200719T133000Z
DTSTAMP:20260421T133618Z
UID:session/3dJ5nk32ZXam1NkKbrEAsD@hasgeek.com
SEQUENCE:0
CREATED:20200706T052327Z
DESCRIPTION:\n
LAST-MODIFIED:20200724T074733Z
LOCATION:Online
ORGANIZER;CN=Kilter:MAILTO:no-reply@hasgeek.com
BEGIN:VALARM
ACTION:display
DESCRIPTION:Talk: Food science for the Indian Kitchen in 5 minutes
TRIGGER:-PT5M
END:VALARM
END:VEVENT
BEGIN:VEVENT
SUMMARY:Q&A session
DTSTART:20200719T133000Z
DTEND:20200719T142500Z
DTSTAMP:20260421T133618Z
UID:session/398V431qcahXYMDh2h6TkN@hasgeek.com
SEQUENCE:0
CREATED:20200706T052344Z
DESCRIPTION:\n
LAST-MODIFIED:20200724T075554Z
LOCATION:Online
ORGANIZER;CN=Kilter:MAILTO:no-reply@hasgeek.com
BEGIN:VALARM
ACTION:display
DESCRIPTION:Q&A session in 5 minutes
TRIGGER:-PT5M
END:VALARM
END:VEVENT
BEGIN:VEVENT
SUMMARY:Summary and conclusion
DTSTART:20200719T142500Z
DTEND:20200719T143000Z
DTSTAMP:20260421T133618Z
UID:session/EUgnMdtgwUy4uasSbJxnSu@hasgeek.com
SEQUENCE:0
CREATED:20200706T052400Z
DESCRIPTION:\n
LAST-MODIFIED:20200724T072555Z
LOCATION:Online
ORGANIZER;CN=Kilter:MAILTO:no-reply@hasgeek.com
BEGIN:VALARM
ACTION:display
DESCRIPTION:Summary and conclusion in 5 minutes
TRIGGER:-PT5M
END:VALARM
END:VEVENT
END:VCALENDAR
