BEGIN:VCALENDAR
VERSION:2.0
PRODID:-//HasGeek//NONSGML Funnel//EN
DESCRIPTION:Kilter Cheese Club
X-WR-CALDESC:Kilter Cheese Club
NAME:Cheese - what\, how\, why
X-WR-CALNAME:Cheese - what\, how\, why
REFRESH-INTERVAL;VALUE=DURATION:PT12H
SUMMARY:Cheese - what\, how\, why
TIMEZONE-ID:Asia/Kolkata
X-PUBLISHED-TTL:PT12H
X-WR-TIMEZONE:Asia/Kolkata
BEGIN:VEVENT
SUMMARY:Can cheese save Rajasthan's threatened camels and camel culture?
DTSTART:20201031T133000Z
DTEND:20201031T135000Z
DTSTAMP:20260422T215838Z
UID:session/NcJ56QrFhnwuMjLkqRw3J5@hasgeek.com
SEQUENCE:2
CATEGORIES:15 mins session on procuring cheese/cheese tourism
CREATED:20201007T102315Z
DESCRIPTION:This session will provide the background for the sad situation
  of camels in Rajasthan\, talk about the global hype around camel milk as 
 a superfood and why cheese has emerged as one of the most promising avenue
 s for reviving Rajasthan's amazing Raika camel culture.\n\n### Speaker bio
 \n\nI am founder of Camel Charisma Pvt. Ltd which has pioneered camel chee
 se in India and have been researching camels for more than 40 years.\n
LAST-MODIFIED:20230810T072606Z
LOCATION:Online
ORGANIZER;CN=Kilter:MAILTO:no-reply@hasgeek.com
URL:https://hasgeek.com/kilter/cheese-what-how-why/schedule/can-cheese-sav
 e-rajasthans-threatened-camels-and-camel-culture-NcJ56QrFhnwuMjLkqRw3J5
BEGIN:VALARM
ACTION:display
DESCRIPTION:Can cheese save Rajasthan's threatened camels and camel cultur
 e? in 5 minutes
TRIGGER:-PT5M
END:VALARM
END:VEVENT
BEGIN:VEVENT
SUMMARY:Q&A session on camel cheese
DTSTART:20201031T135000Z
DTEND:20201031T141000Z
DTSTAMP:20260422T215838Z
UID:session/RVQFemxR9AbxVvirFTaxeg@hasgeek.com
SEQUENCE:0
CREATED:20201112T152213Z
DESCRIPTION:\n
LAST-MODIFIED:20201112T152219Z
LOCATION:Online
ORGANIZER;CN=Kilter:MAILTO:no-reply@hasgeek.com
BEGIN:VALARM
ACTION:display
DESCRIPTION:Q&A session on camel cheese in 5 minutes
TRIGGER:-PT5M
END:VALARM
END:VEVENT
BEGIN:VEVENT
SUMMARY:Indian Cheese Timeline by Food Forward India and The Cheese Collec
 tive
DTSTART:20201031T141000Z
DTEND:20201031T142000Z
DTSTAMP:20260422T215838Z
UID:session/JsCxRLSjU3z9Kpp32L8MDT@hasgeek.com
SEQUENCE:2
CATEGORIES:Other
CREATED:20201019T112744Z
DESCRIPTION:In this session we will virtually take you through this cheese
  timeline we created to map people\, producers\, and communities that have
  brought to life & recognition indigenous & Indian cheese.\n\n### Speaker 
 bio\n\nElizabeth Yorke from Food Forward India: A non-profit initiative re
 discovering the narrative around Indian food.\n\nMansi Jasani from The Che
 ese Collective:  The Cheese Collective founded by Mansi Jasani is all abou
 t handmade and curated artisan cheese from India and ideas and items that 
 go with it.\n
LAST-MODIFIED:20230810T072606Z
LOCATION:Online
ORGANIZER;CN=Kilter:MAILTO:no-reply@hasgeek.com
URL:https://hasgeek.com/kilter/cheese-what-how-why/schedule/an-indian-chee
 se-timeline-by-food-forward-india-the-cheese-collective-JsCxRLSjU3z9Kpp32L
 8MDT
BEGIN:VALARM
ACTION:display
DESCRIPTION:Indian Cheese Timeline by Food Forward India and The Cheese Co
 llective in 5 minutes
TRIGGER:-PT5M
END:VALARM
END:VEVENT
BEGIN:VEVENT
SUMMARY:Types of cheese
DTSTART:20201031T142000Z
DTEND:20201031T144000Z
DTSTAMP:20260422T215838Z
UID:session/Ctqs2sQiAWRTyRqyzS5Sqi@hasgeek.com
SEQUENCE:0
CREATED:20201112T153116Z
DESCRIPTION:\n
LAST-MODIFIED:20201112T153130Z
LOCATION:Online
ORGANIZER;CN=Kilter:MAILTO:no-reply@hasgeek.com
BEGIN:VALARM
ACTION:display
DESCRIPTION:Types of cheese in 5 minutes
TRIGGER:-PT5M
END:VALARM
END:VEVENT
BEGIN:VEVENT
SUMMARY:Open discussion\; topic for next month
DTSTART:20201031T144000Z
DTEND:20201031T145000Z
DTSTAMP:20260422T215838Z
UID:session/9KQM74aTjQaWNbaxCi99bm@hasgeek.com
SEQUENCE:0
CREATED:20200922T060458Z
DESCRIPTION:\n
LAST-MODIFIED:20201112T153834Z
LOCATION:Online
ORGANIZER;CN=Kilter:MAILTO:no-reply@hasgeek.com
BEGIN:VALARM
ACTION:display
DESCRIPTION:Open discussion\; topic for next month in 5 minutes
TRIGGER:-PT5M
END:VALARM
END:VEVENT
END:VCALENDAR
