BEGIN:VCALENDAR
VERSION:2.0
PRODID:-//HasGeek//NONSGML Funnel//EN
DESCRIPTION:5 years of Kerala Rustaceans\, a meetup of systems software en
 thusiasts
X-WR-CALDESC:5 years of Kerala Rustaceans\, a meetup of systems software e
 nthusiasts
NAME:5th Anniversary Meetup
X-WR-CALNAME:5th Anniversary Meetup
REFRESH-INTERVAL;VALUE=DURATION:PT12H
SUMMARY:5th Anniversary Meetup
TIMEZONE-ID:Asia/Kolkata
X-PUBLISHED-TTL:PT12H
X-WR-TIMEZONE:Asia/Kolkata
BEGIN:VEVENT
SUMMARY:5th Anniversary Meetup
DTSTART:20250215T043000Z
DTEND:20250215T073000Z
DTSTAMP:20260420T121420Z
UID:session/NxjfwayE2LDYkxtyL8npca@hasgeek.com
SEQUENCE:6
CREATED:20250110T095307Z
DESCRIPTION:We are planning a meetup on the 15th of February to celebrate 
 the 5th anniversary of Kerala Rustaceans\, our focus for the event will be
  discussions on systems programming concepts. This is a call for proposals
 \, please submit a talk if you are interested in discussing an interesting
  Rust/systems related topic at the meetup.
LAST-MODIFIED:20250214T192545Z
LOCATION:Tinkerspace\, Kochi - https://hasgeek.com/keralars/5th-anniversar
 y-meetup/
ORGANIZER;CN="Kerala Rustaceans":MAILTO:no-reply@hasgeek.com
URL:https://hasgeek.com/keralars/5th-anniversary-meetup/
BEGIN:VALARM
ACTION:display
DESCRIPTION:5th Anniversary Meetup in 5 minutes
TRIGGER:-PT5M
END:VALARM
END:VEVENT
END:VCALENDAR
