BEGIN:VCALENDAR
VERSION:2.0
PRODID:-//HasGeek//NONSGML Funnel//EN
DESCRIPTION:A history of electronic payments for subsidies in India
X-WR-CALDESC:A history of electronic payments for subsidies in India
NAME:Roots of Direct Benefit Transfer Program
X-WR-CALNAME:Roots of Direct Benefit Transfer Program
REFRESH-INTERVAL;VALUE=DURATION:PT12H
SUMMARY:Roots of Direct Benefit Transfer Program
TIMEZONE-ID:Asia/Kolkata
X-PUBLISHED-TTL:PT12H
X-WR-TIMEZONE:Asia/Kolkata
BEGIN:VEVENT
SUMMARY:Roots of Direct Benefit Transfer Program
DTSTART:20200722T133000Z
DTEND:20200722T145500Z
DTSTAMP:20260421T065451Z
UID:session/BTcDC1pcWbpQeKW9pMFZCt@hasgeek.com
SEQUENCE:1
CREATED:20200713T115403Z
DESCRIPTION:TBA\n
LAST-MODIFIED:20230108T103046Z
LOCATION:Online
ORGANIZER;CN=Kaarana:MAILTO:no-reply@hasgeek.com
BEGIN:VALARM
ACTION:display
DESCRIPTION:Roots of Direct Benefit Transfer Program in 5 minutes
TRIGGER:-PT5M
END:VALARM
END:VEVENT
END:VCALENDAR
