BEGIN:VCALENDAR
VERSION:2.0
PRODID:-//HasGeek//NONSGML Funnel//EN
DESCRIPTION:Complexity of medical systems
X-WR-CALDESC:Complexity of medical systems
NAME:How Ventilators Work
X-WR-CALNAME:How Ventilators Work
REFRESH-INTERVAL;VALUE=DURATION:PT12H
SUMMARY:How Ventilators Work
TIMEZONE-ID:Asia/Kolkata
X-PUBLISHED-TTL:PT12H
X-WR-TIMEZONE:Asia/Kolkata
BEGIN:VEVENT
SUMMARY:How Ventilators Work
DTSTART:20200517T113000Z
DTEND:20200517T130000Z
DTSTAMP:20260421T065150Z
UID:session/3xaksJjmnGvvfJFDkYBiJG@hasgeek.com
SEQUENCE:1
CREATED:20200511T120501Z
DESCRIPTION:With the COVID-19 virus effecting lungs and causing breathing 
 problems\, ventillators have become the most important medical tool to sav
 e lives. Across the world there are efforts to build open source ventillat
 ors and to modify existing ventillators to be used for more patients. In t
 his lecture Krishanu Choudhury will take us through how ventillators work 
 and help with breathing. He will walk us through the challenges inolved an
 d how complex these medical systems are.\n
LAST-MODIFIED:20230108T103046Z
LOCATION:Online
ORGANIZER;CN=Kaarana:MAILTO:no-reply@hasgeek.com
BEGIN:VALARM
ACTION:display
DESCRIPTION:How Ventilators Work in 5 minutes
TRIGGER:-PT5M
END:VALARM
END:VEVENT
END:VCALENDAR
