BEGIN:VCALENDAR
VERSION:2.0
PRODID:-//HasGeek//NONSGML Funnel//EN
DESCRIPTION:An in-depth look at India's healthcare ecosystem
X-WR-CALDESC:An in-depth look at India's healthcare ecosystem
NAME:National Digital Health Blueprint: India's data infrastructure for he
 althcare
X-WR-CALNAME:National Digital Health Blueprint: India's data infrastructur
 e for healthcare
REFRESH-INTERVAL;VALUE=DURATION:PT12H
SUMMARY:National Digital Health Blueprint: India's data infrastructure for
  healthcare
TIMEZONE-ID:Asia/Kolkata
X-PUBLISHED-TTL:PT12H
X-WR-TIMEZONE:Asia/Kolkata
BEGIN:VEVENT
SUMMARY:India's Data Infrastructure in Health: National Health Data Bluepr
 int
DTSTART:20200422T122000Z
DTEND:20200422T133500Z
DTSTAMP:20260421T033358Z
UID:session/8ditVickKfDnCcGV12Vvv3@hasgeek.com
SEQUENCE:0
CREATED:20200418T090350Z
DESCRIPTION:\n
LAST-MODIFIED:20200716T173512Z
LOCATION:Online
ORGANIZER;CN=Kaarana:MAILTO:no-reply@hasgeek.com
BEGIN:VALARM
ACTION:display
DESCRIPTION:India's Data Infrastructure in Health: National Health Data Bl
 ueprint in 5 minutes
TRIGGER:-PT5M
END:VALARM
END:VEVENT
END:VCALENDAR
