BEGIN:VCALENDAR
VERSION:2.0
PRODID:-//HasGeek//NONSGML Funnel//EN
DESCRIPTION:Conversation with Reetika Khera\, Associate Professor at IIM-A
 hmedabad
X-WR-CALDESC:Conversation with Reetika Khera\, Associate Professor at IIM-
 Ahmedabad
NAME:Critiques of Aadhaar: what critics see and oversee.
X-WR-CALNAME:Critiques of Aadhaar: what critics see and oversee.
REFRESH-INTERVAL;VALUE=DURATION:PT12H
SUMMARY:Critiques of Aadhaar: what critics see and oversee.
TIMEZONE-ID:Asia/Kolkata
X-PUBLISHED-TTL:PT12H
X-WR-TIMEZONE:Asia/Kolkata
BEGIN:VEVENT
SUMMARY:Critiques of Aadhar: what critics see and oversee.
DTSTART:20190403T042500Z
DTEND:20190403T061000Z
DTSTAMP:20260421T210844Z
UID:session/TCWUHk5NkBqZmGb2graxM@hasgeek.com
SEQUENCE:0
CREATED:20190628T112854Z
DESCRIPTION:\n
GEO:12.961525692660125;77.64431327115746
LAST-MODIFIED:20190628T112854Z
LOCATION:Workshop Room - HasGeek House\nBangalore\nIN
ORGANIZER;CN=Kaarana:MAILTO:no-reply@hasgeek.com
BEGIN:VALARM
ACTION:display
DESCRIPTION:Critiques of Aadhar: what critics see and oversee. in Workshop
  Room in 5 minutes
TRIGGER:-PT5M
END:VALARM
END:VEVENT
END:VCALENDAR
