BEGIN:VCALENDAR
VERSION:2.0
PRODID:-//HasGeek//NONSGML Funnel//EN
DESCRIPTION:An open house on the future of drone technologies and their im
 plementation
X-WR-CALDESC:An open house on the future of drone technologies and their i
 mplementation
NAME:The Age of Drones
X-WR-CALNAME:The Age of Drones
REFRESH-INTERVAL;VALUE=DURATION:PT12H
SUMMARY:The Age of Drones
TIMEZONE-ID:Asia/Kolkata
X-PUBLISHED-TTL:PT12H
X-WR-TIMEZONE:Asia/Kolkata
BEGIN:VEVENT
SUMMARY:Participant introductions\; gather questions
DTSTART:20200415T122000Z
DTEND:20200415T123000Z
DTSTAMP:20260421T032628Z
UID:session/XSszsy5JLkAKBU7wCrhMCk@hasgeek.com
SEQUENCE:0
CREATED:20200413T031516Z
DESCRIPTION:\n
GEO:12.961443;77.64435000000003
LAST-MODIFIED:20200413T044547Z
LOCATION:Online - Online\nIN
ORGANIZER;CN=Kaarana:MAILTO:no-reply@hasgeek.com
BEGIN:VALARM
ACTION:display
DESCRIPTION:Participant introductions\; gather questions in Online in 5 mi
 nutes
TRIGGER:-PT5M
END:VALARM
END:VEVENT
BEGIN:VEVENT
SUMMARY:Session and format introduction
DTSTART:20200415T123000Z
DTEND:20200415T123500Z
DTSTAMP:20260421T032628Z
UID:session/Rih5R9WkuaeXirFgJ6AEHm@hasgeek.com
SEQUENCE:0
CREATED:20200413T031638Z
DESCRIPTION:\n
GEO:12.961443;77.64435000000003
LAST-MODIFIED:20200413T044208Z
LOCATION:Online - Online\nIN
ORGANIZER;CN=Kaarana:MAILTO:no-reply@hasgeek.com
BEGIN:VALARM
ACTION:display
DESCRIPTION:Session and format introduction in Online in 5 minutes
TRIGGER:-PT5M
END:VALARM
END:VEVENT
BEGIN:VEVENT
SUMMARY:Context setting: surveillance in the age of pandemics: rise of dro
 nes
DTSTART:20200415T123500Z
DTEND:20200415T125500Z
DTSTAMP:20260421T032628Z
UID:session/BBa1bf9dGj5cLq9bXYugyC@hasgeek.com
SEQUENCE:0
CREATED:20200412T092404Z
DESCRIPTION:\n
GEO:12.961443;77.64435000000003
LAST-MODIFIED:20200413T044222Z
LOCATION:Online - Online\nIN
ORGANIZER;CN=Kaarana:MAILTO:no-reply@hasgeek.com
BEGIN:VALARM
ACTION:display
DESCRIPTION:Context setting: surveillance in the age of pandemics: rise of
  drones in Online in 5 minutes
TRIGGER:-PT5M
END:VALARM
END:VEVENT
BEGIN:VEVENT
SUMMARY:Open house discussion: on tech and policy for drones in India\; us
 e cases\; future scenarios
DTSTART:20200415T125500Z
DTEND:20200415T135000Z
DTSTAMP:20260421T032628Z
UID:session/V9gxw8EBod5Qppn4tAWCCU@hasgeek.com
SEQUENCE:0
CREATED:20200413T031826Z
DESCRIPTION:\n
GEO:12.961443;77.64435000000003
LAST-MODIFIED:20200716T171924Z
LOCATION:Online - Online\nIN
ORGANIZER;CN=Kaarana:MAILTO:no-reply@hasgeek.com
BEGIN:VALARM
ACTION:display
DESCRIPTION:Open house discussion: on tech and policy for drones in India\
 ; use cases\; future scenarios in Online in 5 minutes
TRIGGER:-PT5M
END:VALARM
END:VEVENT
BEGIN:VEVENT
SUMMARY:Summary of discussions\; poll on future topics for discussion\; fe
 edback
DTSTART:20200415T135000Z
DTEND:20200415T140000Z
DTSTAMP:20260421T032628Z
UID:session/CanZe1PEwWj7m1DRddqn3k@hasgeek.com
SEQUENCE:0
CREATED:20200413T031854Z
DESCRIPTION:\n
GEO:12.961443;77.64435000000003
LAST-MODIFIED:20200413T044254Z
LOCATION:Online - Online\nIN
ORGANIZER;CN=Kaarana:MAILTO:no-reply@hasgeek.com
BEGIN:VALARM
ACTION:display
DESCRIPTION:Summary of discussions\; poll on future topics for discussion\
 ; feedback in Online in 5 minutes
TRIGGER:-PT5M
END:VALARM
END:VEVENT
BEGIN:VEVENT
SUMMARY:Interaction with Anirudh Rastogi of Ikigai Law
DTSTART:20200429T122000Z
DTEND:20200429T135000Z
DTSTAMP:20260421T032628Z
UID:session/PNWkEcVTvV9WrtJTpDLhFr@hasgeek.com
SEQUENCE:0
CREATED:20200424T033506Z
DESCRIPTION:\n
GEO:12.961443;77.64435000000003
LAST-MODIFIED:20200716T173136Z
LOCATION:Online - Online\nIN
ORGANIZER;CN=Kaarana:MAILTO:no-reply@hasgeek.com
BEGIN:VALARM
ACTION:display
DESCRIPTION:Interaction with Anirudh Rastogi of Ikigai Law in Online in 5 
 minutes
TRIGGER:-PT5M
END:VALARM
END:VEVENT
END:VCALENDAR
