BEGIN:VCALENDAR
VERSION:2.0
PRODID:-//HasGeek//NONSGML Funnel//EN
DESCRIPTION:How India's official COVID19 surveillance app works
X-WR-CALDESC:How India's official COVID19 surveillance app works
NAME:Analysis of Aarogya Setu App
X-WR-CALNAME:Analysis of Aarogya Setu App
REFRESH-INTERVAL;VALUE=DURATION:PT12H
SUMMARY:Analysis of Aarogya Setu App
TIMEZONE-ID:Asia/Kolkata
X-PUBLISHED-TTL:PT12H
X-WR-TIMEZONE:Asia/Kolkata
BEGIN:VEVENT
SUMMARY:Analysis of Aarogya Setu Mobile Application
DTSTART:20200408T123000Z
DTEND:20200408T133500Z
DTSTAMP:20260421T032829Z
UID:session/514GkSggFtgA6MU95Vco6g@hasgeek.com
SEQUENCE:0
CREATED:20200406T141757Z
DESCRIPTION:\n
LAST-MODIFIED:20200716T165710Z
LOCATION:Online
ORGANIZER;CN=Kaarana:MAILTO:no-reply@hasgeek.com
BEGIN:VALARM
ACTION:display
DESCRIPTION:Analysis of Aarogya Setu Mobile Application in 5 minutes
TRIGGER:-PT5M
END:VALARM
END:VEVENT
END:VCALENDAR
