BEGIN:VCALENDAR
VERSION:2.0
PRODID:-//HasGeek//NONSGML Funnel//EN
DESCRIPTION:Meetup with Gautam Bhatia
X-WR-CALDESC:Meetup with Gautam Bhatia
NAME:Code\, technology and law: will geeks inherit the earth?
X-WR-CALNAME:Code\, technology and law: will geeks inherit the earth?
REFRESH-INTERVAL;VALUE=DURATION:PT12H
SUMMARY:Code\, technology and law: will geeks inherit the earth?
TIMEZONE-ID:Asia/Kolkata
X-PUBLISHED-TTL:PT12H
X-WR-TIMEZONE:Asia/Kolkata
BEGIN:VEVENT
SUMMARY:Check-in\; tea/coffee
DTSTART:20200111T091500Z
DTEND:20200111T093000Z
DTSTAMP:20260421T033013Z
UID:session/UDSQGcHovSRNFvn5K36XKb@hasgeek.com
SEQUENCE:0
CREATED:20200103T063337Z
DESCRIPTION:\n
LAST-MODIFIED:20200107T065809Z
LOCATION:Bangalore
ORGANIZER;CN=Kaarana:MAILTO:no-reply@hasgeek.com
BEGIN:VALARM
ACTION:display
DESCRIPTION:Check-in\; tea/coffee in 5 minutes
TRIGGER:-PT5M
END:VALARM
END:VEVENT
BEGIN:VEVENT
SUMMARY:Introduction to Gautam Bhatia and topic of the meetup
DTSTART:20200111T093000Z
DTEND:20200111T094000Z
DTSTAMP:20260421T033013Z
UID:session/5vGfXAEpiGfSLVtV8GjgDg@hasgeek.com
SEQUENCE:0
CREATED:20200103T063407Z
DESCRIPTION:\n
GEO:12.9654096;77.5977297
LAST-MODIFIED:20200109T082536Z
LOCATION:Community events space - Obvious\nBangalore\nIN
ORGANIZER;CN=Kaarana:MAILTO:no-reply@hasgeek.com
BEGIN:VALARM
ACTION:display
DESCRIPTION:Introduction to Gautam Bhatia and topic of the meetup in Commu
 nity events space in 5 minutes
TRIGGER:-PT5M
END:VALARM
END:VEVENT
BEGIN:VEVENT
SUMMARY:On the technologized self and the relationship between code and la
 w
DTSTART:20200111T094000Z
DTEND:20200111T102500Z
DTSTAMP:20260421T033013Z
UID:session/SMrNFsYiGwiekxbSYMxpPH@hasgeek.com
SEQUENCE:0
CREATED:20200103T063544Z
DESCRIPTION:\n
GEO:12.9654096;77.5977297
LAST-MODIFIED:20200619T062515Z
LOCATION:Community events space - Obvious\nBangalore\nIN
ORGANIZER;CN=Kaarana:MAILTO:no-reply@hasgeek.com
BEGIN:VALARM
ACTION:display
DESCRIPTION:On the technologized self and the relationship between code an
 d law in Community events space in 5 minutes
TRIGGER:-PT5M
END:VALARM
END:VEVENT
BEGIN:VEVENT
SUMMARY:Q&A session with Gautam Bhatia
DTSTART:20200111T102500Z
DTEND:20200111T111000Z
DTSTAMP:20260421T033013Z
UID:session/U1aTfmKrk8Fymx4QjDhKfn@hasgeek.com
SEQUENCE:0
CREATED:20200103T063619Z
DESCRIPTION:\n
GEO:12.9654096;77.5977297
LAST-MODIFIED:20200619T062515Z
LOCATION:Community events space - Obvious\nBangalore\nIN
ORGANIZER;CN=Kaarana:MAILTO:no-reply@hasgeek.com
BEGIN:VALARM
ACTION:display
DESCRIPTION:Q&A session with Gautam Bhatia in Community events space in 5 
 minutes
TRIGGER:-PT5M
END:VALARM
END:VEVENT
BEGIN:VEVENT
SUMMARY:Closing and vote of thanks
DTSTART:20200111T111000Z
DTEND:20200111T111500Z
DTSTAMP:20260421T033013Z
UID:session/9DxxzUr4Yba64JTL9MxgUb@hasgeek.com
SEQUENCE:0
CREATED:20200103T063643Z
DESCRIPTION:\n
GEO:12.9654096;77.5977297
LAST-MODIFIED:20200107T065850Z
LOCATION:Community events space - Obvious\nBangalore\nIN
ORGANIZER;CN=Kaarana:MAILTO:no-reply@hasgeek.com
BEGIN:VALARM
ACTION:display
DESCRIPTION:Closing and vote of thanks in Community events space in 5 minu
 tes
TRIGGER:-PT5M
END:VALARM
END:VEVENT
BEGIN:VEVENT
SUMMARY:Networking and tea/coffee
DTSTART:20200111T111500Z
DTEND:20200111T113000Z
DTSTAMP:20260421T033013Z
UID:session/UBeEP6oeKf9FTR9hyfcVw@hasgeek.com
SEQUENCE:0
CREATED:20200103T063658Z
DESCRIPTION:\n
GEO:12.9654096;77.5977297
LAST-MODIFIED:20200107T065904Z
LOCATION:Community events space - Obvious\nBangalore\nIN
ORGANIZER;CN=Kaarana:MAILTO:no-reply@hasgeek.com
BEGIN:VALARM
ACTION:display
DESCRIPTION:Networking and tea/coffee in Community events space in 5 minut
 es
TRIGGER:-PT5M
END:VALARM
END:VEVENT
END:VCALENDAR
