BEGIN:VCALENDAR
VERSION:2.0
PRODID:-//HasGeek//NONSGML Funnel//EN
DESCRIPTION:A day spent discussing Vue.js\, developments in the Vue ecosys
 tem and component architecture
X-WR-CALDESC:A day spent discussing Vue.js\, developments in the Vue ecosy
 stem and component architecture
NAME:JSFoo: VueDay 2019
X-WR-CALNAME:JSFoo: VueDay 2019
REFRESH-INTERVAL;VALUE=DURATION:PT12H
SUMMARY:JSFoo: VueDay 2019
TIMEZONE-ID:Asia/Kolkata
X-PUBLISHED-TTL:PT12H
X-WR-TIMEZONE:Asia/Kolkata
BEGIN:VEVENT
SUMMARY:Check-in and on-site registration
DTSTART:20190830T032000Z
DTEND:20190830T035000Z
DTSTAMP:20260424T153708Z
UID:session/6THTLbA3DvPEje8nidFVzk@hasgeek.com
SEQUENCE:0
CREATED:20190516T052242Z
DESCRIPTION:\n
LAST-MODIFIED:20190828T070110Z
LOCATION:Bangalore International Centre\, Domlur\, Bangalore
ORGANIZER;CN=JSFoo:MAILTO:no-reply@hasgeek.com
BEGIN:VALARM
ACTION:display
DESCRIPTION:Check-in and on-site registration in 5 minutes
TRIGGER:-PT5M
END:VALARM
END:VEVENT
BEGIN:VEVENT
SUMMARY:Introduction to VueDay\; how to make most of the conference
DTSTART:20190830T035000Z
DTEND:20190830T040000Z
DTSTAMP:20260424T153708Z
UID:session/CV4dbsvvSMbLLiUF46BaTc@hasgeek.com
SEQUENCE:0
CREATED:20190516T052307Z
DESCRIPTION:\n
GEO:12.96678255602988;77.63542334083468
LAST-MODIFIED:20190828T070108Z
LOCATION:Main auditorium - Bangalore International Centre (BIC)\nBangalore
 \nIN
ORGANIZER;CN=JSFoo:MAILTO:no-reply@hasgeek.com
BEGIN:VALARM
ACTION:display
DESCRIPTION:Introduction to VueDay\; how to make most of the conference in
  Main auditorium in 5 minutes
TRIGGER:-PT5M
END:VALARM
END:VEVENT
BEGIN:VEVENT
SUMMARY:VueJS ecosystem as it is today
DTSTART:20190830T040000Z
DTEND:20190830T042000Z
DTSTAMP:20260424T153708Z
UID:session/6C48DPp5g4BwF9Vas4X1US@hasgeek.com
SEQUENCE:2
CATEGORIES:Crisp talk (20 mins),Beginner,Crisp talk (20 mins),Intermediate
CREATED:20190819T110409Z
DESCRIPTION:Learn about the current state of Vue.js\n\n##Outline\n\n- The 
 Buzz around Vue.js\n- Adoption\n- Companies using Vue.js in India\n- Commu
 nity\n- TypeScript (doesn’t affect non-TS experience)\n- State of Mobile
  Apps\n- State of SSR\n- Sustainability\n- Extensibility\n- Deep dive into
  some RFCs\n\n### Speaker bio\n\nSwapnil Agarwal\n
GEO:12.96678255602988;77.63542334083468
LAST-MODIFIED:20230810T072606Z
LOCATION:Main auditorium - Bangalore International Centre (BIC)\nBangalore
 \nIN
ORGANIZER;CN=JSFoo:MAILTO:no-reply@hasgeek.com
URL:https://hasgeek.com/jsfoo/2019-vueday/schedule/state-of-the-vue-ecosys
 tem-6C48DPp5g4BwF9Vas4X1US
BEGIN:VALARM
ACTION:display
DESCRIPTION:VueJS ecosystem as it is today in Main auditorium in 5 minutes
TRIGGER:-PT5M
END:VALARM
END:VEVENT
BEGIN:VEVENT
SUMMARY:Creating a highly reusable  VueJS component library
DTSTART:20190830T042000Z
DTEND:20190830T044000Z
DTSTAMP:20260424T153708Z
UID:session/5tie6VfngvPWR5jw7izyPP@hasgeek.com
SEQUENCE:2
CATEGORIES:Tutorial,Intermediate,Tutorial,Awaiting slides and/or preview v
 ideo
CREATED:20190730T192359Z
DESCRIPTION:1. Things to keep in mind while creating components.\n2. The d
 ifferent options available in Vue CLI 3 on creating a component library.\n
 3. Use cases of different design patterns.\n4. Publishing on NPM.\n5. Exam
 ple usage of library component that we created.\n\nThis is an [old article
 ](https://medium.com/justfrontendthings/how-to-create-and-publish-your-own
 -vuejs-component-library-on-npm-using-vue-cli-28e60943eed3) that might exp
 and upon the content. I will be coming up with more content after reading 
 the new features that have been added in the documentation.\n\n### Speaker
  bio\n\nI am Divyam Rastogi\, a Frontend Developer at [Flock](https://floc
 k.com). I have about six years of experience in Frontend development\, and
  I've worked upon a variety of JS frameworks like Backbone\, AngularJS\, A
 ngular\, React and Vue. I'm a Vue fanboy and don't shy away from admitting
  it.\n\nProfile: https://javascriptbit.com/profile/\n
GEO:12.96678255602988;77.63542334083468
LAST-MODIFIED:20230810T072606Z
LOCATION:Main auditorium - Bangalore International Centre (BIC)\nBangalore
 \nIN
ORGANIZER;CN=JSFoo:MAILTO:no-reply@hasgeek.com
URL:https://hasgeek.com/jsfoo/2019-vueday/schedule/creating-a-highly-reusa
 ble-vuejs-component-library-and-publishing-on-npm-using-vue-cli-3-0-5tie6V
 fngvPWR5jw7izyPP
BEGIN:VALARM
ACTION:display
DESCRIPTION:Creating a highly reusable  VueJS component library in Main au
 ditorium in 5 minutes
TRIGGER:-PT5M
END:VALARM
END:VEVENT
BEGIN:VEVENT
SUMMARY:Building form field components in an enterprise scale product
DTSTART:20190830T044000Z
DTEND:20190830T051000Z
DTSTAMP:20260424T153708Z
UID:session/453Ckb1weSX9E2yHdrPxZ6@hasgeek.com
SEQUENCE:2
CATEGORIES:Crisp talk (20 mins),Intermediate
CREATED:20190813T043409Z
DESCRIPTION:* Who we are and Why we choose Vue\n * Building forms with Vue
 \n * Challenges involved when dealing with large forms\n * Why User and De
 veloper experience matters\n * Taming the form beast\n * A walkthrough ove
 r the best practices while working with forms fields\n\n### Speaker bio\n\
 nHi\, I'm [Bharath](https://bharathvaj1995.github.io/profile). Software En
 gineer [@Chargebee](https://www.chargebee.com/).\nI work majorly on Charge
 bee's Leap UI.\nReach out to me on Javascript\, NodeJS\, Design Systems\, 
 front end stuffs and anything related to Chargebee.\n
GEO:12.96678255602988;77.63542334083468
LAST-MODIFIED:20230810T072606Z
LOCATION:Main auditorium - Bangalore International Centre (BIC)\nBangalore
 \nIN
ORGANIZER;CN=JSFoo:MAILTO:no-reply@hasgeek.com
URL:https://hasgeek.com/jsfoo/2019-vueday/schedule/building-form-field-com
 ponents-in-an-enterprise-scale-product-453Ckb1weSX9E2yHdrPxZ6
BEGIN:VALARM
ACTION:display
DESCRIPTION:Building form field components in an enterprise scale product 
 in Main auditorium in 5 minutes
TRIGGER:-PT5M
END:VALARM
END:VEVENT
BEGIN:VEVENT
SUMMARY:Morning beverage break
DTSTART:20190830T051000Z
DTEND:20190830T054000Z
DTSTAMP:20260424T153708Z
UID:session/PgeevE3NK8Be7bcuouoc7W@hasgeek.com
SEQUENCE:0
CREATED:20190516T052347Z
DESCRIPTION:\n
LAST-MODIFIED:20190827T061057Z
LOCATION:Bangalore International Centre\, Domlur\, Bangalore
ORGANIZER;CN=JSFoo:MAILTO:no-reply@hasgeek.com
BEGIN:VALARM
ACTION:display
DESCRIPTION:Morning beverage break in 5 minutes
TRIGGER:-PT5M
END:VALARM
END:VEVENT
BEGIN:VEVENT
SUMMARY:Flash talk
DTSTART:20190830T054000Z
DTEND:20190830T054500Z
DTSTAMP:20260424T153708Z
UID:session/9NtnXdCXNphGkBDALhNzvA@hasgeek.com
SEQUENCE:0
CREATED:20190826T033124Z
DESCRIPTION:\n
GEO:12.96678255602988;77.63542334083468
LAST-MODIFIED:20190827T061059Z
LOCATION:Main auditorium - Bangalore International Centre (BIC)\nBangalore
 \nIN
ORGANIZER;CN=JSFoo:MAILTO:no-reply@hasgeek.com
BEGIN:VALARM
ACTION:display
DESCRIPTION:Flash talk in Main auditorium in 5 minutes
TRIGGER:-PT5M
END:VALARM
END:VEVENT
BEGIN:VEVENT
SUMMARY:A modular approach to building large-scale apps with Vue
DTSTART:20190830T054500Z
DTEND:20190830T061500Z
DTSTAMP:20260424T153708Z
UID:session/Pn8uQ9jSUbVghvqCeEFAZw@hasgeek.com
SEQUENCE:2
CATEGORIES:Full talk (40 mins),Intermediate,Lecture,Awaiting slides and/or
  preview video
CREATED:20190814T054335Z
DESCRIPTION:- Introduction\n- Anatomy of a typical Vue app\n- To Type(scri
 pt) or not to (Type)script\n- An ode to Modularity\n- Foundation will set 
 you free\n- Injection is good\n- The things we do for Async\n- O Conventio
 n\, where art thou\n- It only gets bigger\n- Patterns to the rescue\n- To 
 err is Human\n- End\n\n### Speaker bio\n\nKunal is an early Vue adopter (w
 hen `v-for` was `v-repeat`) and an ardent evangelist of Vue. He is notorio
 us for his dark humor\, and pulling pranks on his peers. Amongst other thi
 ngs\, he is the co-founder and CTO of ClearGlass Analytics.\n
GEO:12.96678255602988;77.63542334083468
LAST-MODIFIED:20230810T072606Z
LOCATION:Main auditorium - Bangalore International Centre (BIC)\nBangalore
 \nIN
ORGANIZER;CN=JSFoo:MAILTO:no-reply@hasgeek.com
URL:https://hasgeek.com/jsfoo/2019-vueday/schedule/a-modular-approach-to-b
 uilding-large-scale-vue-apps-Pn8uQ9jSUbVghvqCeEFAZw
BEGIN:VALARM
ACTION:display
DESCRIPTION:A modular approach to building large-scale apps with Vue in Ma
 in auditorium in 5 minutes
TRIGGER:-PT5M
END:VALARM
END:VEVENT
BEGIN:VEVENT
SUMMARY:Building scalable and reusable Vue webapps for multiple instances
DTSTART:20190830T061500Z
DTEND:20190830T063500Z
DTSTAMP:20260424T153708Z
UID:session/STuuc5Rh7ZPv14pnRhdjKn@hasgeek.com
SEQUENCE:2
CATEGORIES:Crisp talk (20 mins),Intermediate,Full talk (40 mins),Intermedi
 ate
CREATED:20190819T104741Z
DESCRIPTION:In this talk\, I'll share how I used Vue's feature to develop 
 a highly scalable and reusable Web App. We'll take an example of a web app
  which need to scale to multiple countries.\n\n- Following DRY (Don’t re
 peat yourself) approach with Vue Mixins\n- Maintaining SoC (Separation of 
 concerns) with Vue's component architecture\n- Rendering Vue components wi
 th Dynamic imports\n- Building country wise components with Webpack\n- Usi
 ng SCSS with Vue to scale style\n- Bonus: Enabling Internationalization\n\
 n### Speaker bio\n\nFrontend Developer at Zeta. I have 4+ years of experie
 nce building cutting edge web apps. Founded DoorStepAll.com\, Winner of 12
 th Plan Hackathon at IIT Delhi. Prateekjaiswal.in\n
GEO:12.96678255602988;77.63542334083468
LAST-MODIFIED:20230810T072606Z
LOCATION:Main auditorium - Bangalore International Centre (BIC)\nBangalore
 \nIN
ORGANIZER;CN=JSFoo:MAILTO:no-reply@hasgeek.com
URL:https://hasgeek.com/jsfoo/2019-vueday/schedule/building-scalable-reusa
 ble-vue-web-apps-for-multiple-instances-STuuc5Rh7ZPv14pnRhdjKn
BEGIN:VALARM
ACTION:display
DESCRIPTION:Building scalable and reusable Vue webapps for multiple instan
 ces in Main auditorium in 5 minutes
TRIGGER:-PT5M
END:VALARM
END:VEVENT
BEGIN:VEVENT
SUMMARY:Building plugins for Vue and Vuex
DTSTART:20190830T063500Z
DTEND:20190830T071000Z
DTSTAMP:20260424T153708Z
UID:session/Fvx1iW7VZeMV48nM9zUJM4@hasgeek.com
SEQUENCE:2
CATEGORIES:Crisp talk (20 mins),Intermediate
CREATED:20190805T110229Z
DESCRIPTION:- What are plugins ? \n - How are they used (Vue) ?\n - How ar
 e they used (Vuex) ?\n - Wiring up your own plugin (Vue)\n - Wiring up you
  own plugin (Vuex)\n - When to make a plugin vs simple npm module\n\n### S
 peaker bio\n\nArnav currently leads the Mobile Platform team at Zomato whi
 ch keeps the app lean\, fit and stable. He also is the co-founder of Codin
 g Blocks\, a software bootcamp where he mentors people in Android\, NodeJS
  and Vue. He has been a long time contributor to multiple open source proj
 ects including the Android OS\, EmberJS\, Vuex and LineageOS.\n
GEO:12.96678255602988;77.63542334083468
LAST-MODIFIED:20230810T072606Z
LOCATION:Main auditorium - Bangalore International Centre (BIC)\nBangalore
 \nIN
ORGANIZER;CN=JSFoo:MAILTO:no-reply@hasgeek.com
URL:https://hasgeek.com/jsfoo/2019-vueday/schedule/building-plugins-for-vu
 e-and-vuex-Fvx1iW7VZeMV48nM9zUJM4
BEGIN:VALARM
ACTION:display
DESCRIPTION:Building plugins for Vue and Vuex in Main auditorium in 5 minu
 tes
TRIGGER:-PT5M
END:VALARM
END:VEVENT
BEGIN:VEVENT
SUMMARY:Lunch break
DTSTART:20190830T071000Z
DTEND:20190830T081000Z
DTSTAMP:20260424T153708Z
UID:session/JSu2LrsDc185ofdXdj9yiW@hasgeek.com
SEQUENCE:0
CREATED:20190516T052506Z
DESCRIPTION:\n
LAST-MODIFIED:20190827T061103Z
LOCATION:Bangalore International Centre\, Domlur\, Bangalore
ORGANIZER;CN=JSFoo:MAILTO:no-reply@hasgeek.com
BEGIN:VALARM
ACTION:display
DESCRIPTION:Lunch break in 5 minutes
TRIGGER:-PT5M
END:VALARM
END:VEVENT
BEGIN:VEVENT
SUMMARY:Understanding Vue's reactivity system by building one
DTSTART:20190830T081000Z
DTEND:20190830T084000Z
DTSTAMP:20260424T153708Z
UID:session/BFWTU6UTPRVwPnxq7MzWrv@hasgeek.com
SEQUENCE:2
CATEGORIES:Full talk (40 mins),Intermediate,Lecture,Awaiting slides and/or
  preview video
CREATED:20190516T071331Z
DESCRIPTION:- What is reactivity?\n- Building a simple render function in 
 non-reactive way.\n- Making it reactive\n- ES Setters & Getters crash cour
 se.\n- How to collect dependencies?\n- Building a Vue like reactivity syst
 em\n- The problems that it solves\n- The problems that it introduces\n- Ho
 w can we solve the problems.\n- Vue's new reactivity system using ES proxi
 es\n\n### Speaker bio\n\nLove CSS & Vue. Working on Machine Learning & Vis
 ualizations at Voicezen.\n
GEO:12.96678255602988;77.63542334083468
LAST-MODIFIED:20230810T072606Z
LOCATION:Main auditorium - Bangalore International Centre (BIC)\nBangalore
 \nIN
ORGANIZER;CN=JSFoo:MAILTO:no-reply@hasgeek.com
URL:https://hasgeek.com/jsfoo/2019-vueday/schedule/understanding-vues-reac
 tivity-system-by-building-one-BFWTU6UTPRVwPnxq7MzWrv
BEGIN:VALARM
ACTION:display
DESCRIPTION:Understanding Vue's reactivity system by building one in Main 
 auditorium in 5 minutes
TRIGGER:-PT5M
END:VALARM
END:VEVENT
BEGIN:VEVENT
SUMMARY:Why to Vue?
DTSTART:20190830T084000Z
DTEND:20190830T094000Z
DTSTAMP:20260424T153708Z
UID:session/Bn32259tVubZSZ5Q1iRXni@hasgeek.com
SEQUENCE:2
CATEGORIES:Birds Of Feather (BOF) session,Intermediate
CREATED:20190802T112030Z
DESCRIPTION:This would be an open ended conversation in which we will talk
  about Vue's strengths and the tradeoffs it has.\nEven if you're not inter
 ested in Vue or already using it you'll learn about what are the tradeoffs
  you should consider when choosing a framework for a project.\n\nSome of t
 he topics I would love to talk about:\n- Reactivity and 2 way binding\n- S
 ingle file components\n- Developer Experience & Ecosystem (State managemen
 t / Routing / Style management etc.)\n- Learning Curve\n- Community Suppor
 t\n\nand more :)\n\n### Speaker bio\n\nHi there\, I'm [Chirag Jain](https:
 //twitter.com/cjTheDev).\nI work on JavaScipt\, Big Data Infra and Visuali
 zation @ [Uber](https://twitter.com/UberEngineering).\nTalk to me about Ty
 pe Systems (Rust / ReasonML / Flow)\, Frontend frameworks (React / Vue)\, 
 State Managment\, GraphQL\, Design Systems\, Career development and more.\
 n
GEO:12.96678255602988;77.63542334083468
LAST-MODIFIED:20230810T072606Z
LOCATION:Birds of Feather (BOF) open space - Bangalore International Centr
 e (BIC)\nBangalore\nIN
ORGANIZER;CN=JSFoo:MAILTO:no-reply@hasgeek.com
URL:https://hasgeek.com/jsfoo/2019-vueday/schedule/why-to-vue-Bn32259tVubZ
 SZ5Q1iRXni
BEGIN:VALARM
ACTION:display
DESCRIPTION:Why to Vue? in Birds of Feather (BOF) open space in 5 minutes
TRIGGER:-PT5M
END:VALARM
END:VEVENT
BEGIN:VEVENT
SUMMARY:Flash talks by the audience
DTSTART:20190830T084000Z
DTEND:20190830T090500Z
DTSTAMP:20260424T153708Z
UID:session/8qRE9vqEC3tdS7s9it8k99@hasgeek.com
SEQUENCE:0
CREATED:20190516T052556Z
DESCRIPTION:\n
GEO:12.96678255602988;77.63542334083468
LAST-MODIFIED:20190827T061107Z
LOCATION:Main auditorium - Bangalore International Centre (BIC)\nBangalore
 \nIN
ORGANIZER;CN=JSFoo:MAILTO:no-reply@hasgeek.com
BEGIN:VALARM
ACTION:display
DESCRIPTION:Flash talks by the audience in Main auditorium in 5 minutes
TRIGGER:-PT5M
END:VALARM
END:VEVENT
BEGIN:VEVENT
SUMMARY:Using Web components in Vue
DTSTART:20190830T090500Z
DTEND:20190830T093500Z
DTSTAMP:20260424T153708Z
UID:session/UeEU6hJDejVtf4xornDvcv@hasgeek.com
SEQUENCE:2
CATEGORIES:Full talk (40 mins),Intermediate,Demo,Awaiting slides and/or pr
 eview video
CREATED:20190808T100738Z
DESCRIPTION:1. Introduction for webcomponents.\n2. How can vue+webcomponen
 ts can work together.\n3. Usage and usecases of webcomponents in vue web a
 pp.\n4. Demo\n5. How to port existing vue components to web components.\n\
 n### Speaker bio\n\nKaran is a Frontend Engineer. He is currently responsi
 ble for building delightful experiences for Zoomcar customers. He is very 
 excited about the future of the Web and JavaScript.\n
GEO:12.96678255602988;77.63542334083468
LAST-MODIFIED:20230810T072606Z
LOCATION:Main auditorium - Bangalore International Centre (BIC)\nBangalore
 \nIN
ORGANIZER;CN=JSFoo:MAILTO:no-reply@hasgeek.com
URL:https://hasgeek.com/jsfoo/2019-vueday/schedule/using-web-components-in
 -vue-UeEU6hJDejVtf4xornDvcv
BEGIN:VALARM
ACTION:display
DESCRIPTION:Using Web components in Vue in Main auditorium in 5 minutes
TRIGGER:-PT5M
END:VALARM
END:VEVENT
BEGIN:VEVENT
SUMMARY:Webpack + Vue Loader: recipe for super charged Vue
DTSTART:20190830T093500Z
DTEND:20190830T102500Z
DTSTAMP:20260424T153708Z
UID:session/Q4PDzjxxqYizMkBCkUyQLK@hasgeek.com
SEQUENCE:2
CATEGORIES:Full talk (40 mins),Intermediate
CREATED:20190806T051230Z
DESCRIPTION:In this talk\, we'll be taking a closer look at webpack and vu
 e-loader\, 2 tools from the Vue CLI's tooling ecosystem.\n\nSome of the ke
 y points to be covered in this talk:\n\n* The need for Vue CLI\n* Trade-of
 fs\n* Tweaking webpack config\n* Vue Loader\n* Handling assets and pre-pro
 cessors\n* Scoped CSS\n* CSS Modules\n* Functional Components\n* Hot reloa
 d\n* Linting\n* More features\n\n### Speaker bio\n\nI am Hemant Rai\, full
  stack JS developer and front end lead at Cloudnaut Technologies. During m
 y 8 years as a developer I’ve worked across the dev stack and have been 
 focusing on the front-end for more than 4 years. I started as a PHP develo
 per working mostly on the back-end but switched to the JS stack around 4 y
 ears ago. On the front-end\, I started with AngularJS and have been buildi
 ng Vue.js apps for more than 3 years.\n
GEO:12.96678255602988;77.63542334083468
LAST-MODIFIED:20230810T072606Z
LOCATION:Main auditorium - Bangalore International Centre (BIC)\nBangalore
 \nIN
ORGANIZER;CN=JSFoo:MAILTO:no-reply@hasgeek.com
URL:https://hasgeek.com/jsfoo/2019-vueday/schedule/webpack-vue-loader-reci
 pe-for-supercharged-vue-Q4PDzjxxqYizMkBCkUyQLK
BEGIN:VALARM
ACTION:display
DESCRIPTION:Webpack + Vue Loader: recipe for super charged Vue in Main aud
 itorium in 5 minutes
TRIGGER:-PT5M
END:VALARM
END:VEVENT
BEGIN:VEVENT
SUMMARY:Deploying apps with Vue at scale
DTSTART:20190830T094000Z
DTEND:20190830T104000Z
DTSTAMP:20260424T153708Z
UID:session/KmEC2a9X2sCcanbzqiKjMf@hasgeek.com
SEQUENCE:2
CATEGORIES:Birds Of Feather (BOF) session,Intermediate
CREATED:20190806T011115Z
DESCRIPTION:This is a Birds of Feather (BOF) session where we will discuss
  the following topics:\n\n1. Why pick Vue for building enterprise apps wit
 h Vue at scale. \n2. Engineering and architecture approaches to building l
 arge-scale apps with Vue.\n3. Modularization with Vue. \n4. Impact on deve
 loper time and productivity with Vue as framework choice for enterprise sc
 ale apps.\n5. Case studies\; performance gains and enhancements\n\n### Spe
 aker bio\n\nSatyendera Sharma is working as Senior Associate Experience Te
 chnology at PublicisSapient and is a huge fan of application deplpoyment. 
 He has been working on Vue since early 2018 and has delivered large scale 
 projects using VueJS and also implemented adobe launchpad AIR (which devel
 oped Using Vue) for retail specific domain.\n\nSwapnil Agarwal is senior s
 oftware engineer at Meesho. Swapnil is an active member of the Vue communi
 ty and is co-organizer of Vue meetups with Rahul Kadyan.\n
GEO:12.96678255602988;77.63542334083468
LAST-MODIFIED:20230810T072606Z
LOCATION:Birds of Feather (BOF) open space - Bangalore International Centr
 e (BIC)\nBangalore\nIN
ORGANIZER;CN=JSFoo:MAILTO:no-reply@hasgeek.com
URL:https://hasgeek.com/jsfoo/2019-vueday/schedule/deploying-apps-with-vue
 -at-scale-KmEC2a9X2sCcanbzqiKjMf
BEGIN:VALARM
ACTION:display
DESCRIPTION:Deploying apps with Vue at scale in Birds of Feather (BOF) ope
 n space in 5 minutes
TRIGGER:-PT5M
END:VALARM
END:VEVENT
BEGIN:VEVENT
SUMMARY:Evening beverage break
DTSTART:20190830T102500Z
DTEND:20190830T105500Z
DTSTAMP:20260424T153708Z
UID:session/GZqJoqpWzk8nn5s4rB2Qsp@hasgeek.com
SEQUENCE:0
CREATED:20190516T052611Z
DESCRIPTION:\n
LAST-MODIFIED:20190827T061113Z
LOCATION:Bangalore International Centre\, Domlur\, Bangalore
ORGANIZER;CN=JSFoo:MAILTO:no-reply@hasgeek.com
BEGIN:VALARM
ACTION:display
DESCRIPTION:Evening beverage break in 5 minutes
TRIGGER:-PT5M
END:VALARM
END:VEVENT
BEGIN:VEVENT
SUMMARY:Why Flock chose Vue.js to build apps
DTSTART:20190830T105500Z
DTEND:20190830T112000Z
DTSTAMP:20260424T153708Z
UID:session/MTftEc7uSDotHUmS5TbQYZ@hasgeek.com
SEQUENCE:2
CATEGORIES:Crisp talk (20 mins),Beginner,Confirmed,Has potential,Other
CREATED:20190730T192139Z
DESCRIPTION:Problem statement:\n1. Introduction to the Flock App so as to 
 understand why we have something called app-integrations.\n2. We have mult
 iple mini-applications and integrations with Flock. For e.g. Google Calend
 ar integration with Flock is an app\, To-Do is an app and so on. \n3. I wi
 ll be highlighting the benefits of using Vue.js for building multiple apps
  quickly and efficiently.\n4. A case for Vue CLI 3 will be made for buildi
 ng apps and libraries.\n\n### Speaker bio\n\nI am Divyam Rastogi\, a Front
 end Developer at Flock. I have about six years of experience in Frontend d
 evelopment\, and I’ve worked upon a variety of JS frameworks like Backbo
 ne\, AngularJS\, Angular\, React and Vue. I’m a Vue fanboy and don’t s
 hy away from admitting it.\n\nProfile: https://javascriptbit.com/profile/\
 n
GEO:12.96678255602988;77.63542334083468
LAST-MODIFIED:20230810T072606Z
LOCATION:Main auditorium - Bangalore International Centre (BIC)\nBangalore
 \nIN
ORGANIZER;CN=JSFoo:MAILTO:no-reply@hasgeek.com
URL:https://hasgeek.com/jsfoo/2019-vueday/schedule/vue-i-choose-you-reason
 s-why-flock-chose-vue-js-as-its-go-to-framework-to-build-apps-in-the-flock
 -ecosystem-MTftEc7uSDotHUmS5TbQYZ
BEGIN:VALARM
ACTION:display
DESCRIPTION:Why Flock chose Vue.js to build apps in Main auditorium in 5 m
 inutes
TRIGGER:-PT5M
END:VALARM
END:VEVENT
BEGIN:VEVENT
SUMMARY:Future of Vue
DTSTART:20190830T112000Z
DTEND:20190830T120000Z
DTSTAMP:20260424T153708Z
UID:session/RMti1YDN2dFSvGpMokuvc4@hasgeek.com
SEQUENCE:2
CATEGORIES:Full talk (40 mins),Intermediate
CREATED:20190806T003151Z
DESCRIPTION:In this talk\, I will discuss:\n\n - What is in the new versio
 n i.e.\, Vue 3.\n - Backward compatibility.\n - Performance enhancements.\
 n - Reactivity caveats.\n - How to get involved with Vue 3?\n\n### Speaker
  bio\n\nRahul Kadyan is Vue Core Team Member\, and senior software enginee
 r at Myntra. https://www.linkedin.com/in/rahulkadyan/\n
GEO:12.96678255602988;77.63542334083468
LAST-MODIFIED:20230810T072606Z
LOCATION:Main auditorium - Bangalore International Centre (BIC)\nBangalore
 \nIN
ORGANIZER;CN=JSFoo:MAILTO:no-reply@hasgeek.com
URL:https://hasgeek.com/jsfoo/2019-vueday/schedule/future-of-vue-RMti1YDN2
 dFSvGpMokuvc4
BEGIN:VALARM
ACTION:display
DESCRIPTION:Future of Vue in Main auditorium in 5 minutes
TRIGGER:-PT5M
END:VALARM
END:VEVENT
END:VCALENDAR
