BEGIN:VCALENDAR
VERSION:2.0
PRODID:-//HasGeek//NONSGML Funnel//EN
DESCRIPTION:Discover applications of ReasonML\,  React and ReasonReact for
  UI development
X-WR-CALDESC:Discover applications of ReasonML\,  React and ReasonReact fo
 r UI development
NAME:Workshop: Build production-ready user interfaces with ReasonML
X-WR-CALNAME:Workshop: Build production-ready user interfaces with ReasonM
 L
REFRESH-INTERVAL;VALUE=DURATION:PT12H
SUMMARY:Workshop: Build production-ready user interfaces with ReasonML
TIMEZONE-ID:Asia/Kolkata
X-PUBLISHED-TTL:PT12H
X-WR-TIMEZONE:Asia/Kolkata
BEGIN:VEVENT
SUMMARY:Check-in\; tea/coffee
DTSTART:20190929T034000Z
DTEND:20190929T040000Z
DTSTAMP:20260421T110400Z
UID:session/SyTdACBgmwyijBaFWSTrYm@hasgeek.com
SEQUENCE:0
CREATED:20190907T085607Z
DESCRIPTION:\n
LAST-MODIFIED:20190910T104857Z
LOCATION:Bangalore
ORGANIZER;CN=JSFoo:MAILTO:no-reply@hasgeek.com
BEGIN:VALARM
ACTION:display
DESCRIPTION:Check-in\; tea/coffee in 5 minutes
TRIGGER:-PT5M
END:VALARM
END:VEVENT
BEGIN:VEVENT
SUMMARY:Introduction of participants\, instructors and workshop plan
DTSTART:20190929T040000Z
DTEND:20190929T041000Z
DTSTAMP:20260421T110400Z
UID:session/FyLx6xyht64J6Jv9y36raJ@hasgeek.com
SEQUENCE:0
CREATED:20190907T085756Z
DESCRIPTION:\n
GEO:12.926189052383371;77.63314275071026
LAST-MODIFIED:20190910T104859Z
LOCATION:Workshop room - The Terrace @ Hasura\nBangalore\nIN
ORGANIZER;CN=JSFoo:MAILTO:no-reply@hasgeek.com
BEGIN:VALARM
ACTION:display
DESCRIPTION:Introduction of participants\, instructors and workshop plan i
 n Workshop room in 5 minutes
TRIGGER:-PT5M
END:VALARM
END:VEVENT
BEGIN:VEVENT
SUMMARY:Introduction to Reason (static types\, and functional programming)
DTSTART:20190929T041000Z
DTEND:20190929T052500Z
DTSTAMP:20260421T110400Z
UID:session/77688hTbgUNHgQKo5eKiuK@hasgeek.com
SEQUENCE:0
CREATED:20190907T085831Z
DESCRIPTION:\n
GEO:12.926189052383371;77.63314275071026
LAST-MODIFIED:20190925T105823Z
LOCATION:Workshop room - The Terrace @ Hasura\nBangalore\nIN
ORGANIZER;CN=JSFoo:MAILTO:no-reply@hasgeek.com
BEGIN:VALARM
ACTION:display
DESCRIPTION:Introduction to Reason (static types\, and functional programm
 ing) in Workshop room in 5 minutes
TRIGGER:-PT5M
END:VALARM
END:VEVENT
BEGIN:VEVENT
SUMMARY:Morning beverage break
DTSTART:20190929T052500Z
DTEND:20190929T055000Z
DTSTAMP:20260421T110400Z
UID:session/N1FoCSFMQASuDnSG1eovN@hasgeek.com
SEQUENCE:0
CREATED:20190907T085927Z
DESCRIPTION:\n
GEO:12.926189052383371;77.63314275071026
LAST-MODIFIED:20190925T105800Z
LOCATION:Workshop room - The Terrace @ Hasura\nBangalore\nIN
ORGANIZER;CN=JSFoo:MAILTO:no-reply@hasgeek.com
BEGIN:VALARM
ACTION:display
DESCRIPTION:Morning beverage break in Workshop room in 5 minutes
TRIGGER:-PT5M
END:VALARM
END:VEVENT
BEGIN:VEVENT
SUMMARY:Combining React\, ReasonReact\, and design-scales using Tailwind f
 or building user interfaces
DTSTART:20190929T055000Z
DTEND:20190929T073000Z
DTSTAMP:20260421T110400Z
UID:session/N5yB6rbNAonT68LKMFR8U1@hasgeek.com
SEQUENCE:0
CREATED:20190907T090025Z
DESCRIPTION:\n
GEO:12.926189052383371;77.63314275071026
LAST-MODIFIED:20190925T105848Z
LOCATION:Workshop room - The Terrace @ Hasura\nBangalore\nIN
ORGANIZER;CN=JSFoo:MAILTO:no-reply@hasgeek.com
BEGIN:VALARM
ACTION:display
DESCRIPTION:Combining React\, ReasonReact\, and design-scales using Tailwi
 nd for building user interfaces in Workshop room in 5 minutes
TRIGGER:-PT5M
END:VALARM
END:VEVENT
BEGIN:VEVENT
SUMMARY:Lunch break
DTSTART:20190929T073000Z
DTEND:20190929T082000Z
DTSTAMP:20260421T110400Z
UID:session/XbumXdwwUmHUMnSabdZm9X@hasgeek.com
SEQUENCE:0
CREATED:20190907T090113Z
DESCRIPTION:\n
LAST-MODIFIED:20190910T104940Z
LOCATION:Bangalore
ORGANIZER;CN=JSFoo:MAILTO:no-reply@hasgeek.com
BEGIN:VALARM
ACTION:display
DESCRIPTION:Lunch break in 5 minutes
TRIGGER:-PT5M
END:VALARM
END:VEVENT
BEGIN:VEVENT
SUMMARY:Hands-on session: building a UI application from the ground up
DTSTART:20190929T082000Z
DTEND:20190929T095000Z
DTSTAMP:20260421T110400Z
UID:session/AYaoXjMWyS595QnjYnzSHP@hasgeek.com
SEQUENCE:0
CREATED:20190907T090156Z
DESCRIPTION:\n
GEO:12.926189052383371;77.63314275071026
LAST-MODIFIED:20190925T105939Z
LOCATION:Workshop room - The Terrace @ Hasura\nBangalore\nIN
ORGANIZER;CN=JSFoo:MAILTO:no-reply@hasgeek.com
BEGIN:VALARM
ACTION:display
DESCRIPTION:Hands-on session: building a UI application from the ground up
  in Workshop room in 5 minutes
TRIGGER:-PT5M
END:VALARM
END:VEVENT
BEGIN:VEVENT
SUMMARY:Evening beverage break
DTSTART:20190929T095000Z
DTEND:20190929T101000Z
DTSTAMP:20260421T110400Z
UID:session/KPmtzuARaetkBfDuPGAVo8@hasgeek.com
SEQUENCE:0
CREATED:20190907T090221Z
DESCRIPTION:\n
LAST-MODIFIED:20190910T104944Z
LOCATION:Bangalore
ORGANIZER;CN=JSFoo:MAILTO:no-reply@hasgeek.com
BEGIN:VALARM
ACTION:display
DESCRIPTION:Evening beverage break in 5 minutes
TRIGGER:-PT5M
END:VALARM
END:VEVENT
BEGIN:VEVENT
SUMMARY:Hands-on session: building a UI application from the ground up (co
 ntinued)
DTSTART:20190929T101000Z
DTEND:20190929T114000Z
DTSTAMP:20260421T110400Z
UID:session/7agf7E7rNPBLD73XLtPXxD@hasgeek.com
SEQUENCE:0
CREATED:20190907T090530Z
DESCRIPTION:\n
GEO:12.926189052383371;77.63314275071026
LAST-MODIFIED:20190925T105954Z
LOCATION:Workshop room - The Terrace @ Hasura\nBangalore\nIN
ORGANIZER;CN=JSFoo:MAILTO:no-reply@hasgeek.com
BEGIN:VALARM
ACTION:display
DESCRIPTION:Hands-on session: building a UI application from the ground up
  (continued) in Workshop room in 5 minutes
TRIGGER:-PT5M
END:VALARM
END:VEVENT
BEGIN:VEVENT
SUMMARY:Q&A session and discussion of real-life implementation challenges
DTSTART:20190929T114000Z
DTEND:20190929T121000Z
DTSTAMP:20260421T110400Z
UID:session/DsudXWypqerJJbwouEtd3B@hasgeek.com
SEQUENCE:0
CREATED:20190907T090633Z
DESCRIPTION:\n
GEO:12.926189052383371;77.63314275071026
LAST-MODIFIED:20190910T104949Z
LOCATION:Workshop room - The Terrace @ Hasura\nBangalore\nIN
ORGANIZER;CN=JSFoo:MAILTO:no-reply@hasgeek.com
BEGIN:VALARM
ACTION:display
DESCRIPTION:Q&A session and discussion of real-life implementation challen
 ges in Workshop room in 5 minutes
TRIGGER:-PT5M
END:VALARM
END:VEVENT
BEGIN:VEVENT
SUMMARY:Summary and workshop closing
DTSTART:20190929T121000Z
DTEND:20190929T122000Z
DTSTAMP:20260421T110400Z
UID:session/MhxWddzWmt4b6o8aYYo1Yh@hasgeek.com
SEQUENCE:0
CREATED:20190907T090706Z
DESCRIPTION:\n
GEO:12.926189052383371;77.63314275071026
LAST-MODIFIED:20190910T104951Z
LOCATION:Workshop room - The Terrace @ Hasura\nBangalore\nIN
ORGANIZER;CN=JSFoo:MAILTO:no-reply@hasgeek.com
BEGIN:VALARM
ACTION:display
DESCRIPTION:Summary and workshop closing in Workshop room in 5 minutes
TRIGGER:-PT5M
END:VALARM
END:VEVENT
END:VCALENDAR
