BEGIN:VCALENDAR
VERSION:2.0
PRODID:-//HasGeek//NONSGML Funnel//EN
DESCRIPTION:A deep dive workshop to jumpstart your journey with PureScript
X-WR-CALDESC:A deep dive workshop to jumpstart your journey with PureScrip
 t
NAME:PureScript Workshop
X-WR-CALNAME:PureScript Workshop
REFRESH-INTERVAL;VALUE=DURATION:PT12H
SUMMARY:PureScript Workshop
TIMEZONE-ID:Asia/Kolkata
X-PUBLISHED-TTL:PT12H
X-WR-TIMEZONE:Asia/Kolkata
BEGIN:VEVENT
SUMMARY:Check-in and tea/coffee
DTSTART:20191119T034000Z
DTEND:20191119T035500Z
DTSTAMP:20260421T124003Z
UID:session/JX5edhSBLmGyA53T1DP8Wj@hasgeek.com
SEQUENCE:0
CREATED:20190907T064349Z
DESCRIPTION:\n
GEO:12.9400559;77.6229137
LAST-MODIFIED:20190923T121610Z
LOCATION:Workshop space - Juspay Technologies Pvt. Ltd.\nBangalore\nIN
ORGANIZER;CN=JSFoo:MAILTO:no-reply@hasgeek.com
BEGIN:VALARM
ACTION:display
DESCRIPTION:Check-in and tea/coffee in Workshop space in 5 minutes
TRIGGER:-PT5M
END:VALARM
END:VEVENT
BEGIN:VEVENT
SUMMARY:Introduction to the workshop
DTSTART:20191119T035500Z
DTEND:20191119T040500Z
DTSTAMP:20260421T124003Z
UID:session/PcNmemh59cjqQscX2aWQ19@hasgeek.com
SEQUENCE:0
CREATED:20190907T064450Z
DESCRIPTION:\n
GEO:12.9400559;77.6229137
LAST-MODIFIED:20190923T121612Z
LOCATION:Workshop space - Juspay Technologies Pvt. Ltd.\nBangalore\nIN
ORGANIZER;CN=JSFoo:MAILTO:no-reply@hasgeek.com
BEGIN:VALARM
ACTION:display
DESCRIPTION:Introduction to the workshop in Workshop space in 5 minutes
TRIGGER:-PT5M
END:VALARM
END:VEVENT
BEGIN:VEVENT
SUMMARY:Installing the environment for the workshop
DTSTART:20191119T040500Z
DTEND:20191119T042500Z
DTSTAMP:20260421T124003Z
UID:session/385oA7eZAo94dRyceLxbdM@hasgeek.com
SEQUENCE:0
CREATED:20190907T064525Z
DESCRIPTION:\n
GEO:12.9400559;77.6229137
LAST-MODIFIED:20190923T121618Z
LOCATION:Workshop space - Juspay Technologies Pvt. Ltd.\nBangalore\nIN
ORGANIZER;CN=JSFoo:MAILTO:no-reply@hasgeek.com
BEGIN:VALARM
ACTION:display
DESCRIPTION:Installing the environment for the workshop in Workshop space 
 in 5 minutes
TRIGGER:-PT5M
END:VALARM
END:VEVENT
BEGIN:VEVENT
SUMMARY:Getting started with PureScript
DTSTART:20191119T042500Z
DTEND:20191119T052500Z
DTSTAMP:20260421T124003Z
UID:session/227DWbsb5oxC7w2SaArA31@hasgeek.com
SEQUENCE:0
CREATED:20190907T064729Z
DESCRIPTION:\n
GEO:12.9400559;77.6229137
LAST-MODIFIED:20190923T121619Z
LOCATION:Workshop space - Juspay Technologies Pvt. Ltd.\nBangalore\nIN
ORGANIZER;CN=JSFoo:MAILTO:no-reply@hasgeek.com
BEGIN:VALARM
ACTION:display
DESCRIPTION:Getting started with PureScript in Workshop space in 5 minutes
TRIGGER:-PT5M
END:VALARM
END:VEVENT
BEGIN:VEVENT
SUMMARY:Morning beverage break
DTSTART:20191119T052500Z
DTEND:20191119T054500Z
DTSTAMP:20260421T124003Z
UID:session/EoJ7LsaxNtiUbmcQJmz5nf@hasgeek.com
SEQUENCE:0
CREATED:20190907T064748Z
DESCRIPTION:\n
GEO:12.9400559;77.6229137
LAST-MODIFIED:20190923T121626Z
LOCATION:Workshop space - Juspay Technologies Pvt. Ltd.\nBangalore\nIN
ORGANIZER;CN=JSFoo:MAILTO:no-reply@hasgeek.com
BEGIN:VALARM
ACTION:display
DESCRIPTION:Morning beverage break in Workshop space in 5 minutes
TRIGGER:-PT5M
END:VALARM
END:VEVENT
BEGIN:VEVENT
SUMMARY:Introduction to tools for writing applications with PureScript
DTSTART:20191119T054500Z
DTEND:20191119T064500Z
DTSTAMP:20260421T124003Z
UID:session/5mVGyYtqzmurL5A9eBxifJ@hasgeek.com
SEQUENCE:0
CREATED:20190907T065028Z
DESCRIPTION:\n
GEO:12.9400559;77.6229137
LAST-MODIFIED:20190923T121622Z
LOCATION:Workshop space - Juspay Technologies Pvt. Ltd.\nBangalore\nIN
ORGANIZER;CN=JSFoo:MAILTO:no-reply@hasgeek.com
BEGIN:VALARM
ACTION:display
DESCRIPTION:Introduction to tools for writing applications with PureScript
  in Workshop space in 5 minutes
TRIGGER:-PT5M
END:VALARM
END:VEVENT
BEGIN:VEVENT
SUMMARY:Hands-on session: building a front-end application with PureScript
DTSTART:20191119T064500Z
DTEND:20191119T074000Z
DTSTAMP:20260421T124003Z
UID:session/5gPfx9tFUNegZ1mT2CEHWK@hasgeek.com
SEQUENCE:0
CREATED:20190907T065100Z
DESCRIPTION:\n
GEO:12.9400559;77.6229137
LAST-MODIFIED:20190923T121629Z
LOCATION:Workshop space - Juspay Technologies Pvt. Ltd.\nBangalore\nIN
ORGANIZER;CN=JSFoo:MAILTO:no-reply@hasgeek.com
BEGIN:VALARM
ACTION:display
DESCRIPTION:Hands-on session: building a front-end application with PureSc
 ript in Workshop space in 5 minutes
TRIGGER:-PT5M
END:VALARM
END:VEVENT
BEGIN:VEVENT
SUMMARY:Lunch break
DTSTART:20191119T074000Z
DTEND:20191119T082500Z
DTSTAMP:20260421T124003Z
UID:session/MqcaCqxoiSV6GPiuG7Kztc@hasgeek.com
SEQUENCE:0
CREATED:20190907T065133Z
DESCRIPTION:\n
LAST-MODIFIED:20190923T121631Z
LOCATION:Bangalore
ORGANIZER;CN=JSFoo:MAILTO:no-reply@hasgeek.com
BEGIN:VALARM
ACTION:display
DESCRIPTION:Lunch break in 5 minutes
TRIGGER:-PT5M
END:VALARM
END:VEVENT
BEGIN:VEVENT
SUMMARY:Hands-on session continued: building a front-end application with 
 PureScript
DTSTART:20191119T082500Z
DTEND:20191119T095500Z
DTSTAMP:20260421T124003Z
UID:session/44e2YS6FNQMQP9WK7yf5uo@hasgeek.com
SEQUENCE:0
CREATED:20190907T065226Z
DESCRIPTION:\n
GEO:12.9400559;77.6229137
LAST-MODIFIED:20190923T121632Z
LOCATION:Workshop space - Juspay Technologies Pvt. Ltd.\nBangalore\nIN
ORGANIZER;CN=JSFoo:MAILTO:no-reply@hasgeek.com
BEGIN:VALARM
ACTION:display
DESCRIPTION:Hands-on session continued: building a front-end application w
 ith PureScript in Workshop space in 5 minutes
TRIGGER:-PT5M
END:VALARM
END:VEVENT
BEGIN:VEVENT
SUMMARY:Evening beverage break
DTSTART:20191119T095500Z
DTEND:20191119T102500Z
DTSTAMP:20260421T124003Z
UID:session/147mqYB5Xp3AUkSdUaeJxr@hasgeek.com
SEQUENCE:0
CREATED:20190907T065247Z
DESCRIPTION:\n
GEO:12.9400559;77.6229137
LAST-MODIFIED:20190923T121635Z
LOCATION:Workshop space - Juspay Technologies Pvt. Ltd.\nBangalore\nIN
ORGANIZER;CN=JSFoo:MAILTO:no-reply@hasgeek.com
BEGIN:VALARM
ACTION:display
DESCRIPTION:Evening beverage break in Workshop space in 5 minutes
TRIGGER:-PT5M
END:VALARM
END:VEVENT
BEGIN:VEVENT
SUMMARY:Hands-on session: use FFI to interact with existing JavaScript
DTSTART:20191119T102500Z
DTEND:20191119T112500Z
DTSTAMP:20260421T124003Z
UID:session/Gquu2PgzaKm5haw16iDr4z@hasgeek.com
SEQUENCE:0
CREATED:20190907T065312Z
DESCRIPTION:\n
GEO:12.9400559;77.6229137
LAST-MODIFIED:20190923T121636Z
LOCATION:Workshop space - Juspay Technologies Pvt. Ltd.\nBangalore\nIN
ORGANIZER;CN=JSFoo:MAILTO:no-reply@hasgeek.com
BEGIN:VALARM
ACTION:display
DESCRIPTION:Hands-on session: use FFI to interact with existing JavaScript
  in Workshop space in 5 minutes
TRIGGER:-PT5M
END:VALARM
END:VEVENT
BEGIN:VEVENT
SUMMARY:Q&A session: real-world challenges\; using PureScript at your work
 place
DTSTART:20191119T112500Z
DTEND:20191119T115000Z
DTSTAMP:20260421T124003Z
UID:session/AWQEn7fHwmVYw5UBnu4knD@hasgeek.com
SEQUENCE:0
CREATED:20190907T065342Z
DESCRIPTION:\n
GEO:12.9400559;77.6229137
LAST-MODIFIED:20190923T121639Z
LOCATION:Workshop space - Juspay Technologies Pvt. Ltd.\nBangalore\nIN
ORGANIZER;CN=JSFoo:MAILTO:no-reply@hasgeek.com
BEGIN:VALARM
ACTION:display
DESCRIPTION:Q&A session: real-world challenges\; using PureScript at your 
 workplace in Workshop space in 5 minutes
TRIGGER:-PT5M
END:VALARM
END:VEVENT
BEGIN:VEVENT
SUMMARY:Conclusion
DTSTART:20191119T115000Z
DTEND:20191119T120500Z
DTSTAMP:20260421T124003Z
UID:session/5GysGu21YYkTV64eeHrctx@hasgeek.com
SEQUENCE:0
CREATED:20190907T065400Z
DESCRIPTION:\n
GEO:12.9400559;77.6229137
LAST-MODIFIED:20190923T121640Z
LOCATION:Workshop space - Juspay Technologies Pvt. Ltd.\nBangalore\nIN
ORGANIZER;CN=JSFoo:MAILTO:no-reply@hasgeek.com
BEGIN:VALARM
ACTION:display
DESCRIPTION:Conclusion in Workshop space in 5 minutes
TRIGGER:-PT5M
END:VALARM
END:VEVENT
END:VCALENDAR
