BEGIN:VCALENDAR
VERSION:2.0
PRODID:-//HasGeek//NONSGML Funnel//EN
DESCRIPTION:Learn how to deploy your apps with Kubernetes
X-WR-CALDESC:Learn how to deploy your apps with Kubernetes
NAME:Workshop: Kubernetes for developers
X-WR-CALNAME:Workshop: Kubernetes for developers
REFRESH-INTERVAL;VALUE=DURATION:PT12H
SUMMARY:Workshop: Kubernetes for developers
TIMEZONE-ID:Asia/Kolkata
X-PUBLISHED-TTL:PT12H
X-WR-TIMEZONE:Asia/Kolkata
BEGIN:VEVENT
SUMMARY:Check-in and tea/coffee
DTSTART:20191004T033000Z
DTEND:20191004T034500Z
DTSTAMP:20260421T132322Z
UID:session/NWTRH2G6XQRKHr29Dt3wJk@hasgeek.com
SEQUENCE:0
CREATED:20190907T145703Z
DESCRIPTION:\n
GEO:12.926159642189676;77.63310679234566
LAST-MODIFIED:20190910T110907Z
LOCATION:Workshop room - The Terrace @ Hasura\nBangalore\nIN
ORGANIZER;CN=JSFoo:MAILTO:no-reply@hasgeek.com
BEGIN:VALARM
ACTION:display
DESCRIPTION:Check-in and tea/coffee in Workshop room in 5 minutes
TRIGGER:-PT5M
END:VALARM
END:VEVENT
BEGIN:VEVENT
SUMMARY:Introduction to Container Orchestration\, Kubernetes architecture 
 and Kubernetes building blocks (pods\, deployments\, replica-sets and serv
 ices)
DTSTART:20191004T034500Z
DTEND:20191004T041500Z
DTSTAMP:20260421T132322Z
UID:session/V2DDeBAdf6bwXQcsERrFbK@hasgeek.com
SEQUENCE:0
CREATED:20190907T145923Z
DESCRIPTION:\n
GEO:12.926159642189676;77.63310679234566
LAST-MODIFIED:20190910T111153Z
LOCATION:Workshop room - The Terrace @ Hasura\nBangalore\nIN
ORGANIZER;CN=JSFoo:MAILTO:no-reply@hasgeek.com
BEGIN:VALARM
ACTION:display
DESCRIPTION:Introduction to Container Orchestration\, Kubernetes architect
 ure and Kubernetes building blocks (pods\, deployments\, replica-sets and 
 services) in Workshop room in 5 minutes
TRIGGER:-PT5M
END:VALARM
END:VEVENT
BEGIN:VEVENT
SUMMARY:Q&A session
DTSTART:20191004T041500Z
DTEND:20191004T043000Z
DTSTAMP:20260421T132322Z
UID:session/FZcrtRGX4zU18xBiYffagD@hasgeek.com
SEQUENCE:0
CREATED:20190907T150203Z
DESCRIPTION:\n
GEO:12.926159642189676;77.63310679234566
LAST-MODIFIED:20190910T111158Z
LOCATION:Workshop room - The Terrace @ Hasura\nBangalore\nIN
ORGANIZER;CN=JSFoo:MAILTO:no-reply@hasgeek.com
BEGIN:VALARM
ACTION:display
DESCRIPTION:Q&A session in Workshop room in 5 minutes
TRIGGER:-PT5M
END:VALARM
END:VEVENT
BEGIN:VEVENT
SUMMARY:Hands-on session: Deploy a standalone application
DTSTART:20191004T043000Z
DTEND:20191004T052000Z
DTSTAMP:20260421T132322Z
UID:session/VsR28R5rZ3ZpEBFPPtxDTA@hasgeek.com
SEQUENCE:0
CREATED:20190907T150304Z
DESCRIPTION:\n
GEO:12.926159642189676;77.63310679234566
LAST-MODIFIED:20190910T111200Z
LOCATION:Workshop room - The Terrace @ Hasura\nBangalore\nIN
ORGANIZER;CN=JSFoo:MAILTO:no-reply@hasgeek.com
BEGIN:VALARM
ACTION:display
DESCRIPTION:Hands-on session: Deploy a standalone application in Workshop 
 room in 5 minutes
TRIGGER:-PT5M
END:VALARM
END:VEVENT
BEGIN:VEVENT
SUMMARY:Morning beverage break
DTSTART:20191004T052000Z
DTEND:20191004T054000Z
DTSTAMP:20260421T132322Z
UID:session/X4cyEiW1pUuhm22JnwFFwQ@hasgeek.com
SEQUENCE:0
CREATED:20190907T150138Z
DESCRIPTION:\n
GEO:12.926159642189676;77.63310679234566
LAST-MODIFIED:20190910T111202Z
LOCATION:Workshop room - The Terrace @ Hasura\nBangalore\nIN
ORGANIZER;CN=JSFoo:MAILTO:no-reply@hasgeek.com
BEGIN:VALARM
ACTION:display
DESCRIPTION:Morning beverage break in Workshop room in 5 minutes
TRIGGER:-PT5M
END:VALARM
END:VEVENT
BEGIN:VEVENT
SUMMARY:Hands-on session: Deploy a microservices based application\; scale
  the application
DTSTART:20191004T054000Z
DTEND:20191004T061000Z
DTSTAMP:20260421T132322Z
UID:session/EkbF4iv2iZ3GLpHEtgU32T@hasgeek.com
SEQUENCE:0
CREATED:20190907T150343Z
DESCRIPTION:\n
GEO:12.926159642189676;77.63310679234566
LAST-MODIFIED:20190910T111204Z
LOCATION:Workshop room - The Terrace @ Hasura\nBangalore\nIN
ORGANIZER;CN=JSFoo:MAILTO:no-reply@hasgeek.com
BEGIN:VALARM
ACTION:display
DESCRIPTION:Hands-on session: Deploy a microservices based application\; s
 cale the application in Workshop room in 5 minutes
TRIGGER:-PT5M
END:VALARM
END:VEVENT
BEGIN:VEVENT
SUMMARY:Hands-on session: Exposing the service with Ingress\; application 
 design patterns
DTSTART:20191004T061000Z
DTEND:20191004T064000Z
DTSTAMP:20260421T132322Z
UID:session/RvBxXRRjvZo9sgfyfqJD89@hasgeek.com
SEQUENCE:0
CREATED:20190907T150539Z
DESCRIPTION:\n
GEO:12.926159642189676;77.63310679234566
LAST-MODIFIED:20190910T111206Z
LOCATION:Workshop room - The Terrace @ Hasura\nBangalore\nIN
ORGANIZER;CN=JSFoo:MAILTO:no-reply@hasgeek.com
BEGIN:VALARM
ACTION:display
DESCRIPTION:Hands-on session: Exposing the service with Ingress\; applicat
 ion design patterns in Workshop room in 5 minutes
TRIGGER:-PT5M
END:VALARM
END:VEVENT
BEGIN:VEVENT
SUMMARY:Hands-on session: CI/CD with Kubernetes
DTSTART:20191004T064000Z
DTEND:20191004T072000Z
DTSTAMP:20260421T132322Z
UID:session/HgppxjFNLMtEtZoBHuThkq@hasgeek.com
SEQUENCE:0
CREATED:20190907T150703Z
DESCRIPTION:\n
GEO:12.926159642189676;77.63310679234566
LAST-MODIFIED:20190910T111212Z
LOCATION:Workshop room - The Terrace @ Hasura\nBangalore\nIN
ORGANIZER;CN=JSFoo:MAILTO:no-reply@hasgeek.com
BEGIN:VALARM
ACTION:display
DESCRIPTION:Hands-on session: CI/CD with Kubernetes in Workshop room in 5 
 minutes
TRIGGER:-PT5M
END:VALARM
END:VEVENT
BEGIN:VEVENT
SUMMARY:Q&A session and discussion of real-world challenges
DTSTART:20191004T072000Z
DTEND:20191004T073500Z
DTSTAMP:20260421T132322Z
UID:session/PzKf18sB8t4HTDkS6vPPQK@hasgeek.com
SEQUENCE:0
CREATED:20190907T150743Z
DESCRIPTION:\n
GEO:12.926159642189676;77.63310679234566
LAST-MODIFIED:20190910T111217Z
LOCATION:Workshop room - The Terrace @ Hasura\nBangalore\nIN
ORGANIZER;CN=JSFoo:MAILTO:no-reply@hasgeek.com
BEGIN:VALARM
ACTION:display
DESCRIPTION:Q&A session and discussion of real-world challenges in Worksho
 p room in 5 minutes
TRIGGER:-PT5M
END:VALARM
END:VEVENT
BEGIN:VEVENT
SUMMARY:Concluding session: Kubernetes community
DTSTART:20191004T073500Z
DTEND:20191004T075000Z
DTSTAMP:20260421T132322Z
UID:session/NBJbkCJJwuk8tRiWAct7GP@hasgeek.com
SEQUENCE:0
CREATED:20190907T150808Z
DESCRIPTION:\n
GEO:12.926159642189676;77.63310679234566
LAST-MODIFIED:20190910T111221Z
LOCATION:Workshop room - The Terrace @ Hasura\nBangalore\nIN
ORGANIZER;CN=JSFoo:MAILTO:no-reply@hasgeek.com
BEGIN:VALARM
ACTION:display
DESCRIPTION:Concluding session: Kubernetes community in Workshop room in 5
  minutes
TRIGGER:-PT5M
END:VALARM
END:VEVENT
END:VCALENDAR
