BEGIN:VCALENDAR
VERSION:2.0
PRODID:-//HasGeek//NONSGML Funnel//EN
DESCRIPTION:It’s like kung fu with JavaScript and objects! All about bui
 lding full size apps in JavaScript.
X-WR-CALDESC:It’s like kung fu with JavaScript and objects! All about bu
 ilding full size apps in JavaScript.
NAME:JSFoo 2011
X-WR-CALNAME:JSFoo 2011
REFRESH-INTERVAL;VALUE=DURATION:PT12H
SUMMARY:JSFoo 2011
TIMEZONE-ID:Asia/Kolkata
X-PUBLISHED-TTL:PT12H
X-WR-TIMEZONE:Asia/Kolkata
BEGIN:VEVENT
SUMMARY:Introductions
DTSTART:20111001T033000Z
DTEND:20111001T035000Z
DTSTAMP:20260421T123142Z
UID:session/7b1Js8Cpa8ASeSNLtFoMUQ@hasgeek.com
SEQUENCE:0
CREATED:20190709T120842Z
DESCRIPTION:\n
GEO:12.93384145;77.6042030651392
LAST-MODIFIED:20190709T120842Z
LOCATION:Auditorium - Dharmaram Vidya Kshetram\nIN
ORGANIZER;CN=JSFoo:MAILTO:no-reply@hasgeek.com
BEGIN:VALARM
ACTION:display
DESCRIPTION:Introductions in Auditorium in 5 minutes
TRIGGER:-PT5M
END:VALARM
END:VEVENT
END:VCALENDAR
