BEGIN:VCALENDAR
VERSION:2.0
PRODID:-//HasGeek//NONSGML Funnel//EN
DESCRIPTION:August meet-up
X-WR-CALDESC:August meet-up
NAME:Concurrency in Elixir
X-WR-CALNAME:Concurrency in Elixir
REFRESH-INTERVAL;VALUE=DURATION:PT12H
SUMMARY:Concurrency in Elixir
TIMEZONE-ID:Asia/Kolkata
X-PUBLISHED-TTL:PT12H
X-WR-TIMEZONE:Asia/Kolkata
BEGIN:VEVENT
SUMMARY:Concurrency in Elixir
DTSTART:20230825T120000Z
DTEND:20230825T131500Z
DTSTAMP:20260421T175326Z
UID:session/Fzi3dqBzMEuXKSKtBctJGc@hasgeek.com
SEQUENCE:12
CREATED:20230819T073103Z
DESCRIPTION:Anuvrat Parashar will do a walk through of the building blocks
  that help create concurrent applications on the beam virtual machine.\nTh
 e talk will cover:\n\n- BEAM's processes\n- Task\n- Genserver\n- Superviso
 r\n- Registry\n- Application\n\nThis talk is held as part of FP Web's mont
 hly meet-ups.\n\n## About the speaker\nAnuvrat Parashar is the founder of 
 essentia.dev. He also runs the Elixir community in Delhi\, abd is active i
 n Python and open source communities.\n\n### RSVP to participate\nThis tal
 k is free to attend. RSVP to get access to the Zoom link. \n\n#### Support
  FP Web's activities\nYour support helps in running monthly meet-ups and p
 aying honorarium to speakers\, editors and content producers. You can pick
  a membership [here](https://hasgeek.com/jsfoo/fp-webconf-meetups/)\n\n###
 # Contact\nIf you have queries\, [post a comment](https://hasgeek.com/jsfo
 o/08-25/comments)
LAST-MODIFIED:20240324T141946Z
LOCATION:Online - https://hasgeek.com/jsfoo/08-25/
ORGANIZER;CN=JSFoo:MAILTO:no-reply@hasgeek.com
URL:https://hasgeek.com/jsfoo/08-25/
BEGIN:VALARM
ACTION:display
DESCRIPTION:Concurrency in Elixir in 5 minutes
TRIGGER:-PT5M
END:VALARM
END:VEVENT
END:VCALENDAR
