BEGIN:VCALENDAR
VERSION:2.0
PRODID:-//HasGeek//NONSGML Funnel//EN
DESCRIPTION:Dubai Real Estate
X-WR-CALDESC:Dubai Real Estate
NAME:Dubai Real Estate Guide for First-Time Buyers
X-WR-CALNAME:Dubai Real Estate Guide for First-Time Buyers
REFRESH-INTERVAL;VALUE=DURATION:PT12H
SUMMARY:Dubai Real Estate Guide for First-Time Buyers
TIMEZONE-ID:Asia/Kolkata
X-PUBLISHED-TTL:PT12H
X-WR-TIMEZONE:Asia/Kolkata
BEGIN:VEVENT
SUMMARY:Dubai Real Estate Guide for First-Time Buyers
DTSTART:20260409T125000Z
DTEND:20271217T114900Z
DTSTAMP:20260425T203532Z
UID:session/Lr2DWrVG61oVirLZX49E5J@hasgeek.com
SEQUENCE:3
CREATED:20260409T084841Z
DESCRIPTION:![](https://pad.funkwhale.audio/uploads/7edffd69-046c-455c-92d
 e-91080dff5d0b.png)\n\nBuying your first property in Dubai isn’t just a 
 financial decision\, it's a strategic move into one of the world’s most 
 dynamic real estate markets. With its investor-friendly regulations\, high
  rental returns\, and globally attractive lifestyle\, Dubai has positioned
  itself as a hotspot for both end-users and investors.\n\nBut here’s the
  reality: first-time buyers often make costly mistakes not because the mar
 ket is difficult\, but because they enter it without clarity.\n\n### Why D
 ubai Continues to Attract First-Time Buyers\n![](https://pad.funkwhale.aud
 io/uploads/16579292-da85-4f8e-91a5-a43da296f41c.png)\n\nDubai is not just 
 another property market\, it's engineered for growth.\n\nZero Property Tax
  Advantage\n\nUnlike many global cities\, Dubai does not impose annual pro
 perty taxes. This means your returns remain largely untouched\, making it 
 especially attractive for long-term investors.\n\nStrong Rental Yields\n\n
 Average rental returns range between 6% to 8%\, significantly higher than 
 cities like London or New York. For first-time buyers\, this translates in
 to quicker ROI and consistent passive income.\n\nGlobal Demand & Liquidity
 \n\nDubai attracts investors from Europe\, Asia\, and the Middle East\, en
 suring strong resale potential and market liquidity.\n\nResidency Opportun
 ities\n\nProperty investment can unlock long-term residency visas\, adding
  lifestyle value to your investment.\n\n### The First-Time Buyer Mindset: 
 What Most People Get Wrong\n![](https://pad.funkwhale.audio/uploads/cfa2d4
 bb-e931-4d3d-a945-9c8e1581ad70.png)\n\nBefore diving into the process\, le
 t’s address a common issue: buying emotionally instead of strategically.
 \n\nMany first-time buyers:\n\n- Choose properties based on aesthetics\, n
 ot ROI\n- Ignore hidden costs\n- Underestimate the importance of location\
 nA smart buyer focuses on value\, demand\, and long-term growth\, not just
  appearance.\n\n### Step-by-Step: How to Buy Property in Dubai\n![](https:
 //pad.funkwhale.audio/uploads/4155b65a-7140-4a97-a400-156eb5fea2a4.png)\n\
 n1. Define Your Investment Goal\n\n\nAsk yourself:\n- Are you buying for r
 ental income?\n- End-use (living)?\n- Capital appreciation?\n\n\nYour goal
  will shape everything from location to property type.\n\n2. Budget Beyond
  the Property Price\n\n\nThis is where many first-time buyers slip.\n\nRea
 l Cost Breakdown:\n\n- Down Payment: ~20%\n- Dubai Land Department Fee: 4%
 \n- Agency Fee: ~2%\n- Miscellaneous Charges: 1–2%\n\n\nPro Insight: Alw
 ays keep an additional 7–8% buffer over the property price.\n\n3. Choose
  the Right Location (This is Everything)\n\n\nIn Dubai\, location is not j
 ust important\, it's everything.\n\nA good location ensures:\n\n- High ren
 tal demand\n- Better resale value\n- Long-term appreciation\n\n\nInstead o
 f chasing “popular” areas\, focus on high-demand zones with future gro
 wth potential.\n\n4. Off-Plan vs Ready: Make the Right Call\n\n\nThis is o
 ne of the biggest decisions you’ll make.\nOff-Plan Properties\n\n- Lower
  entry price\n- Flexible payment plans\n- Ideal for long-term investors\n\
 n\nReady Properties\n\n\n- Immediate rental income\n- No construction risk
 \n- Better for end-users\n\n\nSmart Strategy: First-time investors often b
 enefit more from off-plan due to lower upfront pressure.\n\n5. Work With t
 he Right Real Estate Partner\n\n\nThis is where your entire experience can
  either become smooth or stressful.\n\nA professional firm like Takween Al
 dar doesn’t just show properties they:\n\n- Analyze market trends\n- Ide
 ntify high-return opportunities\n- Handle legal documentation\n- Negotiate
  better deals\n\n\nFor a first-time buyer\, this guidance is not optional\
 , it's essential.\n\n6. Secure Financing (If Needed)\n\n\nIf you're taking
  a mortgage:\n\n- Get pre-approval first\n- Compare interest rates\n- Unde
 rstand long-term repayment\n\n\nThis step strengthens your buying position
  and avoids delays.\n\n7. Make the Offer & Close the Deal\n\n\nOnce you fi
 nalize a property:\n\n- Sign the Memorandum of Understanding (MOU)\n- Pay 
 ~10% deposit\n- Complete transfer at Dubai Land Department\n\n\nAfter this
 \, you officially become a property owner in Dubai.\n\n### Hidden Costs Fi
 rst-Time Buyers Often Miss\n![](https://pad.funkwhale.audio/uploads/44dbc2
 f6-8f07-4888-8849-dd3b7a37c3fe.png)\n\nLet’s be honest these are the cos
 ts no one talks about upfront:\n\n- Service Charges (annual maintenance)\n
 - Mortgage processing fees\n- Property valuation fees\n- Utility setup cos
 ts\n\nIgnoring these can disrupt your financial planning.\n\n### Why First
 -Time Buyers Are Choosing Takween Aldar\n![](https://pad.funkwhale.audio/u
 ploads/21dd8414-af99-499d-a8d4-69737e99126a.png)\n\nIn a competitive marke
 t like Dubai\, information alone is not enough. You need execution experti
 se.\n\nTakween Aldar stands out by offering:\n\n- Data-driven property rec
 ommendations\n- Access to exclusive projects\n- Transparent\, no-pressure 
 advisory\n- End-to-end support (search → paperwork → handover)\n\nFor 
 first-time buyers\, this reduces risk and increases confidence.\n\n### Com
 mon Mistakes to Avoid\n![](https://pad.funkwhale.audio/uploads/9fdd06ae-0a
 e3-4503-9bbc-c8dab24aee58.png)\n\nLet’s keep it real avoid these at all 
 costs:\n\n- Buying without market research\n- Ignoring total cost of owner
 ship\n- Trusting unverified agents\n- Overstretching your budget\n- Rushin
 g into deals\n\nA single mistake can cost you lakhs sometimes more.\n\n###
  Is 2026 a Good Time to Buy in Dubai?\n![](https://pad.funkwhale.audio/upl
 oads/54094372-1c39-47c1-9168-3016a476dffc.png)\n\nShort answer: Yes and he
 re’s why.\n\nDubai’s market is currently driven by:\n\n- Population gr
 owth\n- Strong foreign investment\n- Mega infrastructure projects\n- Stabl
 e government policies\n\nPrices are still competitive compared to global c
 ities\, but the window won’t stay open forever.\n\n### FAQ’s\n\nQ1. Wh
 at documents are required to buy property in Dubai?\n\nFor most buyers\, t
 he process is simple. You typically need a valid passport\, proof of funds
 \, and in some cases\, visa details. If you’re applying for a mortgage\,
  additional documents like bank statements and income proof will be requir
 ed.\n\nQ2. What is the best area in Dubai for first-time buyers?\n\nThere 
 is no one-size-fits-all answer. The “best” area depends on your goal r
 ental income\, personal use\, or long-term appreciation. A professional ad
 visor like Takween Aldar helps identify locations based on your budget and
  investment strategy rather than trends.\n\nQ3. Can I buy property in Duba
 i without a mortgage?\n\nYes\, many buyers purchase property outright with
  cash. In fact\, cash buyers often have stronger negotiation power and fas
 ter transaction timelines.\n\nQ4. How do I verify if a property is legally
  safe to buy?\n\nYou should always ensure the property is registered with 
 the Dubai Land Department and free from disputes or liabilities. Working w
 ith a trusted real estate partner like Takween Aldar ensures proper due di
 ligence and legal transparency.\n\nQ5. What are service charges and how mu
 ch do they cost?\n\nService charges are annual fees paid for maintenance o
 f the building and common areas. These vary depending on the property type
  and location\, and they should always be factored into your investment ca
 lculation.\n\nQ6. Can I rent out my property immediately after purchase?\n
 \nYes\, once the ownership transfer is complete\, you can rent out your pr
 operty right away (for ready properties). This makes Dubai highly attracti
 ve for investors seeking immediate rental income.\n\n### Final Thoughts\n\
 nBuying your first property in Dubai is not just about owning real estate\
 , it's about entering a high-growth\, opportunity-rich market.\n\nThe diff
 erence between a good investment and a great one comes down to:\n\n- The r
 ight knowledge\n- The right timing\n- And most importantly\, the right gui
 dance\n\nWith expert support from Takween Aldar\, you don’t just buy pro
 perty\, you make a calculated move toward long-term financial growth.\n\nT
 hanks for reading this blog. If you’re looking for [3 bedroom apartments
  for sale in DIFC](https://takweenaldar.ae/en/for-sale/dubai/3-bedroom-apa
 rtments-for-sale-difc)\, Takween Aldar provides access to premium listings
  and expert guidance. Their team ensures a smooth and transparent buying p
 rocess\, helping you find the perfect apartment that matches your lifestyl
 e and investment goals. Explore DIFC’s finest properties with Takween Al
 dar today.
LAST-MODIFIED:20260409T084841Z
LOCATION:Dubai - https://hasgeek.com/jamesonss/dubai-real-estate-guide-for
 -first-time-buyers/
ORGANIZER;CN=jameson:MAILTO:no-reply@hasgeek.com
URL:https://hasgeek.com/jamesonss/dubai-real-estate-guide-for-first-time-b
 uyers/
BEGIN:VALARM
ACTION:display
DESCRIPTION:Dubai Real Estate Guide for First-Time Buyers in 5 minutes
TRIGGER:-PT5M
END:VALARM
END:VEVENT
END:VCALENDAR
