BEGIN:VCALENDAR
VERSION:2.0
PRODID:-//HasGeek//NONSGML Funnel//EN
DESCRIPTION:Deep dive into the core pieces of the Web to help you build be
 tter experiences
X-WR-CALDESC:Deep dive into the core pieces of the Web to help you build b
 etter experiences
NAME:Web Architecture Workshop
X-WR-CALNAME:Web Architecture Workshop
REFRESH-INTERVAL;VALUE=DURATION:PT12H
SUMMARY:Web Architecture Workshop
TIMEZONE-ID:Asia/Kolkata
X-PUBLISHED-TTL:PT12H
X-WR-TIMEZONE:Asia/Kolkata
BEGIN:VEVENT
SUMMARY:Week #1 - Session #1
DTSTART:20211018T160000Z
DTEND:20211018T173000Z
DTSTAMP:20260421T205414Z
UID:session/NA6tmUhLGX7vWNeEaHzKb8@hasgeek.com
SEQUENCE:0
CREATED:20210930T075848Z
LAST-MODIFIED:20210930T084056Z
LOCATION:Online
ORGANIZER;CN="Chirag Jain":MAILTO:no-reply@hasgeek.com
BEGIN:VALARM
ACTION:display
DESCRIPTION:Week #1 - Session #1 in 5 minutes
TRIGGER:-PT5M
END:VALARM
END:VEVENT
BEGIN:VEVENT
SUMMARY:Week #1 - Session #2
DTSTART:20211019T160000Z
DTEND:20211019T173000Z
DTSTAMP:20260421T205414Z
UID:session/836NxufaCbpxEibmcy3dFt@hasgeek.com
SEQUENCE:0
CREATED:20210930T080153Z
LAST-MODIFIED:20210930T084105Z
LOCATION:Online
ORGANIZER;CN="Chirag Jain":MAILTO:no-reply@hasgeek.com
BEGIN:VALARM
ACTION:display
DESCRIPTION:Week #1 - Session #2 in 5 minutes
TRIGGER:-PT5M
END:VALARM
END:VEVENT
BEGIN:VEVENT
SUMMARY:Week #1 - Session #3
DTSTART:20211020T160000Z
DTEND:20211020T173000Z
DTSTAMP:20260421T205414Z
UID:session/VpW5JnioszMzaXB2Ez2XRM@hasgeek.com
SEQUENCE:0
CREATED:20210930T080049Z
LAST-MODIFIED:20210930T084113Z
LOCATION:Online
ORGANIZER;CN="Chirag Jain":MAILTO:no-reply@hasgeek.com
BEGIN:VALARM
ACTION:display
DESCRIPTION:Week #1 - Session #3 in 5 minutes
TRIGGER:-PT5M
END:VALARM
END:VEVENT
BEGIN:VEVENT
SUMMARY:Week #1 - Session #4
DTSTART:20211021T160000Z
DTEND:20211021T173000Z
DTSTAMP:20260421T205414Z
UID:session/ATLpaQrSDJMfmFiCGEjhTJ@hasgeek.com
SEQUENCE:0
CREATED:20210930T080354Z
LAST-MODIFIED:20210930T084130Z
LOCATION:Online
ORGANIZER;CN="Chirag Jain":MAILTO:no-reply@hasgeek.com
BEGIN:VALARM
ACTION:display
DESCRIPTION:Week #1 - Session #4 in 5 minutes
TRIGGER:-PT5M
END:VALARM
END:VEVENT
BEGIN:VEVENT
SUMMARY:Week #1 - Session #5
DTSTART:20211022T160000Z
DTEND:20211022T173000Z
DTSTAMP:20260421T205414Z
UID:session/SuYBv8zMdRJZrsPaBUVHSh@hasgeek.com
SEQUENCE:0
CREATED:20210930T080551Z
LAST-MODIFIED:20210930T084138Z
LOCATION:Online
ORGANIZER;CN="Chirag Jain":MAILTO:no-reply@hasgeek.com
BEGIN:VALARM
ACTION:display
DESCRIPTION:Week #1 - Session #5 in 5 minutes
TRIGGER:-PT5M
END:VALARM
END:VEVENT
BEGIN:VEVENT
SUMMARY:Week #2 - Session #1
DTSTART:20211025T160000Z
DTEND:20211025T173000Z
DTSTAMP:20260421T205414Z
UID:session/UebqPiDGxCQuyvHBqdUhrc@hasgeek.com
SEQUENCE:0
CREATED:20210930T081452Z
LAST-MODIFIED:20210930T081452Z
LOCATION:Online
ORGANIZER;CN="Chirag Jain":MAILTO:no-reply@hasgeek.com
BEGIN:VALARM
ACTION:display
DESCRIPTION:Week #2 - Session #1 in 5 minutes
TRIGGER:-PT5M
END:VALARM
END:VEVENT
BEGIN:VEVENT
SUMMARY:Week #2 - Session #2
DTSTART:20211026T160000Z
DTEND:20211026T173000Z
DTSTAMP:20260421T205414Z
UID:session/JFw2ofjbqj8YZZfJL95iey@hasgeek.com
SEQUENCE:0
CREATED:20210930T081514Z
LAST-MODIFIED:20210930T081514Z
LOCATION:Online
ORGANIZER;CN="Chirag Jain":MAILTO:no-reply@hasgeek.com
BEGIN:VALARM
ACTION:display
DESCRIPTION:Week #2 - Session #2 in 5 minutes
TRIGGER:-PT5M
END:VALARM
END:VEVENT
BEGIN:VEVENT
SUMMARY:Week #2 - Session #3
DTSTART:20211027T160000Z
DTEND:20211027T173000Z
DTSTAMP:20260421T205414Z
UID:session/54tNXLMGeHGzVucqL7vgqS@hasgeek.com
SEQUENCE:0
CREATED:20210930T081529Z
LAST-MODIFIED:20210930T081529Z
LOCATION:Online
ORGANIZER;CN="Chirag Jain":MAILTO:no-reply@hasgeek.com
BEGIN:VALARM
ACTION:display
DESCRIPTION:Week #2 - Session #3 in 5 minutes
TRIGGER:-PT5M
END:VALARM
END:VEVENT
BEGIN:VEVENT
SUMMARY:Week #2 - Session #4
DTSTART:20211028T160000Z
DTEND:20211028T173000Z
DTSTAMP:20260421T205414Z
UID:session/PhEvXunZJYv7LBdj2WN8K8@hasgeek.com
SEQUENCE:0
CREATED:20210930T081658Z
LAST-MODIFIED:20210930T081658Z
LOCATION:Online
ORGANIZER;CN="Chirag Jain":MAILTO:no-reply@hasgeek.com
BEGIN:VALARM
ACTION:display
DESCRIPTION:Week #2 - Session #4 in 5 minutes
TRIGGER:-PT5M
END:VALARM
END:VEVENT
BEGIN:VEVENT
SUMMARY:Week #2 - Session #5
DTSTART:20211029T160000Z
DTEND:20211029T173000Z
DTSTAMP:20260421T205414Z
UID:session/SDUyePFq6hFPjrnfMaG8Fw@hasgeek.com
SEQUENCE:0
CREATED:20210930T081721Z
LAST-MODIFIED:20210930T081721Z
LOCATION:Online
ORGANIZER;CN="Chirag Jain":MAILTO:no-reply@hasgeek.com
BEGIN:VALARM
ACTION:display
DESCRIPTION:Week #2 - Session #5 in 5 minutes
TRIGGER:-PT5M
END:VALARM
END:VEVENT
END:VCALENDAR
