BEGIN:VCALENDAR
VERSION:2.0
PRODID:-//HasGeek//NONSGML Funnel//EN
DESCRIPTION:How useful is biometric surveillance to stop the spread.
X-WR-CALDESC:How useful is biometric surveillance to stop the spread.
NAME:Rise of Covid Surveillance and Facial Recognition
X-WR-CALNAME:Rise of Covid Surveillance and Facial Recognition
REFRESH-INTERVAL;VALUE=DURATION:PT12H
SUMMARY:Rise of Covid Surveillance and Facial Recognition
TIMEZONE-ID:Asia/Kolkata
X-PUBLISHED-TTL:PT12H
X-WR-TIMEZONE:Asia/Kolkata
BEGIN:VEVENT
SUMMARY:Rise of Covid Surveillance and Facial Recognition
DTSTART:20200522T123000Z
DTEND:20200522T140000Z
DTSTAMP:20260421T102647Z
UID:session/5Vq95KDCXYPoAPAznprcYJ@hasgeek.com
SEQUENCE:1
CREATED:20200519T083634Z
DESCRIPTION:The COVID-19 pandemic has resulted in several global systems f
 ailing\, systems originally built to handle emergencies. This emergency is
  being used as a chance to experiment with new forms of technology to unde
 rstand how diseases spread. In this session the speakers are gonna talk ab
 out the rise of facial recognition surveillance technologies in India and 
 the implications for privacy protection\, while also looking at the effect
 iveness of these technologies.\n
LAST-MODIFIED:20230108T103046Z
LOCATION:Online
ORGANIZER;CN="Internet Freedom Foundation":MAILTO:no-reply@hasgeek.com
BEGIN:VALARM
ACTION:display
DESCRIPTION:Rise of Covid Surveillance and Facial Recognition in 5 minutes
TRIGGER:-PT5M
END:VALARM
END:VEVENT
END:VCALENDAR
