BEGIN:VCALENDAR
VERSION:2.0
PRODID:-//HasGeek//NONSGML Funnel//EN
DESCRIPTION:A comprehensive discussion on Covid technology interventions
X-WR-CALDESC:A comprehensive discussion on Covid technology interventions
NAME:Covid Surveillance and Privacy in India
X-WR-CALNAME:Covid Surveillance and Privacy in India
REFRESH-INTERVAL;VALUE=DURATION:PT12H
SUMMARY:Covid Surveillance and Privacy in India
TIMEZONE-ID:Asia/Kolkata
X-PUBLISHED-TTL:PT12H
X-WR-TIMEZONE:Asia/Kolkata
BEGIN:VEVENT
SUMMARY:Covid Surveillance and Privacy in India
DTSTART:20200501T121000Z
DTEND:20200501T140500Z
DTSTAMP:20260421T032733Z
UID:session/HsSxTCGeaANp2SrT78R8uN@hasgeek.com
SEQUENCE:0
CREATED:20200424T040010Z
DESCRIPTION:\n
LAST-MODIFIED:20200424T040010Z
LOCATION:Online
ORGANIZER;CN="Internet Freedom Foundation":MAILTO:no-reply@hasgeek.com
BEGIN:VALARM
ACTION:display
DESCRIPTION:Covid Surveillance and Privacy in India in 5 minutes
TRIGGER:-PT5M
END:VALARM
END:VEVENT
END:VCALENDAR
