BEGIN:VCALENDAR
VERSION:2.0
PRODID:-//HasGeek//NONSGML Funnel//EN
DESCRIPTION:A conversation with Rohit De
X-WR-CALDESC:A conversation with Rohit De
NAME:A People's Digital Republic
X-WR-CALNAME:A People's Digital Republic
REFRESH-INTERVAL;VALUE=DURATION:PT12H
SUMMARY:A People's Digital Republic
TIMEZONE-ID:Asia/Kolkata
X-PUBLISHED-TTL:PT12H
X-WR-TIMEZONE:Asia/Kolkata
BEGIN:VEVENT
SUMMARY:Check-in and onsite registrations
DTSTART:20200111T125500Z
DTEND:20200111T130000Z
DTSTAMP:20260421T032946Z
UID:session/3JjxG5sbuvGpQkcQUVXF8E@hasgeek.com
SEQUENCE:0
CREATED:20200106T073629Z
DESCRIPTION:\n
LAST-MODIFIED:20200106T073629Z
LOCATION:New Delhi
ORGANIZER;CN="Internet Freedom Foundation":MAILTO:no-reply@hasgeek.com
BEGIN:VALARM
ACTION:display
DESCRIPTION:Check-in and onsite registrations in 5 minutes
TRIGGER:-PT5M
END:VALARM
END:VEVENT
BEGIN:VEVENT
SUMMARY:Introduction to the event
DTSTART:20200111T130000Z
DTEND:20200111T131000Z
DTSTAMP:20260421T032946Z
UID:session/FRuB6oL9qPBjumLFWuN6Rp@hasgeek.com
SEQUENCE:0
CREATED:20200106T073836Z
DESCRIPTION:\n
GEO:28.55567970999544;77.24321007728578
LAST-MODIFIED:20200106T093641Z
LOCATION:Community events space - IFF Office\nNew Delhi\nIN
ORGANIZER;CN="Internet Freedom Foundation":MAILTO:no-reply@hasgeek.com
BEGIN:VALARM
ACTION:display
DESCRIPTION:Introduction to the event in Community events space in 5 minut
 es
TRIGGER:-PT5M
END:VALARM
END:VEVENT
BEGIN:VEVENT
SUMMARY:Conversation with Rohit De on safeguarding fundamental rights in t
 he digital age
DTSTART:20200111T131000Z
DTEND:20200111T142000Z
DTSTAMP:20260421T032946Z
UID:session/N6Tn4b9d1GnfdjB8ZmMHCZ@hasgeek.com
SEQUENCE:1
CREATED:20200106T061410Z
DESCRIPTION:A discussion with Rohit De\, exploring how strategic litigatio
 n grounded in public movements can advance fundamental rights in the digit
 al age.\n
GEO:28.55567970999544;77.24321007728578
LAST-MODIFIED:20230108T103046Z
LOCATION:Community events space - IFF Office\nNew Delhi\nIN
ORGANIZER;CN="Internet Freedom Foundation":MAILTO:no-reply@hasgeek.com
BEGIN:VALARM
ACTION:display
DESCRIPTION:Conversation with Rohit De on safeguarding fundamental rights 
 in the digital age in Community events space in 5 minutes
TRIGGER:-PT5M
END:VALARM
END:VEVENT
BEGIN:VEVENT
SUMMARY:Networking session
DTSTART:20200111T142000Z
DTEND:20200111T145000Z
DTSTAMP:20260421T032946Z
UID:session/GE9kWSAbtNwDkp5L9M8u7A@hasgeek.com
SEQUENCE:0
CREATED:20200106T061425Z
DESCRIPTION:\n
GEO:28.55567970999544;77.24321007728578
LAST-MODIFIED:20200106T093602Z
LOCATION:Community events space - IFF Office\nNew Delhi\nIN
ORGANIZER;CN="Internet Freedom Foundation":MAILTO:no-reply@hasgeek.com
BEGIN:VALARM
ACTION:display
DESCRIPTION:Networking session in Community events space in 5 minutes
TRIGGER:-PT5M
END:VALARM
END:VEVENT
END:VCALENDAR
